Workbook
Name \0: '[1]PNT-QUOT-#3'!#REF!
Name \0: '[1]PNT-QUOT-#3'!#REF!
Name \d: '[2]??-BLDG'!#REF!
Name \e: '[2]??-BLDG'!#REF!
Name \f: '[2]??-BLDG'!#REF!
Name \g: '[2]??-BLDG'!#REF!
Name \h: '[2]??-BLDG'!#REF!
Name \i: '[2]??-BLDG'!#REF!
Name \j: '[2]??-BLDG'!#REF!
Name \k: '[2]??-BLDG'!#REF!
Name \l: '[2]??-BLDG'!#REF!
Name \m: '[2]??-BLDG'!#REF!
Name \n: '[2]??-BLDG'!#REF!
Name \o: '[2]??-BLDG'!#REF!
Name \z: '[1]COAT&WRAP-QIOT-#3'!#REF!
Name \z: '[1]COAT&WRAP-QIOT-#3'!#REF!
Name _1: #N/A
Name _1000A01: #N/A
Name _2: #N/A
Name _A65700: '[3]MTO REV.2(ARMOR)'!#REF!
Name _A65700: '[3]MTO REV.2(ARMOR)'!#REF!
Name _A65800: '[3]MTO REV.2(ARMOR)'!#REF!
Name _A65800: '[3]MTO REV.2(ARMOR)'!#REF!
Name _A66000: '[3]MTO REV.2(ARMOR)'!#REF!
Name _A66000: '[3]MTO REV.2(ARMOR)'!#REF!
Name _A67000: '[3]MTO REV.2(ARMOR)'!#REF!
Name _A67000: '[3]MTO REV.2(ARMOR)'!#REF!
Name _A68000: '[3]MTO REV.2(ARMOR)'!#REF!
Name _A68000: '[3]MTO REV.2(ARMOR)'!#REF!
Name _A70000: '[3]MTO REV.2(ARMOR)'!#REF!
Name _A70000: '[3]MTO REV.2(ARMOR)'!#REF!
Name _A75000: '[3]MTO REV.2(ARMOR)'!#REF!
Name _A75000: '[3]MTO REV.2(ARMOR)'!#REF!
Name _A85000: '[3]MTO REV.2(ARMOR)'!#REF!
Name _A85000: '[3]MTO REV.2(ARMOR)'!#REF!
Name _CON1: #REF!
Name _CON2: #REF!
Name _NET2: #REF!
Name A: '[1]PNT-QUOT-#3'!#REF!
Name A: '[1]PNT-QUOT-#3'!#REF!
Name A01_: #N/A
Name A01AC: #N/A
Name A01CAT: #N/A
Name A01CODE: #N/A
Name A01DATA: #N/A
Name A01MI: #N/A
Name A01TO: #N/A
Name A60000.: #REF!
Name AA: #REF!
Name AAA: '[4]MTL$-INTER'!#REF!
Name AAA: '[5]MTL$-INTER'!#REF!
Name All_Item: #REF!
Name ALPIN: #N/A
Name ALPJYOU: #N/A
Name ALPTOI: #N/A
Name B: '[1]PNT-QUOT-#3'!#REF!
Name B: '[1]PNT-QUOT-#3'!#REF!
Name BB: #REF!
Name BOQ: #REF!
Name BVCISUMMARY: #REF!

Sheet TEN HOC PHAN HKII
A1: QUI ĐỊNH SỐ TÍN CHỈ CỦA CÁC HỌC PHẦN TRONG HỌC KỲ I / 2013 - 2014 Bậc đào tạo : Cao đẳng ( Khóa 2013 )
A3: TT | B3: LỚP | C3: STT | D3: SHEET | E3: TÊN HỌC PHẦN | F3: TỔNG LT | G3: LÝ THUYẾT | H3: THỰC HÀNH | I3: GHI CHÚ
A4: 1 | B4: 13 CĐ - ĐT 1, 2 | C4: 1 | D4: LT01 | E4: Anh văn chuyên ngành | F4: =G4+H4 -> 2 | G4: 2
C5: 2 | D5: LT02 | E5: Tư tưởng Hồ Chí Minh | F5: =G5+H5 -> 2 | G5: 2
C6: 3 | D6: LT03 | E6: Phương pháp nghiên cứu khoa học | F6: =G6+H6 -> 2 | G6: 2
C7: 4 | D7: LT04 | E7: Đo lường cảm biến | F7: =G7+H7 -> 2 | G7: 2
C8: 5 | D8: LT05 | E8: Kỹ thuật Audio và Video | F8: =G8+H8 -> 2 | G8: 2
C9: 6 | D9: LT06 | E9: Vi xử lý | F9: =G9+H9 -> 2 | G9: 2
C10: 7 | D10: LT07 | F10: =G10+H10 -> 0
C11: 8 | D11: DO AN | E11: Đồ án Kỹ thuật số và Điện tử công suất | F11: =G11+H11 -> 1 | G11: 1
C12: 9 | D12: TH01 | E12: Thực tập Kỹ thuật số | F12: =G12+H12 -> 2 | H12: 2
C13: 10 | D13: TH02 | E13: Thực tập Điện công nghiệp cơ bản | F13: =G13+H13 -> 2 | H13: 2
C14: 11 | D14: TH03 | F14: =G14+H14 -> 0
A15: 2 | B15: 13 CĐ - Đ 1, 2, 3 | C15: 1 | D15: LT01 | E15: Anh văn chuyên ngành | F15: =G15+H15 -> 2 | G15: 2
C16: 2 | D16: LT02 | E16: Tư tưởng Hồ Chí Minh | F16: =G16+H16 -> 2 | G16: 2
C17: 3 | D17: LT03 | E17: Phương pháp nghiên cứu khoa học | F17: =G17+H17 -> 2 | G17: 2
C18: 4 | D18: LT04 | E18: Đo lường cảm biến | F18: =G18+H18 -> 2 | G18: 2
C19: 5 | D19: LT05 | E19: Kỹ thuật Audio và Video | F19: =G19+H19 -> 2 | G19: 2
C20: 6 | D20: LT06 | E20: Vi xử lý | F20: =G20+H20 -> 2 | G20: 2
C21: 7 | D21: LT07 | F21: =G21+H21 -> 0
C22: 8 | D22: DO AN | E22: Đồ án Mạng cung cấp điện | F22: =G22+H22 -> 1 | G22: 1
C23: 9 | D23: TH01 | E23: Thực tập Kỹ thuật số | F23: =G23+H23 -> 2 | H23: 2
C24: 10 | D24: TH02 | E24: Thực tập Điện công nghiệp cơ bản | F24: =G24+H24 -> 2 | H24: 2
C25: 11 | D25: TH03 | F25: =G25+H25 -> 0
A26: 3 | B26: 13 CĐ-CK 1, 2, 3, 4, 5 | C26: 1 | D26: LT01 | E26: Đường lối CM của Đảng CSVN | F26: =G26+H26 -> 3 | G26: 3
C27: 2 | D27: LT02 | E27: Phương pháp nghiên cứu khoa học | F27: =G27+H27 -> 2 | G27: 2
C28: 3 | D28: LT03 | E28: Nguyên lý - Chi tiết máy | F28: =G28+H28 -> 4 | G28: 4
C29: 4 | D29: LT04 | E29: Công nghệ chế tạo máy 1 | F29: =G29+H29 -> 4 | G29: 4
C30: 5 | D30: LT05 | E30: Kỹ thuật điện - điện tử và trang bị điện trong máy công nghiệp | F30: =G30+H30 -> 3 | G30: 3
C31: 6 | D31: LT06 | F31: =G31+H31 -> 0
C32: 7 | D32: LT07 | F32: =G32+H32 -> 0
C33: 8 | D33: DO AN | F33: =G33+H33 -> 0
C34: 9 | D34: TH01 | E34: Thực tập Tiện 2 | F34: =G34+H34 -> 2 | H34: 2
C35: 10 | D35: TH02 | F35: =G35+H35 -> 0
C36: 11 | D36: TH03 | F36: =G36+H36 -> 0
A37: 4 | B37: 13 CĐ-Ô 1, 2, 3, 4 | C37: 1 | D37: LT01 | E37: Đường lối CM của Đảng CSVN | F37: =G37+H37 -> 3 | G37: 3
C38: 2 | D38: LT02 | E38: Nguyên lý chi tiết máy | F38: =G38+H38 -> 3 | G38: 3
C39: 3 | D39: LT03 | E39: Autocad (2D) | F39: =G39+H39 -> 2 | G39: 2
C40: 4 | D40: LT04 | E40: Phương pháp nghiên cứu khoa học | F40: =G40+H40 -> 2 | G40: 2
C41: 5 | D41: LT05 | E41: Thuỷ lực và máy thuỷ lực | F41: =G41+H41 -> 2 | G41: 2
C42: 6 | D42: LT06 | E42: Hệ thống điện và điện tử ôtô | F42: =G42+H42 -> 3 | G42: 3
C43: 7 | D43: LT07 | F43: =G43+H43 -> 0
C44: 8 | D44: DO AN | F44: =G44+H44 -> 0
C45: 9 | D45: TH01 | E45: Thực tập Động cơ 1 | F45: =G45+H45 -> 2 | H45: 2
C46: 10 | D46: TH02 | F46: =G46+H46 -> 0
C47: 11 | D47: TH03 | F47: =G47+H47 -> 0
A48: 5 | B48: 13 CĐ-NL 1, 2 | C48: 1 | D48: LT01 | E48: Đường lối CM của Đảng CSVN | F48: =G48+H48 -> 3 | G48: 3
C49: 2 | D49: LT02 | E49: Tin học ứng dụng | F49: =G49+H49 -> 2 | G49: 2
C50: 3 | D50: LT03 | E50: Kỹ thuật lạnh | F50: =G50+H50 -> 2 | G50: 2
C51: 4 | D51: LT04 | E51: Điều hoà không khí | F51: =G51+H51 -> 2 | G51: 2
C52: 5 | D52: LT05 | E52: Thiết bị trao đổi nhiệt và mạng nhiệt | F52: =G52+H52 -> 2 | G52: 2
C53: 6 | D53: LT06 | E53: Thiết bị điện | F53: =G53+H53 -> 2 | G53: 2
C54: 7 | D54: LT07 | E54: Vật liệu lạnh | F54: =G54+H54 -> 2 | G54: 2
C55: 8 | D55: DO AN | F55: =G55+H55 -> 0
C56: 9 | D56: TH01 | E56: Thực tập Điện lạnh cơ bản | F56: =G56+H56 -> 3 | H56: 3
C57: 10 | D57: TH02 | F57: =G57+H57 -> 0
C58: 11 | D58: TH03 | F58: =G58+H58 -> 0
A59: 6 | B59: 13 CĐ-M | C59: 1 | D59: LT01 | E59: Đường lối CM của Đảng CSVN | F59: =G59+H59 -> 3 | G59: 3
C60: 2 | D60: LT02 | E60: Phương pháp nghiên cứu khoa học | F60: =G60+H60 -> 2 | G60: 2
C61: 3 | D61: LT03 | E61: Hình họa vẽ kỹ thuật | F61: =G61+H61 -> 2 | G61: 2
C62: 4 | D62: LT04 | E62: Thiết kế trang phục 3 | F62: =G62+H62 -> 2 | G62: 2
C63: 5 | D63: LT05 | E63: Công nghệ may trang phục 3 | F63: =G63+H63 -> 2 | G63: 2
C64: 6 | D64: LT06 | F64: =G64+H64 -> 0
C65: 7 | D65: LT07 | F65: =G65+H65 -> 0
C66: 8 | D66: DO AN | F66: =G66+H66 -> 0
C67: 9 | D67: TH01 | E67: Thực tập Mỹ thuật trang phục | F67: =G67+H67 -> 2 | H67: 2
C68: 10 | D68: TH02 | E68: Thực tập Thiết kế rập | F68: =G68+H68 -> 2 | H68: 2
C69: 11 | D69: TH03 | E69: Thực tập May trang phục 2 | F69: =G69+H69 -> 2 | H69: 2
A70: 7 | B70: 13 CĐ-TP 1, 2 | C70: 1 | D70: LT01 | E70: Đường lối CM của Đảng CSVN | F70: =G70+H70 -> 3 | G70: 3
C71: 2 | D71: LT02 | E71: Lập trình Windows | F71: =G71+H71 -> 4 | G71: 3 | H71: 1
C72: 3 | D72: LT03 | E72: Thiết kế web | F72: =G72+H72 -> 4 | G72: 3 | H72: 1
C73: 4 | D73: LT04 | E73: Mạng máy tính và quản trị mạng | F73: =G73+H73 -> 3 | G73: 2 | H73: 1
C74: 5 | D74: LT05 | E74: Hệ quản trị cơ sở dữ liệu | F74: =G74+H74 -> 4 | G74: 3 | H74: 1
C75: 6 | D75: LT06 | F75: =G75+H75 -> 0
C76: 7 | D76: LT07 | F76: =G76+H76 -> 0
C77: 8 | D77: DO AN | F77: =G77+H77 -> 0
C78: 9 | D78: TH01 | F78: =G78+H78 -> 0
C79: 10 | D79: TH02 | F79: =G79+H79 -> 0
C80: 11 | D80: TH03 | F80: =G80+H80 -> 0
A81: 8 | B81: 13 CĐ-TM 1, 2 | C81: 1 | D81: LT01 | E81: Đường lối CM của Đảng CSVN | F81: =G81+H81 -> 3 | G81: 3
C82: 2 | D82: LT02 | E82: Lập trình Windows | F82: =G82+H82 -> 4 | G82: 3 | H82: 1
C83: 3 | D83: LT03 | E83: Hệ quản trị cơ sở dữ liệu | F83: =G83+H83 -> 4 | G83: 3 | H83: 1
C84: 4 | D84: LT04 | E84: Hệ điều hành Windows và Linux | F84: =G84+H84 -> 2 | G84: 1 | H84: 1
C85: 5 | D85: LT05 | E85: Thiết lập hệ thống mạng | F85: =G85+H85 -> 4 | G85: 3 | H85: 1
C86: 6 | D86: LT06 | F86: =G86+H86 -> 0
C87: 7 | D87: LT07 | F87: =G87+H87 -> 0
C88: 8 | D88: DO AN | F88: =G88+H88 -> 0
C89: 9 | D89: TH01 | F89: =G89+H89 -> 0
C90: 10 | D90: TH03 | F90: =G90+H90 -> 0
C91: 11 | D91: TH02 | F91: =G91+H91 -> 0
B93: Nơi nhận: | E93: HIỆU TRƯỞNG
B94: * BGH để báo cáo;
B95: * Các Khoa để thực hiện;
B96: * P.Đào tạo để theo dõi.

Sheet LOP-MON
A1: STT | B1: Lớp | C1: LT01 | D1: LT02 | E1: LT03 | F1: LT04 | G1: LT05 | H1: LT06 | I1: LT07 | J1: DO AN | K1: TH01 | L1: TH02 | M1: TH03
A2: 1 | B2: 13CĐ-ĐT1 | C2: =VLOOKUP(C$1,'TEN HOC PHAN HKII'!$D$4:$F$14,2,0) -> Anh văn chuyên ngành | D2: =VLOOKUP(D$1,'TEN HOC PHAN HKII'!$D$4:$F$14,2,0) -> Tư tưởng Hồ Chí Minh | E2: =VLOOKUP(E$1,'TEN HOC PHAN HKII'!$D$4:$F$14,2,0) -> Phương pháp nghiên cứu khoa học | F2: =VLOOKUP(F$1,'TEN HOC PHAN HKII'!$D$4:$F$14,2,0) -> Đo lường cảm biến | G2: =VLOOKUP(G$1,'TEN HOC PHAN HKII'!$D$4:$F$14,2,0) -> Kỹ thuật Audio và Video | H2: =VLOOKUP(H$1,'TEN HOC PHAN HKII'!$D$4:$F$14,2,0) -> Vi xử lý | I2: =VLOOKUP(I$1,'TEN HOC PHAN HKII'!$D$4:$F$14,2,0) -> 0 | J2: =VLOOKUP(J$1,'TEN HOC PHAN HKII'!$D$4:$F$14,2,0) -> Đồ án Kỹ thuật số và Điện tử công suất | ... M2: =VLOOKUP(M$1,'TEN HOC PHAN HKII'!$D$4:$F$14,2,0) -> 0
B3: TC13CĐĐT1 | C3: =VLOOKUP(C$1,'TEN HOC PHAN HKII'!$D$4:$F$14,3,0) -> 2 | D3: =VLOOKUP(D$1,'TEN HOC PHAN HKII'!$D$4:$F$14,3,0) -> 2 | E3: =VLOOKUP(E$1,'TEN HOC PHAN HKII'!$D$4:$F$14,3,0) -> 2 | F3: =VLOOKUP(F$1,'TEN HOC PHAN HKII'!$D$4:$F$14,3,0) -> 2 | G3: =VLOOKUP(G$1,'TEN HOC PHAN HKII'!$D$4:$F$14,3,0) -> 2 | H3: =VLOOKUP(H$1,'TEN HOC PHAN HKII'!$D$4:$F$14,3,0) -> 2 | I3: =VLOOKUP(I$1,'TEN HOC PHAN HKII'!$D$4:$F$14,3,0) -> 0 | J3: =VLOOKUP(J$1,'TEN HOC PHAN HKII'!$D$4:$F$14,3,0) -> 1 | ... M3: =VLOOKUP(M$1,'TEN HOC PHAN HKII'!$D$4:$F$14,3,0) -> 0
A4: 2 | B4: 13CĐ-ĐT2 | C4: =VLOOKUP(C$1,'TEN HOC PHAN HKII'!$D$4:$F$14,2,0) -> Anh văn chuyên ngành | D4: =VLOOKUP(D$1,'TEN HOC PHAN HKII'!$D$4:$F$14,2,0) -> Tư tưởng Hồ Chí Minh | E4: =VLOOKUP(E$1,'TEN HOC PHAN HKII'!$D$4:$F$14,2,0) -> Phương pháp nghiên cứu khoa học | F4: =VLOOKUP(F$1,'TEN HOC PHAN HKII'!$D$4:$F$14,2,0) -> Đo lường cảm biến | G4: =VLOOKUP(G$1,'TEN HOC PHAN HKII'!$D$4:$F$14,2,0) -> Kỹ thuật Audio và Video | H4: =VLOOKUP(H$1,'TEN HOC PHAN HKII'!$D$4:$F$14,2,0) -> Vi xử lý | I4: =VLOOKUP(I$1,'TEN HOC PHAN HKII'!$D$4:$F$14,2,0) -> 0 | J4: =VLOOKUP(J$1,'TEN HOC PHAN HKII'!$D$4:$F$14,2,0) -> Đồ án Kỹ thuật số và Điện tử công suất | ... M4: =VLOOKUP(M$1,'TEN HOC PHAN HKII'!$D$4:$F$14,2,0) -> 0
B5: TC13CĐĐT2 | C5: =VLOOKUP(C$1,'TEN HOC PHAN HKII'!$D$4:$F$14,3,0) -> 2 | D5: =VLOOKUP(D$1,'TEN HOC PHAN HKII'!$D$4:$F$14,3,0) -> 2 | E5: =VLOOKUP(E$1,'TEN HOC PHAN HKII'!$D$4:$F$14,3,0) -> 2 | F5: =VLOOKUP(F$1,'TEN HOC PHAN HKII'!$D$4:$F$14,3,0) -> 2 | G5: =VLOOKUP(G$1,'TEN HOC PHAN HKII'!$D$4:$F$14,3,0) -> 2 | H5: =VLOOKUP(H$1,'TEN HOC PHAN HKII'!$D$4:$F$14,3,0) -> 2 | I5: =VLOOKUP(I$1,'TEN HOC PHAN HKII'!$D$4:$F$14,3,0) -> 0 | J5: =VLOOKUP(J$1,'TEN HOC PHAN HKII'!$D$4:$F$14,3,0) -> 1 | ... M5: =VLOOKUP(M$1,'TEN HOC PHAN HKII'!$D$4:$F$14,3,0) -> 0
A6: 1 | B6: 13CĐ-Đ1 | C6: =VLOOKUP(C$1,'TEN HOC PHAN HKII'!$D$15:$F$25,2,0) -> Anh văn chuyên ngành | D6: =VLOOKUP(D$1,'TEN HOC PHAN HKII'!$D$15:$F$25,2,0) -> Tư tưởng Hồ Chí Minh | E6: =VLOOKUP(E$1,'TEN HOC PHAN HKII'!$D$15:$F$25,2,0) -> Phương pháp nghiên cứu khoa học | F6: =VLOOKUP(F$1,'TEN HOC PHAN HKII'!$D$15:$F$25,2,0) -> Đo lường cảm biến | G6: =VLOOKUP(G$1,'TEN HOC PHAN HKII'!$D$15:$F$25,2,0) -> Kỹ thuật Audio và Video | H6: =VLOOKUP(H$1,'TEN HOC PHAN HKII'!$D$15:$F$25,2,0) -> Vi xử lý | I6: =VLOOKUP(I$1,'TEN HOC PHAN HKII'!$D$15:$F$25,2,0) -> 0 | J6: =VLOOKUP(J$1,'TEN HOC PHAN HKII'!$D$15:$F$25,2,0) -> Đồ án Mạng cung cấp điện | ... M6: =VLOOKUP(M$1,'TEN HOC PHAN HKII'!$D$15:$F$25,2,0) -> 0
B7: TC13CĐĐ1 | C7: =VLOOKUP(C$1,'TEN HOC PHAN HKII'!$D$15:$F$25,3,0) -> 2 | D7: =VLOOKUP(D$1,'TEN HOC PHAN HKII'!$D$15:$F$25,3,0) -> 2 | E7: =VLOOKUP(E$1,'TEN HOC PHAN HKII'!$D$15:$F$25,3,0) -> 2 | F7: =VLOOKUP(F$1,'TEN HOC PHAN HKII'!$D$15:$F$25,3,0) -> 2 | G7: =VLOOKUP(G$1,'TEN HOC PHAN HKII'!$D$15:$F$25,3,0) -> 2 | H7: =VLOOKUP(H$1,'TEN HOC PHAN HKII'!$D$15:$F$25,3,0) -> 2 | I7: =VLOOKUP(I$1,'TEN HOC PHAN HKII'!$D$15:$F$25,3,0) -> 0 | J7: =VLOOKUP(J$1,'TEN HOC PHAN HKII'!$D$15:$F$25,3,0) -> 1 | ... M7: =VLOOKUP(M$1,'TEN HOC PHAN HKII'!$D$15:$F$25,3,0) -> 0
A8: 2 | B8: 13CĐ-Đ2 | C8: =VLOOKUP(C$1,'TEN HOC PHAN HKII'!$D$15:$F$25,2,0) -> Anh văn chuyên ngành | D8: =VLOOKUP(D$1,'TEN HOC PHAN HKII'!$D$15:$F$25,2,0) -> Tư tưởng Hồ Chí Minh | E8: =VLOOKUP(E$1,'TEN HOC PHAN HKII'!$D$15:$F$25,2,0) -> Phương pháp nghiên cứu khoa học | F8: =VLOOKUP(F$1,'TEN HOC PHAN HKII'!$D$15:$F$25,2,0) -> Đo lường cảm biến | G8: =VLOOKUP(G$1,'TEN HOC PHAN HKII'!$D$15:$F$25,2,0) -> Kỹ thuật Audio và Video | H8: =VLOOKUP(H$1,'TEN HOC PHAN HKII'!$D$15:$F$25,2,0) -> Vi xử lý | I8: =VLOOKUP(I$1,'TEN HOC PHAN HKII'!$D$15:$F$25,2,0) -> 0 | J8: =VLOOKUP(J$1,'TEN HOC PHAN HKII'!$D$15:$F$25,2,0) -> Đồ án Mạng cung cấp điện | ... M8: =VLOOKUP(M$1,'TEN HOC PHAN HKII'!$D$15:$F$25,2,0) -> 0
B9: TC13CĐĐ2 | C9: =VLOOKUP(C$1,'TEN HOC PHAN HKII'!$D$15:$F$25,3,0) -> 2 | D9: =VLOOKUP(D$1,'TEN HOC PHAN HKII'!$D$15:$F$25,3,0) -> 2 | E9: =VLOOKUP(E$1,'TEN HOC PHAN HKII'!$D$15:$F$25,3,0) -> 2 | F9: =VLOOKUP(F$1,'TEN HOC PHAN HKII'!$D$15:$F$25,3,0) -> 2 | G9: =VLOOKUP(G$1,'TEN HOC PHAN HKII'!$D$15:$F$25,3,0) -> 2 | H9: =VLOOKUP(H$1,'TEN HOC PHAN HKII'!$D$15:$F$25,3,0) -> 2 | I9: =VLOOKUP(I$1,'TEN HOC PHAN HKII'!$D$15:$F$25,3,0) -> 0 | J9: =VLOOKUP(J$1,'TEN HOC PHAN HKII'!$D$15:$F$25,3,0) -> 1 | ... M9: =VLOOKUP(M$1,'TEN HOC PHAN HKII'!$D$15:$F$25,3,0) -> 0
A10: 3 | B10: 13CĐ-Đ3 | C10: =VLOOKUP(C$1,'TEN HOC PHAN HKII'!$D$15:$F$25,2,0) -> Anh văn chuyên ngành | D10: =VLOOKUP(D$1,'TEN HOC PHAN HKII'!$D$15:$F$25,2,0) -> Tư tưởng Hồ Chí Minh | E10: =VLOOKUP(E$1,'TEN HOC PHAN HKII'!$D$15:$F$25,2,0) -> Phương pháp nghiên cứu khoa học | F10: =VLOOKUP(F$1,'TEN HOC PHAN HKII'!$D$15:$F$25,2,0) -> Đo lường cảm biến | G10: =VLOOKUP(G$1,'TEN HOC PHAN HKII'!$D$15:$F$25,2,0) -> Kỹ thuật Audio và Video | H10: =VLOOKUP(H$1,'TEN HOC PHAN HKII'!$D$15:$F$25,2,0) -> Vi xử lý | I10: =VLOOKUP(I$1,'TEN HOC PHAN HKII'!$D$15:$F$25,2,0) -> 0 | J10: =VLOOKUP(J$1,'TEN HOC PHAN HKII'!$D$15:$F$25,2,0) -> Đồ án Mạng cung cấp điện | ... M10: =VLOOKUP(M$1,'TEN HOC PHAN HKII'!$D$15:$F$25,2,0) -> 0
B11: TC13CĐĐ3 | C11: =VLOOKUP(C$1,'TEN HOC PHAN HKII'!$D$15:$F$25,3,0) -> 2 | D11: =VLOOKUP(D$1,'TEN HOC PHAN HKII'!$D$15:$F$25,3,0) -> 2 | E11: =VLOOKUP(E$1,'TEN HOC PHAN HKII'!$D$15:$F$25,3,0) -> 2 | F11: =VLOOKUP(F$1,'TEN HOC PHAN HKII'!$D$15:$F$25,3,0) -> 2 | G11: =VLOOKUP(G$1,'TEN HOC PHAN HKII'!$D$15:$F$25,3,0) -> 2 | H11: =VLOOKUP(H$1,'TEN HOC PHAN HKII'!$D$15:$F$25,3,0) -> 2 | I11: =VLOOKUP(I$1,'TEN HOC PHAN HKII'!$D$15:$F$25,3,0) -> 0 | J11: =VLOOKUP(J$1,'TEN HOC PHAN HKII'!$D$15:$F$25,3,0) -> 1 | ... M11: =VLOOKUP(M$1,'TEN HOC PHAN HKII'!$D$15:$F$25,3,0) -> 0
A12: 1 | B12: 13CĐ-CK1 | C12: =VLOOKUP(C$1,'TEN HOC PHAN HKII'!$D$26:$F$36,2,0) -> Đường lối CM của Đảng CSVN | D12: =VLOOKUP(D$1,'TEN HOC PHAN HKII'!$D$26:$F$36,2,0) -> Phương pháp nghiên cứu khoa học | E12: =VLOOKUP(E$1,'TEN HOC PHAN HKII'!$D$26:$F$36,2,0) -> Nguyên lý - Chi tiết máy | F12: =VLOOKUP(F$1,'TEN HOC PHAN HKII'!$D$26:$F$36,2,0) -> Công nghệ chế tạo máy 1 | G12: =VLOOKUP(G$1,'TEN HOC PHAN HKII'!$D$26:$F$36,2,0) -> Kỹ thuật điện - điện tử và trang bị điện trong máy công nghiệp | H12: =VLOOKUP(H$1,'TEN HOC PHAN HKII'!$D$26:$F$36,2,0) -> 0 | I12: =VLOOKUP(I$1,'TEN HOC PHAN HKII'!$D$26:$F$36,2,0) -> 0 | J12: =VLOOKUP(J$1,'TEN HOC PHAN HKII'!$D$26:$F$36,2,0) -> 0 | ... M12: =VLOOKUP(M$1,'TEN HOC PHAN HKII'!$D$26:$F$36,2,0) -> 0
B13: TC13CĐCK1 | C13: =VLOOKUP(C$1,'TEN HOC PHAN HKII'!$D$26:$F$36,3,0) -> 3 | D13: =VLOOKUP(D$1,'TEN HOC PHAN HKII'!$D$26:$F$36,3,0) -> 2 | E13: =VLOOKUP(E$1,'TEN HOC PHAN HKII'!$D$26:$F$36,3,0) -> 4 | F13: =VLOOKUP(F$1,'TEN HOC PHAN HKII'!$D$26:$F$36,3,0) -> 4 | G13: =VLOOKUP(G$1,'TEN HOC PHAN HKII'!$D$26:$F$36,3,0) -> 3 | H13: =VLOOKUP(H$1,'TEN HOC PHAN HKII'!$D$26:$F$36,3,0) -> 0 | I13: =VLOOKUP(I$1,'TEN HOC PHAN HKII'!$D$26:$F$36,3,0) -> 0 | J13: =VLOOKUP(J$1,'TEN HOC PHAN HKII'!$D$26:$F$36,3,0) -> 0 | ... M13: =VLOOKUP(M$1,'TEN HOC PHAN HKII'!$D$26:$F$36,3,0) -> 0
A14: 2 | B14: 13CĐ-CK2 | C14: =VLOOKUP(C$1,'TEN HOC PHAN HKII'!$D$26:$F$36,2,0) -> Đường lối CM của Đảng CSVN | D14: =VLOOKUP(D$1,'TEN HOC PHAN HKII'!$D$26:$F$36,2,0) -> Phương pháp nghiên cứu khoa học | E14: =VLOOKUP(E$1,'TEN HOC PHAN HKII'!$D$26:$F$36,2,0) -> Nguyên lý - Chi tiết máy | F14: =VLOOKUP(F$1,'TEN HOC PHAN HKII'!$D$26:$F$36,2,0) -> Công nghệ chế tạo máy 1 | G14: =VLOOKUP(G$1,'TEN HOC PHAN HKII'!$D$26:$F$36,2,0) -> Kỹ thuật điện - điện tử và trang bị điện trong máy công nghiệp | H14: =VLOOKUP(H$1,'TEN HOC PHAN HKII'!$D$26:$F$36,2,0) -> 0 | I14: =VLOOKUP(I$1,'TEN HOC PHAN HKII'!$D$26:$F$36,2,0) -> 0 | J14: =VLOOKUP(J$1,'TEN HOC PHAN HKII'!$D$26:$F$36,2,0) -> 0 | ... M14: =VLOOKUP(M$1,'TEN HOC PHAN HKII'!$D$26:$F$36,2,0) -> 0
B15: TC13CĐCK2 | C15: =VLOOKUP(C$1,'TEN HOC PHAN HKII'!$D$26:$F$36,3,0) -> 3 | D15: =VLOOKUP(D$1,'TEN HOC PHAN HKII'!$D$26:$F$36,3,0) -> 2 | E15: =VLOOKUP(E$1,'TEN HOC PHAN HKII'!$D$26:$F$36,3,0) -> 4 | F15: =VLOOKUP(F$1,'TEN HOC PHAN HKII'!$D$26:$F$36,3,0) -> 4 | G15: =VLOOKUP(G$1,'TEN HOC PHAN HKII'!$D$26:$F$36,3,0) -> 3 | H15: =VLOOKUP(H$1,'TEN HOC PHAN HKII'!$D$26:$F$36,3,0) -> 0 | I15: =VLOOKUP(I$1,'TEN HOC PHAN HKII'!$D$26:$F$36,3,0) -> 0 | J15: =VLOOKUP(J$1,'TEN HOC PHAN HKII'!$D$26:$F$36,3,0) -> 0 | ... M15: =VLOOKUP(M$1,'TEN HOC PHAN HKII'!$D$26:$F$36,3,0) -> 0
A16: 3 | B16: 13CĐ-CK3 | C16: =VLOOKUP(C$1,'TEN HOC PHAN HKII'!$D$26:$F$36,2,0) -> Đường lối CM của Đảng CSVN | D16: =VLOOKUP(D$1,'TEN HOC PHAN HKII'!$D$26:$F$36,2,0) -> Phương pháp nghiên cứu khoa học | E16: =VLOOKUP(E$1,'TEN HOC PHAN HKII'!$D$26:$F$36,2,0) -> Nguyên lý - Chi tiết máy | F16: =VLOOKUP(F$1,'TEN HOC PHAN HKII'!$D$26:$F$36,2,0) -> Công nghệ chế tạo máy 1 | G16: =VLOOKUP(G$1,'TEN HOC PHAN HKII'!$D$26:$F$36,2,0) -> Kỹ thuật điện - điện tử và trang bị điện trong máy công nghiệp | H16: =VLOOKUP(H$1,'TEN HOC PHAN HKII'!$D$26:$F$36,2,0) -> 0 | I16: =VLOOKUP(I$1,'TEN HOC PHAN HKII'!$D$26:$F$36,2,0) -> 0 | J16: =VLOOKUP(J$1,'TEN HOC PHAN HKII'!$D$26:$F$36,2,0) -> 0 | ... M16: =VLOOKUP(M$1,'TEN HOC PHAN HKII'!$D$26:$F$36,2,0) -> 0
B17: TC13CĐCK3 | C17: =VLOOKUP(C$1,'TEN HOC PHAN HKII'!$D$26:$F$36,3,0) -> 3 | D17: =VLOOKUP(D$1,'TEN HOC PHAN HKII'!$D$26:$F$36,3,0) -> 2 | E17: =VLOOKUP(E$1,'TEN HOC PHAN HKII'!$D$26:$F$36,3,0) -> 4 | F17: =VLOOKUP(F$1,'TEN HOC PHAN HKII'!$D$26:$F$36,3,0) -> 4 | G17: =VLOOKUP(G$1,'TEN HOC PHAN HKII'!$D$26:$F$36,3,0) -> 3 | H17: =VLOOKUP(H$1,'TEN HOC PHAN HKII'!$D$26:$F$36,3,0) -> 0 | I17: =VLOOKUP(I$1,'TEN HOC PHAN HKII'!$D$26:$F$36,3,0) -> 0 | J17: =VLOOKUP(J$1,'TEN HOC PHAN HKII'!$D$26:$F$36,3,0) -> 0 | ... M17: =VLOOKUP(M$1,'TEN HOC PHAN HKII'!$D$26:$F$36,3,0) -> 0
A18: 4 | B18: 13CĐ-CK4 | C18: =VLOOKUP(C$1,'TEN HOC PHAN HKII'!$D$26:$F$36,2,0) -> Đường lối CM của Đảng CSVN | D18: =VLOOKUP(D$1,'TEN HOC PHAN HKII'!$D$26:$F$36,2,0) -> Phương pháp nghiên cứu khoa học | E18: =VLOOKUP(E$1,'TEN HOC PHAN HKII'!$D$26:$F$36,2,0) -> Nguyên lý - Chi tiết máy | F18: =VLOOKUP(F$1,'TEN HOC PHAN HKII'!$D$26:$F$36,2,0) -> Công nghệ chế tạo máy 1 | G18: =VLOOKUP(G$1,'TEN HOC PHAN HKII'!$D$26:$F$36,2,0) -> Kỹ thuật điện - điện tử và trang bị điện trong máy công nghiệp | H18: =VLOOKUP(H$1,'TEN HOC PHAN HKII'!$D$26:$F$36,2,0) -> 0 | I18: =VLOOKUP(I$1,'TEN HOC PHAN HKII'!$D$26:$F$36,2,0) -> 0 | J18: =VLOOKUP(J$1,'TEN HOC PHAN HKII'!$D$26:$F$36,2,0) -> 0 | ... M18: =VLOOKUP(M$1,'TEN HOC PHAN HKII'!$D$26:$F$36,2,0) -> 0
B19: TC13CĐCK4 | C19: =VLOOKUP(C$1,'TEN HOC PHAN HKII'!$D$26:$F$36,3,0) -> 3 | D19: =VLOOKUP(D$1,'TEN HOC PHAN HKII'!$D$26:$F$36,3,0) -> 2 | E19: =VLOOKUP(E$1,'TEN HOC PHAN HKII'!$D$26:$F$36,3,0) -> 4 | F19: =VLOOKUP(F$1,'TEN HOC PHAN HKII'!$D$26:$F$36,3,0) -> 4 | G19: =VLOOKUP(G$1,'TEN HOC PHAN HKII'!$D$26:$F$36,3,0) -> 3 | H19: =VLOOKUP(H$1,'TEN HOC PHAN HKII'!$D$26:$F$36,3,0) -> 0 | I19: =VLOOKUP(I$1,'TEN HOC PHAN HKII'!$D$26:$F$36,3,0) -> 0 | J19: =VLOOKUP(J$1,'TEN HOC PHAN HKII'!$D$26:$F$36,3,0) -> 0 | ... M19: =VLOOKUP(M$1,'TEN HOC PHAN HKII'!$D$26:$F$36,3,0) -> 0
A20: 5 | B20: 13CĐ-CK5 | C20: =VLOOKUP(C$1,'TEN HOC PHAN HKII'!$D$26:$F$36,2,0) -> Đường lối CM của Đảng CSVN | D20: =VLOOKUP(D$1,'TEN HOC PHAN HKII'!$D$26:$F$36,2,0) -> Phương pháp nghiên cứu khoa học | E20: =VLOOKUP(E$1,'TEN HOC PHAN HKII'!$D$26:$F$36,2,0) -> Nguyên lý - Chi tiết máy | F20: =VLOOKUP(F$1,'TEN HOC PHAN HKII'!$D$26:$F$36,2,0) -> Công nghệ chế tạo máy 1 | G20: =VLOOKUP(G$1,'TEN HOC PHAN HKII'!$D$26:$F$36,2,0) -> Kỹ thuật điện - điện tử và trang bị điện trong máy công nghiệp | H20: =VLOOKUP(H$1,'TEN HOC PHAN HKII'!$D$26:$F$36,2,0) -> 0 | I20: =VLOOKUP(I$1,'TEN HOC PHAN HKII'!$D$26:$F$36,2,0) -> 0 | J20: =VLOOKUP(J$1,'TEN HOC PHAN HKII'!$D$26:$F$36,2,0) -> 0 | ... M20: =VLOOKUP(M$1,'TEN HOC PHAN HKII'!$D$26:$F$36,2,0) -> 0
B21: TC13CĐCK5 | C21: =VLOOKUP(C$1,'TEN HOC PHAN HKII'!$D$26:$F$36,3,0) -> 3 | D21: =VLOOKUP(D$1,'TEN HOC PHAN HKII'!$D$26:$F$36,3,0) -> 2 | E21: =VLOOKUP(E$1,'TEN HOC PHAN HKII'!$D$26:$F$36,3,0) -> 4 | F21: =VLOOKUP(F$1,'TEN HOC PHAN HKII'!$D$26:$F$36,3,0) -> 4 | G21: =VLOOKUP(G$1,'TEN HOC PHAN HKII'!$D$26:$F$36,3,0) -> 3 | H21: =VLOOKUP(H$1,'TEN HOC PHAN HKII'!$D$26:$F$36,3,0) -> 0 | I21: =VLOOKUP(I$1,'TEN HOC PHAN HKII'!$D$26:$F$36,3,0) -> 0 | J21: =VLOOKUP(J$1,'TEN HOC PHAN HKII'!$D$26:$F$36,3,0) -> 0 | ... M21: =VLOOKUP(M$1,'TEN HOC PHAN HKII'!$D$26:$F$36,3,0) -> 0
A22: 1 | B22: 13CĐ-Ô1 | C22: =VLOOKUP(C$1,'TEN HOC PHAN HKII'!$D$37:$F$47,2,0) -> Đường lối CM của Đảng CSVN | D22: =VLOOKUP(D$1,'TEN HOC PHAN HKII'!$D$37:$F$47,2,0) -> Nguyên lý chi tiết máy | E22: =VLOOKUP(E$1,'TEN HOC PHAN HKII'!$D$37:$F$47,2,0) -> Autocad (2D) | F22: =VLOOKUP(F$1,'TEN HOC PHAN HKII'!$D$37:$F$47,2,0) -> Phương pháp nghiên cứu khoa học | G22: =VLOOKUP(G$1,'TEN HOC PHAN HKII'!$D$37:$F$47,2,0) -> Thuỷ lực và máy thuỷ lực | H22: =VLOOKUP(H$1,'TEN HOC PHAN HKII'!$D$37:$F$47,2,0) -> Hệ thống điện và điện tử ôtô | I22: =VLOOKUP(I$1,'TEN HOC PHAN HKII'!$D$37:$F$47,2,0) -> 0 | J22: =VLOOKUP(J$1,'TEN HOC PHAN HKII'!$D$37:$F$47,2,0) -> 0 | ... M22: =VLOOKUP(M$1,'TEN HOC PHAN HKII'!$D$37:$F$47,2,0) -> 0
B23: TC13CĐÔ1 | C23: =VLOOKUP(C$1,'TEN HOC PHAN HKII'!$D$37:$F$47,3,0) -> 3 | D23: =VLOOKUP(D$1,'TEN HOC PHAN HKII'!$D$37:$F$47,3,0) -> 3 | E23: =VLOOKUP(E$1,'TEN HOC PHAN HKII'!$D$37:$F$47,3,0) -> 2 | F23: =VLOOKUP(F$1,'TEN HOC PHAN HKII'!$D$37:$F$47,3,0) -> 2 | G23: =VLOOKUP(G$1,'TEN HOC PHAN HKII'!$D$37:$F$47,3,0) -> 2 | H23: =VLOOKUP(H$1,'TEN HOC PHAN HKII'!$D$37:$F$47,3,0) -> 3 | I23: =VLOOKUP(I$1,'TEN HOC PHAN HKII'!$D$37:$F$47,3,0) -> 0 | J23: =VLOOKUP(J$1,'TEN HOC PHAN HKII'!$D$37:$F$47,3,0) -> 0 | ... M23: =VLOOKUP(M$1,'TEN HOC PHAN HKII'!$D$37:$F$47,3,0) -> 0
A24: 2 | B24: 13CĐ-Ô2 | C24: =VLOOKUP(C$1,'TEN HOC PHAN HKII'!$D$37:$F$47,2,0) -> Đường lối CM của Đảng CSVN | D24: =VLOOKUP(D$1,'TEN HOC PHAN HKII'!$D$37:$F$47,2,0) -> Nguyên lý chi tiết máy | E24: =VLOOKUP(E$1,'TEN HOC PHAN HKII'!$D$37:$F$47,2,0) -> Autocad (2D) | F24: =VLOOKUP(F$1,'TEN HOC PHAN HKII'!$D$37:$F$47,2,0) -> Phương pháp nghiên cứu khoa học | G24: =VLOOKUP(G$1,'TEN HOC PHAN HKII'!$D$37:$F$47,2,0) -> Thuỷ lực và máy thuỷ lực | H24: =VLOOKUP(H$1,'TEN HOC PHAN HKII'!$D$37:$F$47,2,0) -> Hệ thống điện và điện tử ôtô | I24: =VLOOKUP(I$1,'TEN HOC PHAN HKII'!$D$37:$F$47,2,0) -> 0 | J24: =VLOOKUP(J$1,'TEN HOC PHAN HKII'!$D$37:$F$47,2,0) -> 0 | ... M24: =VLOOKUP(M$1,'TEN HOC PHAN HKII'!$D$37:$F$47,2,0) -> 0
B25: TC13CĐÔ2 | C25: =VLOOKUP(C$1,'TEN HOC PHAN HKII'!$D$37:$F$47,3,0) -> 3 | D25: =VLOOKUP(D$1,'TEN HOC PHAN HKII'!$D$37:$F$47,3,0) -> 3 | E25: =VLOOKUP(E$1,'TEN HOC PHAN HKII'!$D$37:$F$47,3,0) -> 2 | F25: =VLOOKUP(F$1,'TEN HOC PHAN HKII'!$D$37:$F$47,3,0) -> 2 | G25: =VLOOKUP(G$1,'TEN HOC PHAN HKII'!$D$37:$F$47,3,0) -> 2 | H25: =VLOOKUP(H$1,'TEN HOC PHAN HKII'!$D$37:$F$47,3,0) -> 3 | I25: =VLOOKUP(I$1,'TEN HOC PHAN HKII'!$D$37:$F$47,3,0) -> 0 | J25: =VLOOKUP(J$1,'TEN HOC PHAN HKII'!$D$37:$F$47,3,0) -> 0 | ... M25: =VLOOKUP(M$1,'TEN HOC PHAN HKII'!$D$37:$F$47,3,0) -> 0
A26: 3 | B26: 13CĐ-Ô3 | C26: =VLOOKUP(C$1,'TEN HOC PHAN HKII'!$D$37:$F$47,2,0) -> Đường lối CM của Đảng CSVN | D26: =VLOOKUP(D$1,'TEN HOC PHAN HKII'!$D$37:$F$47,2,0) -> Nguyên lý chi tiết máy | E26: =VLOOKUP(E$1,'TEN HOC PHAN HKII'!$D$37:$F$47,2,0) -> Autocad (2D) | F26: =VLOOKUP(F$1,'TEN HOC PHAN HKII'!$D$37:$F$47,2,0) -> Phương pháp nghiên cứu khoa học | G26: =VLOOKUP(G$1,'TEN HOC PHAN HKII'!$D$37:$F$47,2,0) -> Thuỷ lực và máy thuỷ lực | H26: =VLOOKUP(H$1,'TEN HOC PHAN HKII'!$D$37:$F$47,2,0) -> Hệ thống điện và điện tử ôtô | I26: =VLOOKUP(I$1,'TEN HOC PHAN HKII'!$D$37:$F$47,2,0) -> 0 | J26: =VLOOKUP(J$1,'TEN HOC PHAN HKII'!$D$37:$F$47,2,0) -> 0 | ... M26: =VLOOKUP(M$1,'TEN HOC PHAN HKII'!$D$37:$F$47,2,0) -> 0
B27: TC13CĐÔ3 | C27: =VLOOKUP(C$1,'TEN HOC PHAN HKII'!$D$37:$F$47,3,0) -> 3 | D27: =VLOOKUP(D$1,'TEN HOC PHAN HKII'!$D$37:$F$47,3,0) -> 3 | E27: =VLOOKUP(E$1,'TEN HOC PHAN HKII'!$D$37:$F$47,3,0) -> 2 | F27: =VLOOKUP(F$1,'TEN HOC PHAN HKII'!$D$37:$F$47,3,0) -> 2 | G27: =VLOOKUP(G$1,'TEN HOC PHAN HKII'!$D$37:$F$47,3,0) -> 2 | H27: =VLOOKUP(H$1,'TEN HOC PHAN HKII'!$D$37:$F$47,3,0) -> 3 | I27: =VLOOKUP(I$1,'TEN HOC PHAN HKII'!$D$37:$F$47,3,0) -> 0 | J27: =VLOOKUP(J$1,'TEN HOC PHAN HKII'!$D$37:$F$47,3,0) -> 0 | ... M27: =VLOOKUP(M$1,'TEN HOC PHAN HKII'!$D$37:$F$47,3,0) -> 0
A28: 4 | B28: 13CĐ-Ô4 | C28: =VLOOKUP(C$1,'TEN HOC PHAN HKII'!$D$37:$F$47,2,0) -> Đường lối CM của Đảng CSVN | D28: =VLOOKUP(D$1,'TEN HOC PHAN HKII'!$D$37:$F$47,2,0) -> Nguyên lý chi tiết máy | E28: =VLOOKUP(E$1,'TEN HOC PHAN HKII'!$D$37:$F$47,2,0) -> Autocad (2D) | F28: =VLOOKUP(F$1,'TEN HOC PHAN HKII'!$D$37:$F$47,2,0) -> Phương pháp nghiên cứu khoa học | G28: =VLOOKUP(G$1,'TEN HOC PHAN HKII'!$D$37:$F$47,2,0) -> Thuỷ lực và máy thuỷ lực | H28: =VLOOKUP(H$1,'TEN HOC PHAN HKII'!$D$37:$F$47,2,0) -> Hệ thống điện và điện tử ôtô | I28: =VLOOKUP(I$1,'TEN HOC PHAN HKII'!$D$37:$F$47,2,0) -> 0 | J28: =VLOOKUP(J$1,'TEN HOC PHAN HKII'!$D$37:$F$47,2,0) -> 0 | ... M28: =VLOOKUP(M$1,'TEN HOC PHAN HKII'!$D$37:$F$47,2,0) -> 0
B29: TC13CĐÔ4 | C29: =VLOOKUP(C$1,'TEN HOC PHAN HKII'!$D$37:$F$47,3,0) -> 3 | D29: =VLOOKUP(D$1,'TEN HOC PHAN HKII'!$D$37:$F$47,3,0) -> 3 | E29: =VLOOKUP(E$1,'TEN HOC PHAN HKII'!$D$37:$F$47,3,0) -> 2 | F29: =VLOOKUP(F$1,'TEN HOC PHAN HKII'!$D$37:$F$47,3,0) -> 2 | G29: =VLOOKUP(G$1,'TEN HOC PHAN HKII'!$D$37:$F$47,3,0) -> 2 | H29: =VLOOKUP(H$1,'TEN HOC PHAN HKII'!$D$37:$F$47,3,0) -> 3 | I29: =VLOOKUP(I$1,'TEN HOC PHAN HKII'!$D$37:$F$47,3,0) -> 0 | J29: =VLOOKUP(J$1,'TEN HOC PHAN HKII'!$D$37:$F$47,3,0) -> 0 | ... M29: =VLOOKUP(M$1,'TEN HOC PHAN HKII'!$D$37:$F$47,3,0) -> 0
A30: 1 | B30: 13CĐ-NL1 | C30: =VLOOKUP(C$1,'TEN HOC PHAN HKII'!$D$48:$F$58,2,0) -> Đường lối CM của Đảng CSVN | D30: =VLOOKUP(D$1,'TEN HOC PHAN HKII'!$D$48:$F$58,2,0) -> Tin học ứng dụng | E30: =VLOOKUP(E$1,'TEN HOC PHAN HKII'!$D$48:$F$58,2,0) -> Kỹ thuật lạnh | F30: =VLOOKUP(F$1,'TEN HOC PHAN HKII'!$D$48:$F$58,2,0) -> Điều hoà không khí | G30: =VLOOKUP(G$1,'TEN HOC PHAN HKII'!$D$48:$F$58,2,0) -> Thiết bị trao đổi nhiệt và mạng nhiệt | H30: =VLOOKUP(H$1,'TEN HOC PHAN HKII'!$D$48:$F$58,2,0) -> Thiết bị điện | I30: =VLOOKUP(I$1,'TEN HOC PHAN HKII'!$D$48:$F$58,2,0) -> Vật liệu lạnh | J30: =VLOOKUP(J$1,'TEN HOC PHAN HKII'!$D$48:$F$58,2,0) -> 0 | ... M30: =VLOOKUP(M$1,'TEN HOC PHAN HKII'!$D$48:$F$58,2,0) -> 0
B31: TC13CĐNL1 | C31: =VLOOKUP(C$1,'TEN HOC PHAN HKII'!$D$48:$F$58,3,0) -> 3 | D31: =VLOOKUP(D$1,'TEN HOC PHAN HKII'!$D$48:$F$58,3,0) -> 2 | E31: =VLOOKUP(E$1,'TEN HOC PHAN HKII'!$D$48:$F$58,3,0) -> 2 | F31: =VLOOKUP(F$1,'TEN HOC PHAN HKII'!$D$48:$F$58,3,0) -> 2 | G31: =VLOOKUP(G$1,'TEN HOC PHAN HKII'!$D$48:$F$58,3,0) -> 2 | H31: =VLOOKUP(H$1,'TEN HOC PHAN HKII'!$D$48:$F$58,3,0) -> 2 | I31: =VLOOKUP(I$1,'TEN HOC PHAN HKII'!$D$48:$F$58,3,0) -> 2 | J31: =VLOOKUP(J$1,'TEN HOC PHAN HKII'!$D$48:$F$58,3,0) -> 0 | ... M31: =VLOOKUP(M$1,'TEN HOC PHAN HKII'!$D$48:$F$58,3,0) -> 0
A32: 2 | B32: 13CĐ-NL2 | C32: =VLOOKUP(C$1,'TEN HOC PHAN HKII'!$D$48:$F$58,2,0) -> Đường lối CM của Đảng CSVN | D32: =VLOOKUP(D$1,'TEN HOC PHAN HKII'!$D$48:$F$58,2,0) -> Tin học ứng dụng | E32: =VLOOKUP(E$1,'TEN HOC PHAN HKII'!$D$48:$F$58,2,0) -> Kỹ thuật lạnh | F32: =VLOOKUP(F$1,'TEN HOC PHAN HKII'!$D$48:$F$58,2,0) -> Điều hoà không khí | G32: =VLOOKUP(G$1,'TEN HOC PHAN HKII'!$D$48:$F$58,2,0) -> Thiết bị trao đổi nhiệt và mạng nhiệt | H32: =VLOOKUP(H$1,'TEN HOC PHAN HKII'!$D$48:$F$58,2,0) -> Thiết bị điện | I32: =VLOOKUP(I$1,'TEN HOC PHAN HKII'!$D$48:$F$58,2,0) -> Vật liệu lạnh | J32: =VLOOKUP(J$1,'TEN HOC PHAN HKII'!$D$48:$F$58,2,0) -> 0 | ... M32: =VLOOKUP(M$1,'TEN HOC PHAN HKII'!$D$48:$F$58,2,0) -> 0
B33: TC13CĐNL2 | C33: =VLOOKUP(C$1,'TEN HOC PHAN HKII'!$D$48:$F$58,3,0) -> 3 | D33: =VLOOKUP(D$1,'TEN HOC PHAN HKII'!$D$48:$F$58,3,0) -> 2 | E33: =VLOOKUP(E$1,'TEN HOC PHAN HKII'!$D$48:$F$58,3,0) -> 2 | F33: =VLOOKUP(F$1,'TEN HOC PHAN HKII'!$D$48:$F$58,3,0) -> 2 | G33: =VLOOKUP(G$1,'TEN HOC PHAN HKII'!$D$48:$F$58,3,0) -> 2 | H33: =VLOOKUP(H$1,'TEN HOC PHAN HKII'!$D$48:$F$58,3,0) -> 2 | I33: =VLOOKUP(I$1,'TEN HOC PHAN HKII'!$D$48:$F$58,3,0) -> 2 | J33: =VLOOKUP(J$1,'TEN HOC PHAN HKII'!$D$48:$F$58,3,0) -> 0 | ... M33: =VLOOKUP(M$1,'TEN HOC PHAN HKII'!$D$48:$F$58,3,0) -> 0
A34: 1 | B34: 13CĐ-M | C34: =VLOOKUP(C$1,'TEN HOC PHAN HKII'!$D$59:$F$69,2,0) -> Đường lối CM của Đảng CSVN | D34: =VLOOKUP(D$1,'TEN HOC PHAN HKII'!$D$59:$F$69,2,0) -> Phương pháp nghiên cứu khoa học | E34: =VLOOKUP(E$1,'TEN HOC PHAN HKII'!$D$59:$F$69,2,0) -> Hình họa vẽ kỹ thuật | F34: =VLOOKUP(F$1,'TEN HOC PHAN HKII'!$D$59:$F$69,2,0) -> Thiết kế trang phục 3 | G34: =VLOOKUP(G$1,'TEN HOC PHAN HKII'!$D$59:$F$69,2,0) -> Công nghệ may trang phục 3 | H34: =VLOOKUP(H$1,'TEN HOC PHAN HKII'!$D$59:$F$69,2,0) -> 0 | I34: =VLOOKUP(I$1,'TEN HOC PHAN HKII'!$D$59:$F$69,2,0) -> 0 | J34: =VLOOKUP(J$1,'TEN HOC PHAN HKII'!$D$59:$F$69,2,0) -> 0 | ... M34: =VLOOKUP(M$1,'TEN HOC PHAN HKII'!$D$59:$F$69,2,0) -> Thực tập May trang phục 2
B35: TC13CĐM | C35: =VLOOKUP(C$1,'TEN HOC PHAN HKII'!$D$59:$F$69,3,0) -> 3 | D35: =VLOOKUP(D$1,'TEN HOC PHAN HKII'!$D$59:$F$69,3,0) -> 2 | E35: =VLOOKUP(E$1,'TEN HOC PHAN HKII'!$D$59:$F$69,3,0) -> 2 | F35: =VLOOKUP(F$1,'TEN HOC PHAN HKII'!$D$59:$F$69,3,0) -> 2 | G35: =VLOOKUP(G$1,'TEN HOC PHAN HKII'!$D$59:$F$69,3,0) -> 2 | H35: =VLOOKUP(H$1,'TEN HOC PHAN HKII'!$D$59:$F$69,3,0) -> 0 | I35: =VLOOKUP(I$1,'TEN HOC PHAN HKII'!$D$59:$F$69,3,0) -> 0 | J35: =VLOOKUP(J$1,'TEN HOC PHAN HKII'!$D$59:$F$69,3,0) -> 0 | ... M35: =VLOOKUP(M$1,'TEN HOC PHAN HKII'!$D$59:$F$69,3,0) -> 2
A36: 1 | B36: 13CĐ-TP1 | C36: =VLOOKUP(C$1,'TEN HOC PHAN HKII'!$D$70:$F$80,2,0) -> Đường lối CM của Đảng CSVN | D36: =VLOOKUP(D$1,'TEN HOC PHAN HKII'!$D$70:$F$80,2,0) -> Lập trình Windows | E36: =VLOOKUP(E$1,'TEN HOC PHAN HKII'!$D$70:$F$80,2,0) -> Thiết kế web | F36: =VLOOKUP(F$1,'TEN HOC PHAN HKII'!$D$70:$F$80,2,0) -> Mạng máy tính và quản trị mạng | G36: =VLOOKUP(G$1,'TEN HOC PHAN HKII'!$D$70:$F$80,2,0) -> Hệ quản trị cơ sở dữ liệu | H36: =VLOOKUP(H$1,'TEN HOC PHAN HKII'!$D$70:$F$80,2,0) -> 0 | I36: =VLOOKUP(I$1,'TEN HOC PHAN HKII'!$D$70:$F$80,2,0) -> 0 | J36: =VLOOKUP(J$1,'TEN HOC PHAN HKII'!$D$70:$F$80,2,0) -> 0 | ... M36: =VLOOKUP(M$1,'TEN HOC PHAN HKII'!$D$70:$F$80,2,0) -> 0
B37: TC13CĐTP1 | C37: =VLOOKUP(C$1,'TEN HOC PHAN HKII'!$D$70:$F$80,3,0) -> 3 | D37: =VLOOKUP(D$1,'TEN HOC PHAN HKII'!$D$70:$F$80,3,0) -> 4 | E37: =VLOOKUP(E$1,'TEN HOC PHAN HKII'!$D$70:$F$80,3,0) -> 4 | F37: =VLOOKUP(F$1,'TEN HOC PHAN HKII'!$D$70:$F$80,3,0) -> 3 | G37: =VLOOKUP(G$1,'TEN HOC PHAN HKII'!$D$70:$F$80,3,0) -> 4 | H37: =VLOOKUP(H$1,'TEN HOC PHAN HKII'!$D$70:$F$80,3,0) -> 0 | I37: =VLOOKUP(I$1,'TEN HOC PHAN HKII'!$D$70:$F$80,3,0) -> 0 | J37: =VLOOKUP(J$1,'TEN HOC PHAN HKII'!$D$70:$F$80,3,0) -> 0 | ... M37: =VLOOKUP(M$1,'TEN HOC PHAN HKII'!$D$70:$F$80,3,0) -> 0
A38: 2 | B38: 13CĐ-TP2 | C38: =VLOOKUP(C$1,'TEN HOC PHAN HKII'!$D$70:$F$80,2,0) -> Đường lối CM của Đảng CSVN | D38: =VLOOKUP(D$1,'TEN HOC PHAN HKII'!$D$70:$F$80,2,0) -> Lập trình Windows | E38: =VLOOKUP(E$1,'TEN HOC PHAN HKII'!$D$70:$F$80,2,0) -> Thiết kế web | F38: =VLOOKUP(F$1,'TEN HOC PHAN HKII'!$D$70:$F$80,2,0) -> Mạng máy tính và quản trị mạng | G38: =VLOOKUP(G$1,'TEN HOC PHAN HKII'!$D$70:$F$80,2,0) -> Hệ quản trị cơ sở dữ liệu | H38: =VLOOKUP(H$1,'TEN HOC PHAN HKII'!$D$70:$F$80,2,0) -> 0 | I38: =VLOOKUP(I$1,'TEN HOC PHAN HKII'!$D$70:$F$80,2,0) -> 0 | J38: =VLOOKUP(J$1,'TEN HOC PHAN HKII'!$D$70:$F$80,2,0) -> 0 | ... M38: =VLOOKUP(M$1,'TEN HOC PHAN HKII'!$D$70:$F$80,2,0) -> 0
B39: TC13CĐTP2 | C39: =VLOOKUP(C$1,'TEN HOC PHAN HKII'!$D$70:$F$80,3,0) -> 3 | D39: =VLOOKUP(D$1,'TEN HOC PHAN HKII'!$D$70:$F$80,3,0) -> 4 | E39: =VLOOKUP(E$1,'TEN HOC PHAN HKII'!$D$70:$F$80,3,0) -> 4 | F39: =VLOOKUP(F$1,'TEN HOC PHAN HKII'!$D$70:$F$80,3,0) -> 3 | G39: =VLOOKUP(G$1,'TEN HOC PHAN HKII'!$D$70:$F$80,3,0) -> 4 | H39: =VLOOKUP(H$1,'TEN HOC PHAN HKII'!$D$70:$F$80,3,0) -> 0 | I39: =VLOOKUP(I$1,'TEN HOC PHAN HKII'!$D$70:$F$80,3,0) -> 0 | J39: =VLOOKUP(J$1,'TEN HOC PHAN HKII'!$D$70:$F$80,3,0) -> 0 | ... M39: =VLOOKUP(M$1,'TEN HOC PHAN HKII'!$D$70:$F$80,3,0) -> 0
A40: 1 | B40: 13CĐ-TM1 | C40: =VLOOKUP(C$1,'TEN HOC PHAN HKII'!$D$81:$F$91,2,0) -> Đường lối CM của Đảng CSVN | D40: =VLOOKUP(D$1,'TEN HOC PHAN HKII'!$D$81:$F$91,2,0) -> Lập trình Windows | E40: =VLOOKUP(E$1,'TEN HOC PHAN HKII'!$D$81:$F$91,2,0) -> Hệ quản trị cơ sở dữ liệu | F40: =VLOOKUP(F$1,'TEN HOC PHAN HKII'!$D$81:$F$91,2,0) -> Hệ điều hành Windows và Linux | G40: =VLOOKUP(G$1,'TEN HOC PHAN HKII'!$D$81:$F$91,2,0) -> Thiết lập hệ thống mạng | H40: =VLOOKUP(H$1,'TEN HOC PHAN HKII'!$D$81:$F$91,2,0) -> 0 | I40: =VLOOKUP(I$1,'TEN HOC PHAN HKII'!$D$81:$F$91,2,0) -> 0 | J40: =VLOOKUP(J$1,'TEN HOC PHAN HKII'!$D$81:$F$91,2,0) -> 0 | ... M40: =VLOOKUP(M$1,'TEN HOC PHAN HKII'!$D$81:$F$91,2,0) -> 0
B41: TC13CĐTM1 | C41: =VLOOKUP(C$1,'TEN HOC PHAN HKII'!$D$81:$F$91,3,0) -> 3 | D41: =VLOOKUP(D$1,'TEN HOC PHAN HKII'!$D$81:$F$91,3,0) -> 4 | E41: =VLOOKUP(E$1,'TEN HOC PHAN HKII'!$D$81:$F$91,3,0) -> 4 | F41: =VLOOKUP(F$1,'TEN HOC PHAN HKII'!$D$81:$F$91,3,0) -> 2 | G41: =VLOOKUP(G$1,'TEN HOC PHAN HKII'!$D$81:$F$91,3,0) -> 4 | H41: =VLOOKUP(H$1,'TEN HOC PHAN HKII'!$D$81:$F$91,3,0) -> 0 | I41: =VLOOKUP(I$1,'TEN HOC PHAN HKII'!$D$81:$F$91,3,0) -> 0 | J41: =VLOOKUP(J$1,'TEN HOC PHAN HKII'!$D$81:$F$91,3,0) -> 0 | ... M41: =VLOOKUP(M$1,'TEN HOC PHAN HKII'!$D$81:$F$91,3,0) -> 0
A42: 2 | B42: 13CĐ-TM2 | C42: =VLOOKUP(C$1,'TEN HOC PHAN HKII'!$D$81:$F$91,2,0) -> Đường lối CM của Đảng CSVN | D42: =VLOOKUP(D$1,'TEN HOC PHAN HKII'!$D$81:$F$91,2,0) -> Lập trình Windows | E42: =VLOOKUP(E$1,'TEN HOC PHAN HKII'!$D$81:$F$91,2,0) -> Hệ quản trị cơ sở dữ liệu | F42: =VLOOKUP(F$1,'TEN HOC PHAN HKII'!$D$81:$F$91,2,0) -> Hệ điều hành Windows và Linux | G42: =VLOOKUP(G$1,'TEN HOC PHAN HKII'!$D$81:$F$91,2,0) -> Thiết lập hệ thống mạng | H42: =VLOOKUP(H$1,'TEN HOC PHAN HKII'!$D$81:$F$91,2,0) -> 0 | I42: =VLOOKUP(I$1,'TEN HOC PHAN HKII'!$D$81:$F$91,2,0) -> 0 | J42: =VLOOKUP(J$1,'TEN HOC PHAN HKII'!$D$81:$F$91,2,0) -> 0 | ... M42: =VLOOKUP(M$1,'TEN HOC PHAN HKII'!$D$81:$F$91,2,0) -> 0
B43: TC13CĐTM2 | C43: =VLOOKUP(C$1,'TEN HOC PHAN HKII'!$D$81:$F$91,3,0) -> 3 | D43: =VLOOKUP(D$1,'TEN HOC PHAN HKII'!$D$81:$F$91,3,0) -> 4 | E43: =VLOOKUP(E$1,'TEN HOC PHAN HKII'!$D$81:$F$91,3,0) -> 4 | F43: =VLOOKUP(F$1,'TEN HOC PHAN HKII'!$D$81:$F$91,3,0) -> 2 | G43: =VLOOKUP(G$1,'TEN HOC PHAN HKII'!$D$81:$F$91,3,0) -> 4 | H43: =VLOOKUP(H$1,'TEN HOC PHAN HKII'!$D$81:$F$91,3,0) -> 0 | I43: =VLOOKUP(I$1,'TEN HOC PHAN HKII'!$D$81:$F$91,3,0) -> 0 | J43: =VLOOKUP(J$1,'TEN HOC PHAN HKII'!$D$81:$F$91,3,0) -> 0 | ... M43: =VLOOKUP(M$1,'TEN HOC PHAN HKII'!$D$81:$F$91,3,0) -> 0

Sheet Hướng dẫn
A1: Quy trình nhập điểm tổng kết Học kỳ CĐKT theo tín chỉ
A2: File này được sử dụng khi thứ tự trong danh sách của GVBM trùng với thứ tự danh sách trong bảng tính HKI
A3: STT | B3: Bảng tính thao tác | C3: Công việc thực hiện | D3: Thực hiện
A4: 1 | B4: Vào bảng tính DS LOP HKII | C4: Kích vào nút mũi tên của cột Lớp, chọn tên lớp, sau đó chọn toàn bộ MSSV (mã số sinh viên) của lớp, nhấn phím Ctrl-C để chép mã số SV. | D4: CVHT
A5: 2 | B5: Vào bảng tính HKII | C5: Kích vào ô đầu tiên của mã số sinh viên (ô B11), nhấn Ctrl-V.
C6: Ghi chú: Danh sách SV, tên các HP và số đơn vị học trình sẽ được truyền tự động vào cho các bảng tính của HKI và bảng điểm từng HP
A7: 3 | B7: Vào bảng tính TEN HOC PHAN HKII | C7: Tên học phần và số Đơn vị học trình đã được đưa vào các bảng tính tương ứng theo lớp, Quý Thầy Cô vào bảng tính này để biết học phần muốn nhập điểm nằm ở bảng tính nào. | D7: GVBM học phần "ABC" hoặc CVHT
A8: 4 | B8: Vào bảng tính "LT01, …, TH03" tương ứng với học phần "LT01, …, TH03" quy định trong bước 3 | C8: Coppy các điểm thành phần (từ cột E đến cột M) từ bảng điểm học phần (được gửi kèm) vào từng cột tương ứng trong các sheet LT01, … , TH01, … trong bảng tính này
C9: Ghi chú: Thứ tự danh sách trong các bảng tính đã thống nhất, do đó bắt buộc đảm bảo độ chính xác giữa các điểm thành phần với MSSV tương ứng. Nên kiểm tra lại sự thống nhất danh sách trong sổ tay giảng viên và danh sách trong file để tránh nhập điểm sai.
C10: Lưu ý: Đối với sinh viên bảo lưu, chỉ cần nhập điểm vào cột Điểm bảo lưu, các cột còn lại không nhập.
C11: Ghi chú: Nếu CVHT đã có file tổng kết học phần đúng yêu cầu, vẫn có thể tự thực hiện bước 4 này bằng cách chép các cột điểm từ file của GVBM vào các bảng tính tương ứng.
A12: 5 | B12: Lặp lại bước 4 cho các học phần còn lại
A13: CHÚ Ý: Các bảng tính LT03 đến LT06 là các bảng tính dành riêng cho các học phần tự chọn (vùng tô nền màu vàng trong bảng tính TEN HOC PHAN HKII), xin quý thầy cô chép từ mã số sinh viên đến thi chính từ các file học phần tự chọn theo tên học phần và lớp, rồi dán vào từ ô B11 của từng bảng tương ứng. Bảng tổng kết HKII sẽ tự lọc danh sách sinh viên theo mã số sinh viên.
A14: 6 | B14: Vào bảng tính HKII | C14: Nhập hệ chuẩn vào cột E, số ngày nghỉ có phép vào cột F, số ngày không phép vào cột G. | D14: CVHT
C15: Cột GHI CHÚ chỉ điền vào các thông tin về hình thức kỷ luật (nếu có)
C16: Ghi chú: Trước khi thông báo kết quả học tập cho SV, xin quý Thầy Cô gởi file thông qua địa chỉ email của phòng (kqht.lytutrong@gmail.com) để kiểm tra, đối chiếu với các bảng điểm tổng kết học phần nhằm hạn chế sai sót. Nếu bảng tính có sai sót, phòng sẽ báo bằng email cho quý Thầy Cô.
C17: Nhập điểm kết quả rèn luyện vào cột BB
C18: Khi muốn in bảng tổng kết, nên che giấu (ẩn) các vị trí cột (hàng) không có điểm bằng cách chọn các cột (hàng) đó, rồi vào FORMAT → COLUMN (ROW) → HIDE (hoặc chuột phải HIDE).
A19: 7 | B19: Mở bảng tổng kết học kỳ I của lớp (nằm trong tập tin nén HKI 13CĐ.rar gởi kèm theo) | C19: Chọn bảng tính HKI Nhấn Ctrl+A, Ctrl+C
A20: 8 | B20: Trở lại bảng tổng kết mới này. | C20: Chọn bảng tính HKI Kích vào ô A1 Nhấn Ctrl+V
A21: Để thống nhất trong việc quản lý điểm số của HSSV trong toàn trường, sau khi hoàn thành bảng tính, xin Quý Thầy Cô lưu lại file theo định dạng: tenlop_hocky_nămhọc (ví dụ 13CD-NL1_HKII_14-15) và gởi bằng email cho Khoa, Phòng TS-Đào tạo-GTVL : kqht.lytutrong@gmail.com.
A22: Các bảng tính: TEN HOC PHAN HKII; LOP-MON; DS LOP HKII là các bảng tính nền cơ sở, xin quý Thầy Cô đừng chỉnh sửa, để tránh sai sót, nhầm lẫn trong quá trình nhập điểm tổng kết.
A23: Nếu Quý Thầy Cô có vướng mắc gì, xin gởi email qua địa chỉ: kqht.lytutrong@gmail.com hoặc liên hệ trực tiếp với Phòng TS-Đào tạo-GTVL

Sheet DS LOP HKII
A1: STT | B1: MSSV | C1: Họ | D1: Tên | E1: Ngày sinh | F1: Lớp | G1: Phái | H1: Hệ | I1: SS T.5/2015
A2: 1 | B2: 13D3010005 | C2: Nguyễn Thành | D2: Chung | E2: 10.02.94 | F2: 13CĐ-ĐT1 | G2: 0 | I2: B
A3: 2 | B3: 13D3010008 | C3: Nguyễn Quốc | D3: Cường | E3: 09.04.95 | F3: 13CĐ-ĐT1 | G3: 0 | I3: A | J3: ĐT3
A4: 3 | B4: 13D3010010 | C4: Bùi Thanh | D4: Diễn | E4: 12.05.95 | F4: 13CĐ-ĐT1 | G4: 0 | I4: B | J4: VPNQ31/12/14CC
A5: 4 | B5: 13D3010012 | C5: Phạm Văn | D5: Dũng | E5: 03.08.94 | F5: 13CĐ-ĐT1 | G5: 0 | I5: B | J5: ĐT3
A6: 5 | B6: 13D3010014 | C6: Nguyễn Khánh | D6: Duy | E6: 26.09.95 | F6: 13CĐ-ĐT1 | G6: 0 | I6: B
A7: 6 | B7: 13D3010018 | C7: Nguyễn Hải | D7: Đăng | E7: 19.05.95 | F7: 13CĐ-ĐT1 | G7: 0 | I7: B
A8: 7 | B8: 13D3010076 | C8: Lữ Đình | D8: Đạt | E8: 01.05.95 | F8: 13CĐ-ĐT1 | G8: 0 | I8: B | J8: ĐT3
A9: 8 | B9: 13D3010022 | C9: Nguyễn Trung | D9: Đức | E9: 15.02.95 | F9: 13CĐ-ĐT1 | G9: 0 | I9: A
A10: 9 | B10: 13D3010024 | C10: Hồ Thanh | D10: Hải | E10: 03.12.95 | F10: 13CĐ-ĐT1 | G10: 0 | I10: A | J10: ĐT3
A11: 10 | B11: 13D3010026 | C11: Phạm Giang | D11: Hải | E11: 20.05.95 | F11: 13CĐ-ĐT1 | G11: 0 | I11: B | J11: CL.T.Minh
A12: 11 | B12: 13D3010027 | C12: Trần Văn | D12: Hạnh | E12: 14.02.95 | F12: 13CĐ-ĐT1 | G12: 0 | I12: B | J12: tự ý nghỉ 19/01/2015_Kox
A13: 12 | B13: 13D3010029 | C13: Nguyễn Tấn Anh | D13: Hào | E13: 05.04.95 | F13: 13CĐ-ĐT1 | G13: 0 | I13: A | J13: ĐT3
A14: 13 | B14: 13D3010039 | C14: Nguyễn Văn | D14: Hoanh | E14: 14.10.95 | F14: 13CĐ-ĐT1 | G14: 0 | I14: B
A15: 14 | B15: 13D3010041 | C15: Nguyễn Minh | D15: Hùng | E15: 08.05.94 | F15: 13CĐ-ĐT1 | G15: 0 | I15: B | J15: ĐT3
A16: 15 | B16: 13D3010045 | C16: Lê Thành | D16: Huy | E16: 25.04.95 | F16: 13CĐ-ĐT1 | G16: 0 | I16: B
A17: 16 | B17: 13D3010047 | C17: Nguyễn Thái | D17: Huy | E17: 14.04.95 | F17: 13CĐ-ĐT1 | G17: 0 | I17: B | J17: ĐT3-con TB 4/4
A18: 17 | B18: 13D3010051 | C18: Huỳnh Duy | D18: Khánh | E18: 09.10.95 | F18: 13CĐ-ĐT1 | G18: 0 | I18: B
A19: 18 | B19: 13D3010053 | C19: Đỗ Đăng | D19: Khoa | E19: 01.01.94 | F19: 13CĐ-ĐT1 | G19: 0 | I19: B | J19: ĐT3
A20: 19 | B20: 13D3010056 | C20: Phan Trung | D20: Kiên | E20: 13.03.95 | F20: 13CĐ-ĐT1 | G20: 0 | I20: B | J20: ĐT3
A21: 20 | B21: 13D3010057 | C21: Trần Văn | D21: Kiệt | E21: 10.05.95 | F21: 13CĐ-ĐT1 | G21: 0 | I21: B
A22: 21 | B22: 13D3010063 | C22: Trần Văn | D22: Linh | E22: 08.10.94 | F22: 13CĐ-ĐT1 | G22: 0 | I22: B
A23: 22 | B23: 13D3010069 | C23: Nguyễn Công | D23: Minh | E23: 10.01.95 | F23: 13CĐ-ĐT1 | G23: 0 | I23: B | J23: ĐT3
A24: 23 | B24: 13D3010073 | C24: Trịnh Phương | D24: Nam | E24: 21.02.95 | F24: 13CĐ-ĐT1 | G24: 0 | I24: A
A25: 24 | B25: 13D3010077 | C25: Lâm Trọng | D25: Nhân | E25: 04.09.95 | F25: 13CĐ-ĐT1 | G25: 0 | H25: LT | I25: B
A26: 25 | B26: 13D3010042 | C26: Nguyễn Sinh | D26: Nhật | E26: 12.01.95 | F26: 13CĐ-ĐT1 | G26: 0 | I26: B
A27: 26 | B27: 13D3010079 | C27: Hồ Đình | D27: Nhựt | E27: 07.02.95 | F27: 13CĐ-ĐT1 | G27: 0 | I27: B | J27: ĐT3
A28: 27 | B28: 13D3010086 | C28: Viên Ngọc | D28: Phú | E28: 09.11.95 | F28: 13CĐ-ĐT1 | G28: 0 | I28: B
A29: 28 | B29: 13D3010091 | C29: Võ Thế | D29: Phúc | E29: 18.03.95 | F29: 13CĐ-ĐT1 | G29: 0 | I29: B | J29: ĐT3
A30: 29 | B30: 13D3010092 | C30: Nguyễn Anh | D30: Phụng | E30: 19.05.95 | F30: 13CĐ-ĐT1 | G30: 0 | I30: B
A31: 30 | B31: 13D3010094 | C31: Phạm Hữu | D31: Phước | E31: 18.11.95 | F31: 13CĐ-ĐT1 | G31: 0 | I31: B | J31: ĐT3-VPNQ21/11/14CC
A32: 31 | B32: 13D3010095 | C32: Trịnh Ngọc | D32: Phước | E32: 12.12.95 | F32: 13CĐ-ĐT1 | G32: 0 | I32: B | J32: VPNQ07/10/14CC2
A33: 32 | B33: 13D3010098 | C33: Nguyễn Minh | D33: Phương | E33: 20.03.94 | F33: 13CĐ-ĐT1 | G33: 1 | H33: Nữ | I33: B
A34: 33 | B34: 13D3010099 | C34: Trương Thái | D34: Quốc | E34: 11.01.95 | F34: 13CĐ-ĐT1 | G34: 0 | I34: B | J34: VPNQ31/12/14CC
A35: 34 | B35: 13D3010101 | C35: Vòng Đông | D35: Quý | E35: 09.02.94 | F35: 13CĐ-ĐT1 | G35: 0 | I35: B | J35: ĐT3-DT.Hoa
A36: 35 | B36: 13D3010102 | C36: Nguyễn Đức | D36: Quynh | E36: 15.10.94 | F36: 13CĐ-ĐT1 | G36: 0 | I36: B
A37: 36 | B37: 13D3010104 | C37: Đặng Kỳ | D37: Sơn | E37: 16.07.95 | F37: 13CĐ-ĐT1 | G37: 0 | I37: B | J37: ĐT3-VPNQ21/11/14CC
A38: 37 | B38: 13D3010105 | C38: Nguyễn Công | D38: Sơn | E38: 05.04.95 | F38: 13CĐ-ĐT1 | G38: 0 | I38: B
A39: 38 | B39: 13D3010107 | C39: Ngô Văn | D39: Tạc | E39: 26.01.95 | F39: 13CĐ-ĐT1 | G39: 0 | I39: B | J39: ĐT3
A40: 39 | B40: 13D3010110 | C40: Phan Chí | D40: Tài | E40: 15.02.95 | F40: 13CĐ-ĐT1 | G40: 0 | I40: B | J40: ĐT3
A41: 40 | B41: 13D3010116 | C41: Vũ Hứa Minh | D41: Tân | E41: 21.10.95 | F41: 13CĐ-ĐT1 | G41: 0 | I41: A | J41: ĐT3
A42: 41 | B42: 13D3010117 | C42: Lê Chí Hoàng | D42: Thắng | E42: 18.04.95 | F42: 13CĐ-ĐT1 | G42: 0 | H42: LPHT | I42: A
A43: 42 | B43: 13D3010119 | C43: Bạch Ngọc | D43: Thành | E43: 15.01.95 | F43: 13CĐ-ĐT1 | G43: 0 | I43: B | J43: ĐT3
A44: 43 | B44: 13D3010120 | C44: Bùi Văn | D44: Thành | E44: 08.09.93 | F44: 13CĐ-ĐT1 | G44: 0 | I44: B
A45: 44 | B45: 13D3010122 | C45: Nguyễn Thạch | D45: Thảo | E45: 08.08.95 | F45: 13CĐ-ĐT1 | G45: 0 | I45: B | J45: ĐT3-VPNQ31/12/14CC
A46: 45 | B46: 13D3010123 | C46: Phạm Văn | D46: Thể | E46: 20.09.95 | F46: 13CĐ-ĐT1 | G46: 0 | I46: B
A47: 46 | B47: 13D3010125 | C47: Nguyễn Ngọc Huy | D47: Thịnh | E47: 09.05.93 | F47: 13CĐ-ĐT1 | G47: 0 | I47: A | J47: ĐT3
A48: 47 | B48: 13D3010128 | C48: Vũ Duy | D48: Thuận | E48: 12.03.93 | F48: 13CĐ-ĐT1 | G48: 0 | I48: B | J48: ĐT3
A49: 48 | B49: 13D3010129 | C49: Ngô Công | D49: Thuật | E49: 09.06.94 | F49: 13CĐ-ĐT1 | G49: 0 | I49: B
A50: 49 | B50: 13D3010131 | C50: Nguyễn Duy | D50: Tiên | E50: 02.01.95 | F50: 13CĐ-ĐT1 | G50: 0 | I50: B | J50: ĐT3
A51: 50 | B51: 13D3010134 | C51: Đào Hữu | D51: Toàn | E51: 18.11.95 | F51: 13CĐ-ĐT1 | G51: 0 | I51: B | J51: ĐT3
A52: 51 | B52: 13D3010135 | C52: Nguyễn Minh | D52: Toàn | E52: 30.09.95 | F52: 13CĐ-ĐT1 | G52: 0 | I52: B
A53: 52 | B53: 13D3010137 | C53: Phan Tấn | D53: Tới | E53: 19.05.95 | F53: 13CĐ-ĐT1 | G53: 0 | I53: B | J53: ĐT3
A54: 53 | B54: 13D3010138 | C54: Lê Quang | D54: Trãi | E54: 15.01.95 | F54: 13CĐ-ĐT1 | G54: 0 | I54: B
A55: 54 | B55: 13D3010140 | C55: Nguyễn Minh | D55: Trí | E55: 01.02.95 | F55: 13CĐ-ĐT1 | G55: 0 | I55: B | J55: ĐT3
A56: 55 | B56: 13D3010143 | C56: Trần Quang | D56: Trung | E56: 21.10.95 | F56: 13CĐ-ĐT1 | G56: 0 | I56: B | J56: ĐT3-VPNQ31/12/14CC
A57: 56 | B57: 13D3010144 | C57: Trần Nhựt | D57: Trường | E57: 30.07.95 | F57: 13CĐ-ĐT1 | G57: 0 | H57: LPKL | I57: B
A58: 57 | B58: 13D3010146 | C58: Võ Duy | D58: Tú | E58: 16.02.95 | F58: 13CĐ-ĐT1 | G58: 0 | I58: B | J58: ĐT3
A59: 58 | B59: 13D3010150 | C59: Trần Ngọc | D59: Tuấn | E59: 15.01.91 | F59: 13CĐ-ĐT1 | G59: 0 | I59: B | J59: ĐT3-con TB 4/4-VPNQ31/12/14CC
A60: 59 | B60: 13D3010031 | C60: Lê Thanh | D60: Tùng | E60: 19.01.94 | F60: 13CĐ-ĐT1 | G60: 0 | I60: B
A61: 60 | B61: 13D3010154 | C61: Lâm Hoài | D61: Vĩ | E61: 13.05.95 | F61: 13CĐ-ĐT1 | G61: 0 | I61: A | J61: ĐT3
A62: 61 | B62: 13D3010155 | C62: Lâm Xuân | D62: Vũ | E62: 01.05.95 | F62: 13CĐ-ĐT1 | G62: 0 | I62: B
A63: 62 | B63: 13D3010159 | C63: Phạm Văn | D63: Xuân | E63: 27.06.95 | F63: 13CĐ-ĐT1 | G63: 0 | I63: B | J63: ĐT3
A64: 1 | B64: 13D3010176 | C64: Đặng Thanh | D64: Bình | E64: 22.03.95 | F64: 13CĐ-ĐT2 | G64: 0 | I64: B | J64: ĐT4
A65: 2 | B65: 13D3010002 | C65: Đinh Khắc | D65: Bình | E65: 15.03.95 | F65: 13CĐ-ĐT2 | G65: 0 | I65: B
A66: 3 | B66: 13D3010166 | C66: Trần Khánh | D66: Cường | E66: 20.05.94 | F66: 13CĐ-ĐT2 | G66: 0 | I66: B | J66: ĐT4
A67: 4 | B67: 13D3010011 | C67: Nguyễn Đình | D67: Dũng | E67: 26.11.93 | F67: 13CĐ-ĐT2 | G67: 0 | H67: LPHT | I67: B
A68: 5 | B68: 12D3010027 | C68: Nguyễn Văn | D68: Dũng | E68: 04.08.94 | F68: 13CĐ-ĐT2 | G68: 0 | H68: * | I68: A | J68: ĐT4-BL.12CĐ-ĐT3
A69: 6 | B69: 13D3010013 | C69: Lê Hoàng | D69: Duy | E69: 26.04.95 | F69: 13CĐ-ĐT2 | G69: 0 | I69: B | J69: ĐT4
A70: 7 | B70: 13D3010017 | C70: Võ Văn | D70: Đại | E70: 12.12.94 | F70: 13CĐ-ĐT2 | G70: 0 | I70: B | J70: ĐT4
A71: 8 | B71: 13D3010177 | C71: Nguyễn Tấn | D71: Đạt | E71: 09.04.95 | F71: 13CĐ-ĐT2 | G71: 0 | I71: B | J71: ĐT4
A72: 9 | B72: 13D3010023 | C72: Nguyễn Trường | D72: Giang | E72: 07.08.93 | F72: 13CĐ-ĐT2 | G72: 0 | I72: A
A73: 10 | B73: 13D3010168 | C73: Nguyễn Phi | D73: Hào | E73: 03.02.95 | F73: 13CĐ-ĐT2 | G73: 0 | I73: B | J73: ĐT4-VPNQ31/12/14CC
A74: 11 | B74: 13D3010167 | C74: Trần Huệ | D74: Hiếu | E74: 09.06.95 | F74: 13CĐ-ĐT2 | G74: 0 | I74: B | J74: ĐT4
A75: 12 | B75: 13D3010034 | C75: Trần Quang | D75: Hiếu | E75: 01.07.95 | F75: 13CĐ-ĐT2 | G75: 0 | H75: LT | I75: B | J75: ĐT4
A76: 13 | B76: 13D3010036 | C76: Đinh Khải | D76: Hoàn | E76: 19.11.94 | F76: 13CĐ-ĐT2 | G76: 0 | H76: LPKL | I76: B
A77: 14 | B77: 13D3010035 | C77: Lê Nguyễn | D77: Hoàng | E77: 01.07.95 | F77: 13CĐ-ĐT2 | G77: 0 | I77: A | J77: ĐT4
A78: 15 | B78: 13D3010169 | C78: Phạm Ngọc | D78: Hoàng | E78: 03.04.95 | F78: 13CĐ-ĐT2 | G78: 0 | I78: B | J78: ĐT4
A79: 16 | B79: 13D3010040 | C79: Nguyễn Ngọc | D79: Huấn | E79: 17.04.95 | F79: 13CĐ-ĐT2 | G79: 0 | I79: B
A80: 17 | B80: 13D3010178 | C80: Đinh Tiến | D80: Hưng | E80: 10.08.92 | F80: 13CĐ-ĐT2 | G80: 0 | I80: A | J80: ĐT4
A81: 18 | B81: 13D3010046 | C81: Mai Ngọc | D81: Huy | E81: 27.04.94 | F81: 13CĐ-ĐT2 | G81: 0 | I81: B
A82: 19 | B82: 13D3010049 | C82: Bùi Văn | D82: Huỳnh | E82: 04.10.94 | F82: 13CĐ-ĐT2 | G82: 0 | I82: B
A83: 20 | B83: 13D3010052 | C83: Nguyễn Quang | D83: Khánh | E83: 09.11.95 | F83: 13CĐ-ĐT2 | G83: 0 | I83: B
A84: 21 | B84: 13D3010058 | C84: Nguyễn Ngọc | D84: Lâm | E84: 10.02.95 | F84: 13CĐ-ĐT2 | G84: 0 | I84: B
A85: 22 | B85: 13D3010061 | C85: Nguyễn Quang | D85: Lành | E85: 20.07.94 | F85: 13CĐ-ĐT2 | G85: 0 | I85: B
A86: 23 | B86: 13D3010180 | C86: Nguyễn Viết | D86: Mạnh | E86: 01.03.93 | F86: 13CĐ-ĐT2 | G86: 0 | H86: LPHT | I86: B | J86: ĐT4
A87: 24 | B87: 13D3010070 | C87: Trần Chí | D87: Mỹ | E87: 16.06.93 | F87: 13CĐ-ĐT2 | G87: 0 | I87: B
A88: 25 | B88: 13D3010071 | C88: Nguyễn Thành | D88: Nam | E88: 11.06.94 | F88: 13CĐ-ĐT2 | G88: 0 | I88: B
A89: 26 | B89: 13D3010074 | C89: Huỳnh Trọng | D89: Nghĩa | E89: 20.07.95 | F89: 13CĐ-ĐT2 | G89: 0 | I89: B
A90: 27 | B90: 13D3010078 | C90: Võ Phước | D90: Nhân | E90: 12.05.95 | F90: 13CĐ-ĐT2 | G90: 0 | I90: B | J90: VPNQ08/12/14KT
A91: 28 | B91: 13D3010081 | C91: Huỳnh Tấn | D91: Phát | E91: 20.02.95 | F91: 13CĐ-ĐT2 | G91: 0 | I91: B
A92: 29 | B92: 13D3010084 | C92: Võ Trần Vũ | D92: Phong | E92: 23.10.95 | F92: 13CĐ-ĐT2 | G92: 0 | I92: B
A93: 30 | B93: 13D3010181 | C93: Trần Đức | D93: Phúc | E93: 02.02.94 | F93: 13CĐ-ĐT2 | G93: 0 | I93: B | J93: ĐT4
A94: 31 | B94: 13D3010090 | C94: Trịnh Hoàng | D94: Phúc | E94: 09.03.95 | F94: 13CĐ-ĐT2 | G94: 0 | I94: A | J94: VPNQ31/12/14CC-tự ý nghỉ 21/01/2015_Kox
A95: 32 | B95: 13D3010162 | C95: Võ Trường | D95: Phúc | E95: 08.09.95 | F95: 13CĐ-ĐT2 | G95: 0 | H95: LT | I95: A
A96: 33 | B96: 13D3010093 | C96: Nguyễn Đại | D96: Phước | E96: 15.03.95 | F96: 13CĐ-ĐT2 | G96: 0 | I96: B
A97: 34 | B97: 13D3010194 | C97: Võ Duy | D97: Phước | E97: 05.03.95 | F97: 13CĐ-ĐT2 | G97: 0 | I97: B | J97: ĐT4
A98: 35 | B98: 13D3010096 | C98: Hoàng Minh | D98: Phương | E98: 14.09.93 | F98: 13CĐ-ĐT2 | G98: 0 | I98: B
A99: 36 | B99: 13D3010100 | C99: Phạm Duy | D99: Quý | E99: 23.02.95 | F99: 13CĐ-ĐT2 | G99: 0 | I99: B
A100: 37 | B100: 13D3010182 | C100: Lê Thanh | D100: Quyền | E100: 13.05.95 | F100: 13CĐ-ĐT2 | G100: 0 | I100: B | J100: ĐT4
...

Sheet TH-CANHBAO-KQHT-13-14
A1: STT | B1: MSSV | C1: Họ | D1: Tên | E1: Ngày sinh | F1: Lớp | G1: Phái | H1: Hệ | I1: Tình hình học tập HK1 NH 13-14 | J1: Tình hình học tập HK2 NH 13-14 | K1: SS T.5/2015
A2: 1 | B2: 13D3010005 | C2: Nguyễn Thành | D2: Chung | E2: 10.02.94 | F2: 13CĐ-ĐT1 | G2: 0 | K2: B
A3: 2 | B3: 13D3010008 | C3: Nguyễn Quốc | D3: Cường | E3: 09.04.95 | F3: 13CĐ-ĐT1 | G3: 0 | K3: A | L3: ĐT3
A4: 3 | B4: 13D3010010 | C4: Bùi Thanh | D4: Diễn | E4: 12.05.95 | F4: 13CĐ-ĐT1 | G4: 0 | K4: B | L4: VPNQ31/12/14CC
A5: 4 | B5: 13D3010012 | C5: Phạm Văn | D5: Dũng | E5: 03.08.94 | F5: 13CĐ-ĐT1 | G5: 0 | K5: B | L5: ĐT3
A6: 5 | B6: 13D3010014 | C6: Nguyễn Khánh | D6: Duy | E6: 26.09.95 | F6: 13CĐ-ĐT1 | G6: 0 | K6: B
A7: 6 | B7: 13D3010018 | C7: Nguyễn Hải | D7: Đăng | E7: 19.05.95 | F7: 13CĐ-ĐT1 | G7: 0 | K7: B
A8: 7 | B8: 13D3010076 | C8: Lữ Đình | D8: Đạt | E8: 01.05.95 | F8: 13CĐ-ĐT1 | G8: 0 | K8: B | L8: ĐT3
A9: 8 | B9: 13D3010022 | C9: Nguyễn Trung | D9: Đức | E9: 15.02.95 | F9: 13CĐ-ĐT1 | G9: 0 | K9: A
A10: 9 | B10: 13D3010024 | C10: Hồ Thanh | D10: Hải | E10: 03.12.95 | F10: 13CĐ-ĐT1 | G10: 0 | K10: A | L10: ĐT3
A11: 10 | B11: 13D3010026 | C11: Phạm Giang | D11: Hải | E11: 20.05.95 | F11: 13CĐ-ĐT1 | G11: 0 | K11: B | L11: CL.T.Minh
A12: 11 | B12: 13D3010027 | C12: Trần Văn | D12: Hạnh | E12: 14.02.95 | F12: 13CĐ-ĐT1 | G12: 0 | K12: B | L12: tự ý nghỉ 19/01/2015_Kox
A13: 12 | B13: 13D3010029 | C13: Nguyễn Tấn Anh | D13: Hào | E13: 05.04.95 | F13: 13CĐ-ĐT1 | G13: 0 | K13: A | L13: ĐT3
A14: 13 | B14: 13D3010039 | C14: Nguyễn Văn | D14: Hoanh | E14: 14.10.95 | F14: 13CĐ-ĐT1 | G14: 0 | K14: B
A15: 14 | B15: 13D3010041 | C15: Nguyễn Minh | D15: Hùng | E15: 08.05.94 | F15: 13CĐ-ĐT1 | G15: 0 | K15: B | L15: ĐT3
A16: 15 | B16: 13D3010045 | C16: Lê Thành | D16: Huy | E16: 25.04.95 | F16: 13CĐ-ĐT1 | G16: 0 | K16: B
A17: 16 | B17: 13D3010047 | C17: Nguyễn Thái | D17: Huy | E17: 14.04.95 | F17: 13CĐ-ĐT1 | G17: 0 | K17: B | L17: ĐT3-con TB 4/4
A18: 17 | B18: 13D3010051 | C18: Huỳnh Duy | D18: Khánh | E18: 09.10.95 | F18: 13CĐ-ĐT1 | G18: 0 | K18: B
A19: 18 | B19: 13D3010053 | C19: Đỗ Đăng | D19: Khoa | E19: 01.01.94 | F19: 13CĐ-ĐT1 | G19: 0 | K19: B | L19: ĐT3
A20: 19 | B20: 13D3010056 | C20: Phan Trung | D20: Kiên | E20: 13.03.95 | F20: 13CĐ-ĐT1 | G20: 0 | K20: B | L20: ĐT3
A21: 20 | B21: 13D3010057 | C21: Trần Văn | D21: Kiệt | E21: 10.05.95 | F21: 13CĐ-ĐT1 | G21: 0 | K21: B
A22: 21 | B22: 13D3010063 | C22: Trần Văn | D22: Linh | E22: 08.10.94 | F22: 13CĐ-ĐT1 | G22: 0 | K22: B
A23: 22 | B23: 13D3010069 | C23: Nguyễn Công | D23: Minh | E23: 10.01.95 | F23: 13CĐ-ĐT1 | G23: 0 | K23: B | L23: ĐT3
A24: 23 | B24: 13D3010073 | C24: Trịnh Phương | D24: Nam | E24: 21.02.95 | F24: 13CĐ-ĐT1 | G24: 0 | K24: A
A25: 24 | B25: 13D3010077 | C25: Lâm Trọng | D25: Nhân | E25: 04.09.95 | F25: 13CĐ-ĐT1 | G25: 0 | H25: LT | K25: B
A26: 25 | B26: 13D3010042 | C26: Nguyễn Sinh | D26: Nhật | E26: 12.01.95 | F26: 13CĐ-ĐT1 | G26: 0 | K26: B
A27: 26 | B27: 13D3010079 | C27: Hồ Đình | D27: Nhựt | E27: 07.02.95 | F27: 13CĐ-ĐT1 | G27: 0 | K27: B | L27: ĐT3
A28: 27 | B28: 13D3010086 | C28: Viên Ngọc | D28: Phú | E28: 09.11.95 | F28: 13CĐ-ĐT1 | G28: 0 | K28: B
A29: 28 | B29: 13D3010091 | C29: Võ Thế | D29: Phúc | E29: 18.03.95 | F29: 13CĐ-ĐT1 | G29: 0 | K29: B | L29: ĐT3
A30: 29 | B30: 13D3010092 | C30: Nguyễn Anh | D30: Phụng | E30: 19.05.95 | F30: 13CĐ-ĐT1 | G30: 0 | K30: B
A31: 30 | B31: 13D3010094 | C31: Phạm Hữu | D31: Phước | E31: 18.11.95 | F31: 13CĐ-ĐT1 | G31: 0 | K31: B | L31: ĐT3-VPNQ21/11/14CC
A32: 31 | B32: 13D3010095 | C32: Trịnh Ngọc | D32: Phước | E32: 12.12.95 | F32: 13CĐ-ĐT1 | G32: 0 | K32: B | L32: VPNQ07/10/14CC2
A33: 32 | B33: 13D3010098 | C33: Nguyễn Minh | D33: Phương | E33: 20.03.94 | F33: 13CĐ-ĐT1 | G33: 1 | H33: Nữ | K33: B
A34: 33 | B34: 13D3010099 | C34: Trương Thái | D34: Quốc | E34: 11.01.95 | F34: 13CĐ-ĐT1 | G34: 0 | K34: B | L34: VPNQ31/12/14CC
A35: 34 | B35: 13D3010101 | C35: Vòng Đông | D35: Quý | E35: 09.02.94 | F35: 13CĐ-ĐT1 | G35: 0 | K35: B | L35: ĐT3-DT.Hoa
A36: 35 | B36: 13D3010102 | C36: Nguyễn Đức | D36: Quynh | E36: 15.10.94 | F36: 13CĐ-ĐT1 | G36: 0 | K36: B
A37: 36 | B37: 13D3010104 | C37: Đặng Kỳ | D37: Sơn | E37: 16.07.95 | F37: 13CĐ-ĐT1 | G37: 0 | K37: B | L37: ĐT3-VPNQ21/11/14CC
A38: 37 | B38: 13D3010105 | C38: Nguyễn Công | D38: Sơn | E38: 05.04.95 | F38: 13CĐ-ĐT1 | G38: 0 | K38: B
A39: 38 | B39: 13D3010107 | C39: Ngô Văn | D39: Tạc | E39: 26.01.95 | F39: 13CĐ-ĐT1 | G39: 0 | K39: B | L39: ĐT3
A40: 39 | B40: 13D3010110 | C40: Phan Chí | D40: Tài | E40: 15.02.95 | F40: 13CĐ-ĐT1 | G40: 0 | K40: B | L40: ĐT3
A41: 40 | B41: 13D3010116 | C41: Vũ Hứa Minh | D41: Tân | E41: 21.10.95 | F41: 13CĐ-ĐT1 | G41: 0 | K41: A | L41: ĐT3
A42: 41 | B42: 13D3010117 | C42: Lê Chí Hoàng | D42: Thắng | E42: 18.04.95 | F42: 13CĐ-ĐT1 | G42: 0 | H42: LPHT | K42: A
A43: 42 | B43: 13D3010119 | C43: Bạch Ngọc | D43: Thành | E43: 15.01.95 | F43: 13CĐ-ĐT1 | G43: 0 | K43: B | L43: ĐT3
A44: 43 | B44: 13D3010120 | C44: Bùi Văn | D44: Thành | E44: 08.09.93 | F44: 13CĐ-ĐT1 | G44: 0 | K44: B
A45: 44 | B45: 13D3010122 | C45: Nguyễn Thạch | D45: Thảo | E45: 08.08.95 | F45: 13CĐ-ĐT1 | G45: 0 | J45: Cảnh báo | K45: B | L45: ĐT3-VPNQ31/12/14CC
A46: 45 | B46: 13D3010123 | C46: Phạm Văn | D46: Thể | E46: 20.09.95 | F46: 13CĐ-ĐT1 | G46: 0 | K46: B
A47: 46 | B47: 13D3010125 | C47: Nguyễn Ngọc Huy | D47: Thịnh | E47: 09.05.93 | F47: 13CĐ-ĐT1 | G47: 0 | K47: A | L47: ĐT3
A48: 47 | B48: 13D3010128 | C48: Vũ Duy | D48: Thuận | E48: 12.03.93 | F48: 13CĐ-ĐT1 | G48: 0 | K48: B | L48: ĐT3
A49: 48 | B49: 13D3010129 | C49: Ngô Công | D49: Thuật | E49: 09.06.94 | F49: 13CĐ-ĐT1 | G49: 0 | K49: B
A50: 49 | B50: 13D3010131 | C50: Nguyễn Duy | D50: Tiên | E50: 02.01.95 | F50: 13CĐ-ĐT1 | G50: 0 | K50: B | L50: ĐT3
A51: 50 | B51: 13D3010134 | C51: Đào Hữu | D51: Toàn | E51: 18.11.95 | F51: 13CĐ-ĐT1 | G51: 0 | K51: B | L51: ĐT3
A52: 51 | B52: 13D3010135 | C52: Nguyễn Minh | D52: Toàn | E52: 30.09.95 | F52: 13CĐ-ĐT1 | G52: 0 | K52: B
A53: 52 | B53: 13D3010137 | C53: Phan Tấn | D53: Tới | E53: 19.05.95 | F53: 13CĐ-ĐT1 | G53: 0 | K53: B | L53: ĐT3
A54: 53 | B54: 13D3010138 | C54: Lê Quang | D54: Trãi | E54: 15.01.95 | F54: 13CĐ-ĐT1 | G54: 0 | K54: B
A55: 54 | B55: 13D3010140 | C55: Nguyễn Minh | D55: Trí | E55: 01.02.95 | F55: 13CĐ-ĐT1 | G55: 0 | K55: B | L55: ĐT3
A56: 55 | B56: 13D3010143 | C56: Trần Quang | D56: Trung | E56: 21.10.95 | F56: 13CĐ-ĐT1 | G56: 0 | K56: B | L56: ĐT3-VPNQ31/12/14CC
A57: 56 | B57: 13D3010144 | C57: Trần Nhựt | D57: Trường | E57: 30.07.95 | F57: 13CĐ-ĐT1 | G57: 0 | H57: LPKL | K57: B
A58: 57 | B58: 13D3010146 | C58: Võ Duy | D58: Tú | E58: 16.02.95 | F58: 13CĐ-ĐT1 | G58: 0 | K58: B | L58: ĐT3
A59: 58 | B59: 13D3010150 | C59: Trần Ngọc | D59: Tuấn | E59: 15.01.91 | F59: 13CĐ-ĐT1 | G59: 0 | K59: B | L59: ĐT3-con TB 4/4-VPNQ31/12/14CC
A60: 59 | B60: 13D3010031 | C60: Lê Thanh | D60: Tùng | E60: 19.01.94 | F60: 13CĐ-ĐT1 | G60: 0 | K60: B
A61: 60 | B61: 13D3010154 | C61: Lâm Hoài | D61: Vĩ | E61: 13.05.95 | F61: 13CĐ-ĐT1 | G61: 0 | K61: A | L61: ĐT3
A62: 61 | B62: 13D3010155 | C62: Lâm Xuân | D62: Vũ | E62: 01.05.95 | F62: 13CĐ-ĐT1 | G62: 0 | K62: B
A63: 62 | B63: 13D3010159 | C63: Phạm Văn | D63: Xuân | E63: 27.06.95 | F63: 13CĐ-ĐT1 | G63: 0 | K63: B | L63: ĐT3
A64: 1 | B64: 13D3010176 | C64: Đặng Thanh | D64: Bình | E64: 22.03.95 | F64: 13CĐ-ĐT2 | G64: 0 | K64: B | L64: ĐT4
A65: 2 | B65: 13D3010002 | C65: Đinh Khắc | D65: Bình | E65: 15.03.95 | F65: 13CĐ-ĐT2 | G65: 0 | K65: B
A66: 3 | B66: 13D3010166 | C66: Trần Khánh | D66: Cường | E66: 20.05.94 | F66: 13CĐ-ĐT2 | G66: 0 | K66: B | L66: ĐT4
A67: 4 | B67: 13D3010011 | C67: Nguyễn Đình | D67: Dũng | E67: 26.11.93 | F67: 13CĐ-ĐT2 | G67: 0 | H67: LPHT | K67: B
A68: 5 | B68: 12D3010027 | C68: Nguyễn Văn | D68: Dũng | E68: 04.08.94 | F68: 13CĐ-ĐT2 | G68: 0 | H68: * | K68: A | L68: ĐT4-BL.12CĐ-ĐT3
A69: 6 | B69: 13D3010013 | C69: Lê Hoàng | D69: Duy | E69: 26.04.95 | F69: 13CĐ-ĐT2 | G69: 0 | K69: B | L69: ĐT4
A70: 7 | B70: 13D3010017 | C70: Võ Văn | D70: Đại | E70: 12.12.94 | F70: 13CĐ-ĐT2 | G70: 0 | K70: B | L70: ĐT4
A71: 8 | B71: 13D3010177 | C71: Nguyễn Tấn | D71: Đạt | E71: 09.04.95 | F71: 13CĐ-ĐT2 | G71: 0 | K71: B | L71: ĐT4
A72: 9 | B72: 13D3010023 | C72: Nguyễn Trường | D72: Giang | E72: 07.08.93 | F72: 13CĐ-ĐT2 | G72: 0 | K72: A
A73: 10 | B73: 13D3010168 | C73: Nguyễn Phi | D73: Hào | E73: 03.02.95 | F73: 13CĐ-ĐT2 | G73: 0 | K73: B | L73: ĐT4-VPNQ31/12/14CC
A74: 11 | B74: 13D3010167 | C74: Trần Huệ | D74: Hiếu | E74: 09.06.95 | F74: 13CĐ-ĐT2 | G74: 0 | K74: B | L74: ĐT4
A75: 12 | B75: 13D3010034 | C75: Trần Quang | D75: Hiếu | E75: 01.07.95 | F75: 13CĐ-ĐT2 | G75: 0 | H75: LT | K75: B | L75: ĐT4
A76: 13 | B76: 13D3010036 | C76: Đinh Khải | D76: Hoàn | E76: 19.11.94 | F76: 13CĐ-ĐT2 | G76: 0 | H76: LPKL | K76: B
A77: 14 | B77: 13D3010035 | C77: Lê Nguyễn | D77: Hoàng | E77: 01.07.95 | F77: 13CĐ-ĐT2 | G77: 0 | K77: A | L77: ĐT4
A78: 15 | B78: 13D3010169 | C78: Phạm Ngọc | D78: Hoàng | E78: 03.04.95 | F78: 13CĐ-ĐT2 | G78: 0 | K78: B | L78: ĐT4
A79: 16 | B79: 13D3010040 | C79: Nguyễn Ngọc | D79: Huấn | E79: 17.04.95 | F79: 13CĐ-ĐT2 | G79: 0 | K79: B
A80: 17 | B80: 13D3010178 | C80: Đinh Tiến | D80: Hưng | E80: 10.08.92 | F80: 13CĐ-ĐT2 | G80: 0 | K80: A | L80: ĐT4
A81: 18 | B81: 13D3010046 | C81: Mai Ngọc | D81: Huy | E81: 27.04.94 | F81: 13CĐ-ĐT2 | G81: 0 | K81: B
A82: 19 | B82: 13D3010049 | C82: Bùi Văn | D82: Huỳnh | E82: 04.10.94 | F82: 13CĐ-ĐT2 | G82: 0 | K82: B
A83: 20 | B83: 13D3010052 | C83: Nguyễn Quang | D83: Khánh | E83: 09.11.95 | F83: 13CĐ-ĐT2 | G83: 0 | K83: B
A84: 21 | B84: 13D3010058 | C84: Nguyễn Ngọc | D84: Lâm | E84: 10.02.95 | F84: 13CĐ-ĐT2 | G84: 0 | K84: B
A85: 22 | B85: 13D3010061 | C85: Nguyễn Quang | D85: Lành | E85: 20.07.94 | F85: 13CĐ-ĐT2 | G85: 0 | K85: B
A86: 23 | B86: 13D3010180 | C86: Nguyễn Viết | D86: Mạnh | E86: 01.03.93 | F86: 13CĐ-ĐT2 | G86: 0 | H86: LPHT | K86: B | L86: ĐT4
A87: 24 | B87: 13D3010070 | C87: Trần Chí | D87: Mỹ | E87: 16.06.93 | F87: 13CĐ-ĐT2 | G87: 0 | K87: B
A88: 25 | B88: 13D3010071 | C88: Nguyễn Thành | D88: Nam | E88: 11.06.94 | F88: 13CĐ-ĐT2 | G88: 0 | K88: B
A89: 26 | B89: 13D3010074 | C89: Huỳnh Trọng | D89: Nghĩa | E89: 20.07.95 | F89: 13CĐ-ĐT2 | G89: 0 | K89: B
A90: 27 | B90: 13D3010078 | C90: Võ Phước | D90: Nhân | E90: 12.05.95 | F90: 13CĐ-ĐT2 | G90: 0 | K90: B | L90: VPNQ08/12/14KT
A91: 28 | B91: 13D3010081 | C91: Huỳnh Tấn | D91: Phát | E91: 20.02.95 | F91: 13CĐ-ĐT2 | G91: 0 | K91: B
A92: 29 | B92: 13D3010084 | C92: Võ Trần Vũ | D92: Phong | E92: 23.10.95 | F92: 13CĐ-ĐT2 | G92: 0 | K92: B
A93: 30 | B93: 13D3010181 | C93: Trần Đức | D93: Phúc | E93: 02.02.94 | F93: 13CĐ-ĐT2 | G93: 0 | K93: B | L93: ĐT4
A94: 31 | B94: 13D3010090 | C94: Trịnh Hoàng | D94: Phúc | E94: 09.03.95 | F94: 13CĐ-ĐT2 | G94: 0 | K94: A | L94: VPNQ31/12/14CC-tự ý nghỉ 21/01/2015_Kox
A95: 32 | B95: 13D3010162 | C95: Võ Trường | D95: Phúc | E95: 08.09.95 | F95: 13CĐ-ĐT2 | G95: 0 | H95: LT | K95: A
A96: 33 | B96: 13D3010093 | C96: Nguyễn Đại | D96: Phước | E96: 15.03.95 | F96: 13CĐ-ĐT2 | G96: 0 | K96: B
A97: 34 | B97: 13D3010194 | C97: Võ Duy | D97: Phước | E97: 05.03.95 | F97: 13CĐ-ĐT2 | G97: 0 | K97: B | L97: ĐT4
A98: 35 | B98: 13D3010096 | C98: Hoàng Minh | D98: Phương | E98: 14.09.93 | F98: 13CĐ-ĐT2 | G98: 0 | K98: B
A99: 36 | B99: 13D3010100 | C99: Phạm Duy | D99: Quý | E99: 23.02.95 | F99: 13CĐ-ĐT2 | G99: 0 | K99: B
A100: 37 | B100: 13D3010182 | C100: Lê Thanh | D100: Quyền | E100: 13.05.95 | F100: 13CĐ-ĐT2 | G100: 0 | K100: B | L100: ĐT4
...

Sheet HKI
A1: ỦY BAN NHÂN DÂN THÀNH PHỐ HỒ CHÍ MINH | AQ1: CỘNG HOÀ XÃ HỘI CHỦ NGHĨA VIỆT NAM
A2: TRƯỜNG CĐKT LÝ TỰ TRỌNG THÀNH PHỐ HỒ CHÍ MINH | AQ2: Độc lập - Tự do - hạnh phúc
C3: LỚP: | D3: 13CĐ-Đ1 | G3: SĨ SỐ: | I3: 35
A4: BẢNG TỔNG KẾT HỌC TẬP HỌC KỲ I NĂM HỌC 2014 - 2015
CQ5: Điểm tích luỹ năm 2013-2014 | EU5: Điểm tích luỹ năm 2013-2014
A6: Số thứ tự | B6: HỌC PHẦN | H6: Anh văn 2 | L6: Những NLCB của CNMLN 2 | P6: Khí cụ điện và máy điện | T6: Kỹ thuật số | X6: Điện tử công suất | AB6: Kỹ thuật truyền số liệu | AR6: Thực tập Điện tử cơ bản | AV6: Thực tập Đo lường và mạch điện | AZ6: TBC HỌC TẬP | BB6: KẾT QUẢ RÈN LUYỆN | BC6: XẾP LOẠI HT | BE6: KHEN THƯỞNG | BF6: CẢNH BÁO KẾT QUẢ HỌC TẬP | BG6: SỐ TC TÍCH LUỸ TRONG HK SAU KỲ THI CHÍNH | BH6: SỐ TC NỢ TRONG HK SAU KỲ THI CHÍNH | BI6: SỐ TC TÍCH LUỸ TRONG HK SAU KỲ THI PHỤ | BJ6: SỐ TC NỢ SAU KỲ THI PHỤ | BK6: ĐIỂM TBC TÍCH LUỸ SAU KỲ THI CHÍNH | BL6: HẠNG HỌC LỰC SAU KỲ THI CHÍNH | BM6: ĐIỂM TBC TÍCH LUỸ SAU KỲ THI PHỤ | BN6: HẠNG HỌC LỰC SAU KỲ THI PHỤ | BO6: GHI CHÚ | BP6: SỐ TC TÍCH LUỸ TỪ ĐẦU KHOÁ HỌC | BQ6: SỐ TC CÒN NỢ TỪ ĐẦU KHOÁ HỌC | CQ6: Toán cao cấp 1 | CR6: Vật lý đại cương 1 | CS6: Hóa học đại cương 1 | CT6: Pháp luật đại cương | CU6: Nhập môn Tin học | CV6: Đo lường và mạch điện | CW6: Mạng cung cấp điện | CZ6: Toán cao cấp 2 | DA6: Anh văn 1 | DB6: Xác suất thống kê | DC6: Vật lý đại cương 2 | DD6: Hoá học đại cương 2 | DE6: Kỹ năng giao tiếp | DF6: Những NLCB của CNMLN 1 | DG6: Điện tử cơ bản | DH6: An toàn điện | DL6: Thực tập Điện cơ bản | DY6: 59 | EU6: Toán cao cấp 1 | EV6: Vật lý đại cương 1 | EW6: Hóa học đại cương 1 | EX6: Pháp luật đại cương | EY6: Nhập môn Tin học | EZ6: Đo lường và mạch điện | FA6: Mạng cung cấp điện | FD6: Toán cao cấp 2 | FE6: Anh văn 1 | FF6: Xác suất thống kê | FG6: Vật lý đại cương 2 | FH6: Hoá học đại cương 2 | FI6: Kỹ năng giao tiếp | FJ6: Những NLCB của CNMLN 1 | FK6: Điện tử cơ bản | FL6: An toàn điện | FP6: Thực tập Điện cơ bản | GC6: 59
B7: SỐ ĐVHT | H7: 2 | L7: 3 | P7: 3 | T7: 2 | X7: 2 | AB7: 2 | AR7: 2 | AV7: 2 | AZ7: 18 | BR7: Đếm cột thi chính <5 | CD7: Đếm cột HP chính <4 | CE7: 2 | CF7: 3 | CG7: 3 | CH7: 2 | CI7: 2 | CJ7: 2 | CN7: 2 | CO7: 2 | CQ7: 3 | CR7: 3 | CS7: 2 | CT7: 2 | CU7: 3 | CV7: 5 | CW7: 2 | CZ7: 2 | DA7: 3 | DB7: 2 | DC7: 2 | DD7: 2 | DE7: 2 | DF7: 2 | DG7: 2 | DH7: 2 | DL7: 2 | DN7: 2 | DO7: 3 | DP7: 3 | DQ7: 2 | DR7: 2 | DS7: 2 | DW7: 2 | DX7: 2 | EI7: 2 | EJ7: 3 | EK7: 3 | EL7: 2 | EM7: 2 | EN7: 2 | ER7: 2 | ES7: 2 | EU7: 3 | EV7: 3 | EW7: 2 | EX7: 2 | EY7: 3 | EZ7: 5 | FA7: 2 | FD7: 2 | FE7: 3 | FF7: 2 | FG7: 2 | FH7: 2 | FI7: 2 | FJ7: 2 | FK7: 2 | FL7: 2 | FP7: 2 | FR7: 2 | FS7: 3 | FT7: 3 | FU7: 2 | FV7: 2 | FW7: 2 | GA7: 2 | GB7: 2
B8: MSSV | C8: Họ tên sinh viên | E8: HỆ CHUẨN | F8: NGÀY NGHỈ | H8: Thi Chính | I8: HP Chính | J8: Thi Phụ | K8: HP Phụ | L8: Thi Chính | M8: HP Chính | N8: Thi Phụ | O8: HP Phụ | P8: Thi Chính | Q8: HP Chính | R8: Thi Phụ | S8: HP Phụ | T8: Thi Chính | U8: HP Chính | V8: Thi Phụ | W8: HP Phụ | X8: Thi Chính | Y8: HP Chính | Z8: Thi Phụ | AA8: HP Phụ | AB8: Thi Chính | AC8: HP Chính | AD8: Thi Phụ | AE8: HP Phụ | AF8: Thi Chính | AG8: HP Chính | AH8: Thi Phụ | AI8: HP Phụ | AJ8: Thi Chính | AK8: HP Chính | AL8: Thi Phụ | AM8: HP Phụ | AN8: Thi Chính | AO8: HP Chính | AP8: Thi Phụ | AQ8: HP Phụ | AR8: Thi Chính | AS8: HP Chính | AT8: Thi Phụ | AU8: HP Phụ | AV8: Thi Chính | AW8: HP Chính | AX8: Thi Phụ | AY8: HP Phụ | AZ8: Kỳ Thi Chính | BA8: Kỳ Thi Phụ | BC8: Kỳ Thi Chính | BD8: Kỳ Thi Phụ | BS8: Điểm thi chính | CE8: Điểm HP chính | DN8: ĐIỂM TBC TÍCH LUỸ SAU KỲ THI CHÍNH | DZ8: Điểm HP Phụ theo điểm thi phụ | EI8: Tính lại điểm HP phụ | FR8: ĐIỂM TBC TÍCH LUỸ SAU KỲ THI PHỤ
F9: P | G9: K
A10: (1) | B10: (2) | C10: (3) | E10: (4) | F10: (5) | G10: (6) | H10: (7) | L10: (8) | P10: (9) | T10: (10) | X10: (11) | AB10: (12) | AF10: (13) | AJ10: (14) | AN10: (15) | AR10: (16) | AV10: (17) | AZ10: (18) | BA10: (19) | BB10: (20) | BC10: (21) | BD10: (22) | BE10: (23) | BF10: (24) | BG10: (25) | BH10: (26) | BI10: (27) | BJ10: (28) | BK10: (29) | BL10: (30) | BM10: (31) | BN10: (32) | BO10: (33) | BP10: (34) | BQ10: (35)
A11: 1 | B11: 13D301Đ001 | C11: Lương Hoàng Thuận | D11: An | G11: 2 | H11: 3.4 | I11: 4.6 | L11: 7 | M11: 7.3 | P11: 6 | Q11: 6.9 | T11: 7 | U11: 7.3 | X11: 7 | Y11: 6.8 | AB11: 7.8 | AC11: 6.8 | AS11: 6.3 | AW11: 9 | AZ11: 6.9 | BB11: 89 | BC11: TB | BG11: 18 | BH11: 0 | BI11: 18 | BJ11: 0 | BK11: 7.19 | BL11: BT | BM11: 7.19 | BN11: BT | BP11: 57 | BQ11: 0 | BR11: 1 | BS11: 3.4 | BT11: 7 | BU11: 6 | BV11: 7 | BW11: 7 | BX11: 7.8 | CB11: 6.3 | CC11: 9 | CD11: 0 | CE11: 4.6 | CF11: 7.3 | CG11: 6.9 | CH11: 7.3 | CI11: 6.8 | CJ11: 6.8 | CN11: 6.3 | CO11: 9 | CP11: 6.9 | CQ11: 5.2 | CR11: 9.3 | CS11: 7.2 | CT11: 5.8 | CU11: 6.3 | CV11: 7.2 | CW11: 8.3 | CZ11: 8.1 | DA11: 5.5 | DC11: 9.8 | DD11: 9.1 | DE11: 8 | DF11: 8.1 | DG11: 6 | DH11: 8 | DL11: 7 | DN11: 4.6 | DO11: 7.3 | DP11: 6.9 | DQ11: 7.3 | DR11: 6.8 | DS11: 6.8 | DW11: 6.3 | DX11: 9 | DY11: 7.19 | EI11: 4.6 | EJ11: 7.3 | EK11: 6.9 | EL11: 7.3 | EM11: 6.8 | EN11: 6.8 | ER11: 6.3 | ES11: 9 | EU11: 5.2 | EV11: 9.3 | EW11: 7.2 | EX11: 5.8 | EY11: 6.3 | EZ11: 7.2 | FA11: 8.3 | FD11: 8.1 | FE11: 5.5 | FG11: 9.8 | FH11: 9.1 | FI11: 8 | FJ11: 8.1 | FK11: 6 | FL11: 8 | FP11: 7 | FR11: 4.6 | FS11: 7.3 | FT11: 6.9 | FU11: 7.3 | FV11: 6.8 | FW11: 6.8 | GA11: 6.3 | GB11: 9 | GC11: 7.19
A12: 2 | B12: 13D301Đ009 | C12: Võ Thành | D12: Bảo | G12: 4 | H12: 3 | I12: 5 | L12: 7 | M12: 6.1 | P12: 2.1 | Q12: 3 | R12: 1.2 | S12: 3 | T12: 3.8 | U12: 4.2 | X12: 6.5 | Y12: 4.2 | AB12: 4 | AC12: 4 | AS12: 5 | AW12: 7 | AZ12: 4.78 | BA12: 4.78 | BB12: 52 | BC12: TBY | BD12: TBY | BG12: 15 | BH12: 3 | BI12: 15 | BJ12: 3 | BK12: 5.6 | BL12: BT | BM12: 5.6 | BN12: BT | BP12: 52 | BQ12: 5 | BR12: 4 | BS12: 3 | BT12: 7 | BU12: 2.1 | BV12: 3.8 | BW12: 6.5 | BX12: 4 | CB12: 5 | CC12: 7 | CD12: 1 | CE12: 5 | CF12: 6.1 | CG12: 3 | CH12: 4.2 | CI12: 4.2 | CJ12: 4 | CN12: 5 | CO12: 7 | CP12: 4.78 | CQ12: 4.6 | CR12: 5.7 | CS12: 6.1 | CT12: 6.3 | CU12: 5.6 | CV12: 6.4 | CW12: 5.9 | CZ12: 6.1 | DA12: 4.2 | DB12: 5.5 | DD12: 6 | DE12: 6.3 | DF12: 5.8 | DH12: 7.4 | DL12: 5.6 | DN12: 5 | DO12: 6.1 | DQ12: 4.2 | DR12: 4.2 | DS12: 4 | DW12: 5 | DX12: 7 | DY12: 5.6 | EB12: 3 | EI12: 5 | EJ12: 6.1 | EK12: 3 | EL12: 4.2 | EM12: 4.2 | EN12: 4 | ER12: 5 | ES12: 7 | ET12: 4.78 | EU12: 4.6 | EV12: 5.7 | EW12: 6.1 | EX12: 6.3 | EY12: 5.6 | EZ12: 6.4 | FA12: 5.9 | FD12: 6.1 | FE12: 4.2 | FF12: 5.5 | FH12: 6 | FI12: 6.3 | FJ12: 5.8 | FL12: 7.4 | FP12: 5.6 | FR12: 5 | FS12: 6.1 | FU12: 4.2 | FV12: 4.2 | FW12: 4 | GA12: 5 | GB12: 7 | GC12: 5.6
A13: 3 | B13: 13D301Đ013 | C13: Nguyễn Chí | D13: Bình | G13: 5 | H13: 2.9 | I13: 4.8 | L13: 6.8 | M13: 6.3 | P13: 3.5 | Q13: 4.3 | T13: 5 | U13: 5.2 | X13: 6.5 | Y13: 5.5 | AB13: 4 | AC13: 5 | AS13: 5.3 | AW13: 6.3 | AZ13: 5.33 | BB13: 51 | BC13: TBY | BG13: 18 | BH13: 0 | BI13: 18 | BJ13: 0 | BK13: 5.37 | BL13: Y | BM13: 5.37 | BN13: Y | BP13: 50 | BQ13: 7 | BR13: 3 | BS13: 2.9 | BT13: 6.8 | BU13: 3.5 | BV13: 5 | BW13: 6.5 | BX13: 4 | CB13: 5.3 | CC13: 6.3 | CD13: 0 | CE13: 4.8 | CF13: 6.3 | CG13: 4.3 | CH13: 5.2 | CI13: 5.5 | CJ13: 5 | CN13: 5.3 | CO13: 6.3 | CP13: 5.33 | CQ13: 4.3 | CR13: 4.6 | CS13: 6 | CT13: 5.1 | CU13: 5 | CV13: 6.4 | CW13: 6.1 | CZ13: 4.2 | DC13: 5.3 | DE13: 5.7 | DF13: 6.1 | DH13: 5.9 | DL13: 5 | DN13: 4.8 | DO13: 6.3 | DP13: 4.3 | DQ13: 5.2 | DR13: 5.5 | DS13: 5 | DW13: 5.3 | DX13: 6.3 | DY13: 5.37 | EI13: 4.8 | EJ13: 6.3 | EK13: 4.3 | EL13: 5.2 | EM13: 5.5 | EN13: 5 | ER13: 5.3 | ES13: 6.3 | EU13: 4.3 | EV13: 4.6 | EW13: 6 | EX13: 5.1 | EY13: 5 | EZ13: 6.4 | FA13: 6.1 | FD13: 4.2 | FG13: 5.3 | FI13: 5.7 | FJ13: 6.1 | FL13: 5.9 | FP13: 5 | FR13: 4.8 | FS13: 6.3 | FT13: 4.3 | FU13: 5.2 | FV13: 5.5 | FW13: 5 | GA13: 5.3 | GB13: 6.3 | GC13: 5.37
A14: 4 | B14: 13D301Đ017 | C14: Trần Văn | D14: Chinh | F14: 1 | G14: 2 | H14: 3.8 | I14: 4.9 | L14: 8 | M14: 7.3 | P14: 4.4 | Q14: 4.8 | T14: 5 | U14: 4.9 | X14: 6 | Y14: 5.5 | AB14: 4.5 | AC14: 4.4 | AS14: 6.5 | AW14: 6.5 | AZ14: 5.65 | BB14: 50 | BC14: TB | BG14: 18 | BH14: 0 | BI14: 18 | BJ14: 0 | BK14: 5.82 | BL14: BT | BM14: 5.82 | BN14: BT | BP14: 55 | BQ14: 2 | BR14: 3 | BS14: 3.8 | BT14: 8 | BU14: 4.4 | BV14: 5 | BW14: 6 | BX14: 4.5 | CB14: 6.5 | CC14: 6.5 | CD14: 0 | CE14: 4.9 | CF14: 7.3 | CG14: 4.8 | CH14: 4.9 | CI14: 5.5 | CJ14: 4.4 | CN14: 6.5 | CO14: 6.5 | CP14: 5.65 | CQ14: 5.5 | CR14: 6.4 | CS14: 6 | CT14: 5.8 | CU14: 5.4 | CV14: 6.5 | CW14: 5.7 | CZ14: 5.6 | DA14: 4.8 | DC14: 6 | DD14: 5.4 | DE14: 6.8 | DF14: 6.9 | DH14: 6 | DL14: 5.7 | DN14: 4.9 | DO14: 7.3 | DP14: 4.8 | DQ14: 4.9 | DR14: 5.5 | DS14: 4.4 | DW14: 6.5 | DX14: 6.5 | DY14: 5.82 | EI14: 4.9 | EJ14: 7.3 | EK14: 4.8 | EL14: 4.9 | EM14: 5.5 | EN14: 4.4 | ER14: 6.5 | ES14: 6.5 | EU14: 5.5 | EV14: 6.4 | EW14: 6 | EX14: 5.8 | EY14: 5.4 | EZ14: 6.5 | FA14: 5.7 | FD14: 5.6 | FE14: 4.8 | FG14: 6 | FH14: 5.4 | FI14: 6.8 | FJ14: 6.9 | FL14: 6 | FP14: 5.7 | FR14: 4.9 | FS14: 7.3 | FT14: 4.8 | FU14: 4.9 | FV14: 5.5 | FW14: 4.4 | GA14: 6.5 | GB14: 6.5 | GC14: 5.82
A15: 5 | B15: 13D301Đ021 | C15: Nguyễn Chí | D15: Cường | G15: 2 | H15: 3.9 | I15: 4.6 | L15: 7 | M15: 6.2 | P15: 3.1 | Q15: 4.7 | T15: 2.5 | U15: 3.8 | V15: 4.5 | W15: 4.8 | X15: 7.5 | Y15: 5.5 | AB15: 0 | AC15: 2.4 | AD15: 3 | AE15: 3.9 | AS15: 5.5 | AW15: 5.8 | AZ15: 4.88 | BA15: 5.16 | BB15: 50 | BC15: TBY | BD15: TBY | BG15: 14 | BH15: 4 | BI15: 16 | BJ15: 2 | BK15: 6.05 | BL15: BT | BM15: 6.01 | BN15: BT | BP15: 55 | BQ15: 2 | BR15: 4 | BS15: 3.9 | BT15: 7 | BU15: 3.1 | BV15: 2.5 | BW15: 7.5 | BX15: 0 | CB15: 5.5 | CC15: 5.8 | CD15: 2 | CE15: 4.6 | CF15: 6.2 | CG15: 4.7 | CH15: 3.8 | CI15: 5.5 | CJ15: 2.4 | CN15: 5.5 | CO15: 5.8 | CP15: 4.88 | CQ15: 7.1 | CR15: 6.5 | CS15: 5.6 | CT15: 6.9 | CU15: 5.8 | CV15: 5.9 | CW15: 5 | CZ15: 7.1 | DA15: 5.7 | DC15: 6.8 | DD15: 6.1 | DE15: 7 | DF15: 7.4 | DG15: 5.3 | DH15: 7.3 | DL15: 5.8 | DN15: 4.6 | DO15: 6.2 | DP15: 4.7 | DR15: 5.5 | DW15: 5.5 | DX15: 5.8 | DY15: 6.05 | EC15: 4.8 | EE15: 3.9 | EI15: 4.6 | EJ15: 6.2 | EK15: 4.7 | EL15: 4.8 | EM15: 5.5 | EN15: 3.9 | ER15: 5.5 | ES15: 5.8 | ET15: 5.16 | EU15: 7.1 | EV15: 6.5 | EW15: 5.6 | EX15: 6.9 | EY15: 5.8 | EZ15: 5.9 | FA15: 5 | FD15: 7.1 | FE15: 5.7 | FG15: 6.8 | FH15: 6.1 | FI15: 7 | FJ15: 7.4 | FK15: 5.3 | FL15: 7.3 | FP15: 5.8 | FR15: 4.6 | FS15: 6.2 | FT15: 4.7 | FU15: 4.8 | FV15: 5.5 | GA15: 5.5 | GB15: 5.8 | GC15: 6.01
A16: 6 | B16: 13D301Đ025 | C16: Nguyễn Ngọc | D16: Dũng | G16: 3 | H16: 3.3 | I16: 4.3 | L16: 5.8 | M16: 4.8 | P16: 3 | Q16: 4 | T16: 4.8 | U16: 3.6 | V16: 5 | W16: 3.7 | X16: 7.5 | Y16: 6.4 | AB16: 5 | AC16: 5.2 | AS16: 6.5 | AW16: 6.3 | AZ16: 5.06 | BA16: 5.07 | BB16: 53 | BC16: TBY | BD16: TBY | BG16: 16 | BH16: 2 | BI16: 16 | BJ16: 2 | BK16: 5.34 | BL16: Y | BM16: 5.34 | BN16: Y | BP16: 55 | BQ16: 2 | BR16: 3 | BS16: 3.3 | BT16: 5.8 | BU16: 3 | BV16: 4.8 | BW16: 7.5 | BX16: 5 | CB16: 6.5 | CC16: 6.3 | CD16: 1 | CE16: 4.3 | CF16: 4.8 | CG16: 4 | CH16: 3.6 | CI16: 6.4 | CJ16: 5.2 | CN16: 6.5 | CO16: 6.3 | CP16: 5.06 | CQ16: 5.4 | CR16: 5.4 | CS16: 5.5 | CT16: 5.3 | CU16: 5.1 | CV16: 4.9 | CW16: 5.1 | CZ16: 5.7 | DA16: 5.7 | DC16: 5.5 | DD16: 4.9 | DE16: 5.5 | DF16: 5.9 | DG16: 4.2 | DH16: 7 | DL16: 5.7 | DN16: 4.3 | DO16: 4.8 | DP16: 4 | DR16: 6.4 | DS16: 5.2 | DW16: 6.5 | DX16: 6.3 | DY16: 5.34 | EC16: 3.7 | EI16: 4.3 | EJ16: 4.8 | EK16: 4 | EL16: 3.7 | EM16: 6.4 | EN16: 5.2 | ER16: 6.5 | ES16: 6.3 | ET16: 5.07 | EU16: 5.4 | EV16: 5.4 | EW16: 5.5 | EX16: 5.3 | EY16: 5.1 | EZ16: 4.9 | FA16: 5.1 | FD16: 5.7 | FE16: 5.7 | FG16: 5.5 | FH16: 4.9 | FI16: 5.5 | FJ16: 5.9 | FK16: 4.2 | FL16: 7 | FP16: 5.7 | FR16: 4.3 | FS16: 4.8 | FT16: 4 | FV16: 6.4 | FW16: 5.2 | GA16: 6.5 | GB16: 6.3 | GC16: 5.34
A17: 7 | B17: 13D301Đ033 | C17: Trương Văn | D17: Đạt | G17: 6 | H17: 3.5 | I17: 4.9 | L17: 7 | M17: 7.4 | P17: 5.1 | Q17: 5.5 | T17: 5.8 | U17: 5.6 | X17: 5 | Y17: 6.1 | AB17: 3.5 | AC17: 4.8 | AS17: 6 | AW17: 6.3 | AZ17: 5.89 | BB17: 50 | BC17: TB | BG17: 18 | BH17: 0 | BI17: 18 | BJ17: 0 | BK17: 6.04 | BL17: BT | BM17: 6.04 | BN17: BT | BP17: 57 | BQ17: 0 | BR17: 2 | BS17: 3.5 | BT17: 7 | BU17: 5.1 | BV17: 5.8 | BW17: 5 | BX17: 3.5 | CB17: 6 | CC17: 6.3 | CD17: 0 | CE17: 4.9 | CF17: 7.4 | CG17: 5.5 | CH17: 5.6 | CI17: 6.1 | CJ17: 4.8 | CN17: 6 | CO17: 6.3 | CP17: 5.89 | CQ17: 5.4 | CR17: 8.1 | CS17: 5.4 | CT17: 6.1 | CU17: 5.9 | CV17: 5.3 | CW17: 6.6 | CZ17: 6.8 | DA17: 5.6 | DB17: 6.8 | DC17: 6.1 | DE17: 6.8 | DF17: 5.7 | DG17: 5.4 | DH17: 6.1 | DL17: 6.6 | DN17: 4.9 | DO17: 7.4 | DP17: 5.5 | DQ17: 5.6 | DR17: 6.1 | DS17: 4.8 | DW17: 6 | DX17: 6.3 | DY17: 6.04 | EI17: 4.9 | EJ17: 7.4 | EK17: 5.5 | EL17: 5.6 | EM17: 6.1 | EN17: 4.8 | ER17: 6 | ES17: 6.3 | EU17: 5.4 | EV17: 8.1 | EW17: 5.4 | EX17: 6.1 | EY17: 5.9 | EZ17: 5.3 | FA17: 6.6 | FD17: 6.8 | FE17: 5.6 | FF17: 6.8 | FG17: 6.1 | FI17: 6.8 | FJ17: 5.7 | FK17: 5.4 | FL17: 6.1 | FP17: 6.6 | FR17: 4.9 | FS17: 7.4 | FT17: 5.5 | FU17: 5.6 | FV17: 6.1 | FW17: 4.8 | GA17: 6 | GB17: 6.3 | GC17: 6.04
A18: 8 | B18: 13D301Đ037 | C18: Nguyễn Thành | D18: Đông | G18: 1 | H18: 3 | I18: 4.4 | L18: 5.8 | M18: 6.4 | P18: 4.1 | Q18: 5.1 | T18: 5.8 | U18: 6.3 | X18: 5.3 | Y18: 5 | AB18: 4.5 | AC18: 5.2 | AS18: 6.5 | AW18: 7 | AZ18: 5.74 | BB18: 54 | BC18: TB | BG18: 18 | BH18: 0 | BI18: 18 | BJ18: 0 | BK18: 5.78 | BL18: BT | BM18: 5.78 | BN18: BT | BP18: 57 | BQ18: 0 | BR18: 3 | BS18: 3 | BT18: 5.8 | BU18: 4.1 | BV18: 5.8 | BW18: 5.3 | BX18: 4.5 | CB18: 6.5 | CC18: 7 | CD18: 0 | CE18: 4.4 | CF18: 6.4 | CG18: 5.1 | CH18: 6.3 | CI18: 5 | CJ18: 5.2 | CN18: 6.5 | CO18: 7 | CP18: 5.74 | CQ18: 6 | CR18: 6.1 | CS18: 7.3 | CT18: 5.5 | CU18: 5.4 | CV18: 5 | CW18: 6.2 | CZ18: 6.1 | DA18: 6.2 | DB18: 5.9 | DD18: 6.5 | DE18: 6.1 | DF18: 6.2 | DG18: 4.2 | DH18: 5.2 | DL18: 5.7 | DN18: 4.4 | DO18: 6.4 | DP18: 5.1 | DQ18: 6.3 | DR18: 5 | DS18: 5.2 | DW18: 6.5 | DX18: 7 | DY18: 5.78 | EI18: 4.4 | EJ18: 6.4 | EK18: 5.1 | EL18: 6.3 | EM18: 5 | EN18: 5.2 | ER18: 6.5 | ES18: 7 | EU18: 6 | EV18: 6.1 | EW18: 7.3 | EX18: 5.5 | EY18: 5.4 | EZ18: 5 | FA18: 6.2 | FD18: 6.1 | FE18: 6.2 | FF18: 5.9 | FH18: 6.5 | FI18: 6.1 | FJ18: 6.2 | FK18: 4.2 | FL18: 5.2 | FP18: 5.7 | FR18: 4.4 | FS18: 6.4 | FT18: 5.1 | FU18: 6.3 | FV18: 5 | FW18: 5.2 | GA18: 6.5 | GB18: 7 | GC18: 5.78
A19: 9 | B19: 13D301Đ041 | C19: Lê Hoàng | D19: Giang | G19: 3 | H19: 2.9 | I19: 4.8 | L19: 5.8 | M19: 5.7 | P19: 3.5 | Q19: 4.2 | T19: 3.3 | U19: 4.1 | X19: 6.5 | Y19: 4.1 | AB19: 0.5 | AC19: 2.6 | AD19: 2.8 | AE19: 3.7 | AS19: 4.5 | AW19: 6.8 | AZ19: 4.64 | BA19: 4.76 | BB19: 50 | BC19: TBY | BD19: TBY | BG19: 16 | BH19: 2 | BI19: 16 | BJ19: 2 | BK19: 5.46 | BL19: Y | BM19: 5.46 | BN19: Y | BP19: 51 | BQ19: 6 | BR19: 5 | BS19: 2.9 | BT19: 5.8 | BU19: 3.5 | BV19: 3.3 | BW19: 6.5 | BX19: 0.5 | CB19: 4.5 | CC19: 6.8 | CD19: 1 | CE19: 4.8 | CF19: 5.7 | CG19: 4.2 | CH19: 4.1 | CI19: 4.1 | CJ19: 2.6 | CN19: 4.5 | CO19: 6.8 | CP19: 4.64 | CQ19: 5.9 | CR19: 5.8 | CS19: 5 | CT19: 5.5 | CU19: 5.2 | CV19: 6.7 | CW19: 6.6 | DA19: 4.7 | DC19: 5.8 | DD19: 4.5 | DE19: 5.8 | DF19: 5.6 | DH19: 5.9 | DL19: 6.3 | DN19: 4.8 | DO19: 5.7 | DP19: 4.2 | DQ19: 4.1 | DR19: 4.1 | DW19: 4.5 | DX19: 6.8 | DY19: 5.46 | EE19: 3.7 | EI19: 4.8 | EJ19: 5.7 | EK19: 4.2 | EL19: 4.1 | EM19: 4.1 | EN19: 3.7 | ER19: 4.5 | ES19: 6.8 | ET19: 4.76 | EU19: 5.9 | EV19: 5.8 | EW19: 5 | EX19: 5.5 | EY19: 5.2 | EZ19: 6.7 | FA19: 6.6 | FE19: 4.7 | FG19: 5.8 | FH19: 4.5 | FI19: 5.8 | FJ19: 5.6 | FL19: 5.9 | FP19: 6.3 | FR19: 4.8 | FS19: 5.7 | FT19: 4.2 | FU19: 4.1 | FV19: 4.1 | GA19: 4.5 | GB19: 6.8 | GC19: 5.46
A20: 10 | B20: 13D301Đ045 | C20: Lê Công | D20: Hậu | G20: 3 | H20: 2.9 | I20: 4.3 | L20: 5.8 | M20: 6 | P20: 2.1 | Q20: 3.1 | R20: 4.7 | S20: 4.4 | T20: 2.3 | U20: 4.5 | X20: 6.8 | Y20: 7 | AB20: 2.5 | AC20: 3.7 | AD20: 2 | AE20: 3.7 | AS20: 6.8 | AW20: 8 | AZ20: 5.33 | BA20: 5.54 | BB20: 51 | BC20: TBY | BD20: TB | BG20: 13 | BH20: 5 | BI20: 16 | BJ20: 2 | BK20: 5.98 | BL20: BT | BM20: 5.89 | BN20: BT | BP20: 53 | BQ20: 4 | BR20: 4 | BS20: 2.9 | BT20: 5.8 | BU20: 2.1 | BV20: 2.3 | BW20: 6.8 | BX20: 2.5 | CB20: 6.8 | CC20: 8 | CD20: 2 | CE20: 4.3 | CF20: 6 | CG20: 3.1 | CH20: 4.5 | CI20: 7 | CJ20: 3.7 | CN20: 6.8 | CO20: 8 | CP20: 5.33 | CQ20: 5 | CR20: 5.5 | CS20: 5 | CT20: 5.2 | CU20: 5.9 | CV20: 6.8 | CW20: 6.4 | CZ20: 5.5 | DA20: 5.4 | DC20: 6.1 | DD20: 5.7 | DE20: 7.1 | DF20: 6 | DH20: 6.4 | DL20: 6.8 | DN20: 4.3 | DO20: 6 | DQ20: 4.5 | DR20: 7 | DW20: 6.8 | DX20: 8 | DY20: 5.98 | EB20: 4.4 | EE20: 3.7 | EI20: 4.3 | EJ20: 6 | EK20: 4.4 | EL20: 4.5 | EM20: 7 | EN20: 3.7 | ER20: 6.8 | ES20: 8 | ET20: 5.54 | EU20: 5 | EV20: 5.5 | EW20: 5 | EX20: 5.2 | EY20: 5.9 | EZ20: 6.8 | FA20: 6.4 | FD20: 5.5 | FE20: 5.4 | FG20: 6.1 | FH20: 5.7 | FI20: 7.1 | FJ20: 6 | FL20: 6.4 | FP20: 6.8 | FR20: 4.3 | FS20: 6 | FT20: 4.4 | FU20: 4.5 | FV20: 7 | GA20: 6.8 | GB20: 8 | GC20: 5.89
A21: 11 | B21: 13D301Đ049 | C21: Lê Minh | D21: Hiếu | G21: 2 | H21: 2.6 | I21: 4.3 | L21: 6.3 | M21: 6.2 | P21: 4.3 | Q21: 5.1 | T21: 3.5 | U21: 4.3 | X21: 7.5 | Y21: 5.7 | AB21: 4 | AC21: 4.9 | AS21: 5 | AW21: 6 | AZ21: 5.24 | BB21: 53 | BC21: TBY | BG21: 18 | BH21: 0 | BI21: 18 | BJ21: 0 | BK21: 5.57 | BL21: BT | BM21: 5.57 | BN21: BT | BP21: 55 | BQ21: 2 | BR21: 4 | BS21: 2.6 | BT21: 6.3 | BU21: 4.3 | BV21: 3.5 | BW21: 7.5 | BX21: 4 | CB21: 5 | CC21: 6 | CD21: 0 | CE21: 4.3 | CF21: 6.2 | CG21: 5.1 | CH21: 4.3 | CI21: 5.7 | CJ21: 4.9 | CN21: 5 | CO21: 6 | CP21: 5.24 | CQ21: 5.2 | CR21: 6.8 | CS21: 6.1 | CT21: 5.9 | CU21: 5 | CV21: 5.5 | CZ21: 5.5 | DA21: 4.8 | DC21: 8.7 | DD21: 5.4 | DE21: 6 | DF21: 6.3 | DG21: 4.5 | DH21: 6.2 | DL21: 5 | DN21: 4.3 | DO21: 6.2 | DP21: 5.1 | DQ21: 4.3 | DR21: 5.7 | DS21: 4.9 | DW21: 5 | DX21: 6 | DY21: 5.57 | EI21: 4.3 | EJ21: 6.2 | EK21: 5.1 | EL21: 4.3 | EM21: 5.7 | EN21: 4.9 | ER21: 5 | ES21: 6 | EU21: 5.2 | EV21: 6.8 | EW21: 6.1 | EX21: 5.9 | EY21: 5 | EZ21: 5.5 | FD21: 5.5 | FE21: 4.8 | FG21: 8.7 | FH21: 5.4 | FI21: 6 | FJ21: 6.3 | FK21: 4.5 | FL21: 6.2 | FP21: 5 | FR21: 4.3 | FS21: 6.2 | FT21: 5.1 | FU21: 4.3 | FV21: 5.7 | FW21: 4.9 | GA21: 5 | GB21: 6 | GC21: 5.57
A22: 12 | B22: 13D301Đ053 | C22: Nguyễn Ngọc | D22: Hoài | G22: 0 | H22: 3.4 | I22: 5 | L22: 6 | M22: 6.4 | P22: 5.1 | Q22: 5.5 | T22: 5.3 | U22: 5.4 | X22: 7.5 | Y22: 6.3 | AB22: 3.5 | AC22: 4.7 | AS22: 7 | AW22: 8.3 | AZ22: 6.06 | BB22: 63 | BC22: TB | BG22: 18 | BH22: 0 | BI22: 18 | BJ22: 0 | BK22: 6.41 | BL22: BT | BM22: 6.41 | BN22: BT | BP22: 57 | BQ22: 0 | BR22: 2 | BS22: 3.4 | BT22: 6 | BU22: 5.1 | BV22: 5.3 | BW22: 7.5 | BX22: 3.5 | CB22: 7 | CC22: 8.3 | CD22: 0 | CE22: 5 | CF22: 6.4 | CG22: 5.5 | CH22: 5.4 | CI22: 6.3 | CJ22: 4.7 | CN22: 7 | CO22: 8.3 | CP22: 6.06 | CQ22: 6.3 | CR22: 6.2 | CS22: 5.7 | CT22: 6 | CU22: 5.9 | CV22: 6.7 | CW22: 6.8 | CZ22: 6.9 | DA22: 5.2 | DB22: 7.9 | DD22: 6.4 | DE22: 7.2 | DF22: 6.5 | DG22: 7.2 | DH22: 6.9 | DL22: 8.6 | DN22: 5 | DO22: 6.4 | DP22: 5.5 | DQ22: 5.4 | DR22: 6.3 | DS22: 4.7 | DW22: 7 | DX22: 8.3 | DY22: 6.41 | EI22: 5 | EJ22: 6.4 | EK22: 5.5 | EL22: 5.4 | EM22: 6.3 | EN22: 4.7 | ER22: 7 | ES22: 8.3 | EU22: 6.3 | EV22: 6.2 | EW22: 5.7 | EX22: 6 | EY22: 5.9 | EZ22: 6.7 | FA22: 6.8 | FD22: 6.9 | FE22: 5.2 | FF22: 7.9 | FH22: 6.4 | FI22: 7.2 | FJ22: 6.5 | FK22: 7.2 | FL22: 6.9 | FP22: 8.6 | FR22: 5 | FS22: 6.4 | FT22: 5.5 | FU22: 5.4 | FV22: 6.3 | FW22: 4.7 | GA22: 7 | GB22: 8.3 | GC22: 6.41
A23: 13 | B23: 13D301Đ057 | C23: Trịnh Thanh | D23: Hoàng | G23: 0 | H23: 2.9 | I23: 4.5 | L23: 7.3 | M23: 6.9 | P23: 5.6 | Q23: 6.4 | T23: 6.3 | U23: 6 | X23: 7.5 | Y23: 6.4 | AB23: 8 | AC23: 6.4 | AS23: 5.8 | AW23: 7.5 | AZ23: 6.28 | BB23: 64 | BC23: TB | BG23: 18 | BH23: 0 | BI23: 18 | BJ23: 0 | BK23: 6.78 | BL23: BT | BM23: 6.78 | BN23: BT | BP23: 57 | BQ23: 0 | BR23: 1 | BS23: 2.9 | BT23: 7.3 | BU23: 5.6 | BV23: 6.3 | BW23: 7.5 | BX23: 8 | CB23: 5.8 | CC23: 7.5 | CD23: 0 | CE23: 4.5 | CF23: 6.9 | CG23: 6.4 | CH23: 6 | CI23: 6.4 | CJ23: 6.4 | CN23: 5.8 | CO23: 7.5 | CP23: 6.28 | CQ23: 6.2 | CR23: 8.4 | CS23: 7.7 | CT23: 6.9 | CU23: 6.2 | CV23: 7 | CW23: 8.1 | CZ23: 6.5 | DA23: 5.7 | DC23: 8.4 | DD23: 8.2 | DE23: 7.9 | DF23: 7.3 | DG23: 5.4 | DH23: 6.8 | DL23: 6.2 | DN23: 4.5 | DO23: 6.9 | DP23: 6.4 | DQ23: 6 | DR23: 6.4 | DS23: 6.4 | DW23: 5.8 | DX23: 7.5 | DY23: 6.78 | EI23: 4.5 | EJ23: 6.9 | EK23: 6.4 | EL23: 6 | EM23: 6.4 | EN23: 6.4 | ER23: 5.8 | ES23: 7.5 | EU23: 6.2 | EV23: 8.4 | EW23: 7.7 | EX23: 6.9 | EY23: 6.2 | EZ23: 7 | FA23: 8.1 | FD23: 6.5 | FE23: 5.7 | FG23: 8.4 | FH23: 8.2 | FI23: 7.9 | FJ23: 7.3 | FK23: 5.4 | FL23: 6.8 | FP23: 6.2 | FR23: 4.5 | FS23: 6.9 | FT23: 6.4 | FU23: 6 | FV23: 6.4 | FW23: 6.4 | GA23: 5.8 | GB23: 7.5 | GC23: 6.78
A24: 14 | B24: 13D301Đ061 | C24: Huỳnh Thanh | D24: Hùng | G24: 11 | P24: 4.7 | Q24: 4.9 | T24: 5.5 | U24: 5.1 | X24: 6 | Y24: 5.8 | AB24: 2.5 | AC24: 3.9 | AD24: 4 | AE24: 4.6 | AS24: 5.3 | AW24: 6 | AZ24: 5.15 | BA24: 3.79 | BB24: 45 | BC24: TBY | BD24: Kém | BG24: 11 | BH24: 2 | BI24: 13 | BJ24: 0 | BK24: 5.2 | BL24: Y | BM24: 5.18 | BN24: Y | BP24: 50 | BQ24: 2 | BR24: 2 | BU24: 4.7 | BV24: 5.5 | BW24: 6 | BX24: 2.5 | CB24: 5.3 | CC24: 6 | CD24: 1 | CG24: 4.9 | CH24: 5.1 | CI24: 5.8 | CJ24: 3.9 | CN24: 5.3 | CO24: 6 | CP24: 5.15 | CQ24: 4.8 | CR24: 5.4 | CS24: 5.1 | CT24: 4.6 | CU24: 4.5 | CV24: 5 | CW24: 5.8 | CZ24: 4.7 | DA24: 4.9 | DC24: 5.5 | DE24: 5.9 | DF24: 6 | DG24: 4.3 | DH24: 5.9 | DL24: 5.6 | DP24: 4.9 | DQ24: 5.1 | DR24: 5.8 | DW24: 5.3 | DX24: 6 | DY24: 5.2 | EE24: 4.6 | EK24: 4.9 | EL24: 5.1 | EM24: 5.8 | EN24: 4.6 | ER24: 5.3 | ES24: 6 | ET24: 3.79 | EU24: 4.8 | EV24: 5.4 | EW24: 5.1 | EX24: 4.6 | EY24: 4.5 | EZ24: 5 | FA24: 5.8 | FD24: 4.7 | FE24: 4.9 | FG24: 5.5 | FI24: 5.9 | FJ24: 6 | FK24: 4.3 | FL24: 5.9 | FP24: 5.6 | FT24: 4.9 | FU24: 5.1 | FV24: 5.8 | FW24: 4.6 | GA24: 5.3 | GB24: 6 | GC24: 5.18
A25: 15 | B25: 13D301Đ065 | C25: Đoàn Lê Xuân | D25: Huy | G25: 3 | H25: 3.8 | I25: 5.1 | L25: 7.3 | M25: 7.4 | P25: 6.1 | Q25: 6.2 | T25: 4.5 | U25: 4.8 | X25: 6 | Y25: 5.7 | AB25: 4.8 | AC25: 4.8 | AS25: 6 | AW25: 7 | AZ25: 5.98 | BB25: 50 | BC25: TB | BG25: 18 | BH25: 0 | BI25: 18 | BJ25: 0 | BK25: 5.65 | BL25: BT | BM25: 5.65 | BN25: BT | BP25: 53 | BQ25: 4 | BR25: 3 | BS25: 3.8 | BT25: 7.3 | BU25: 6.1 | BV25: 4.5 | BW25: 6 | BX25: 4.8 | CB25: 6 | CC25: 7 | CD25: 0 | CE25: 5.1 | CF25: 7.4 | CG25: 6.2 | CH25: 4.8 | CI25: 5.7 | CJ25: 4.8 | CN25: 6 | CO25: 7 | CP25: 5.98 | CQ25: 5.2 | CR25: 6.1 | CS25: 5 | CT25: 5.7 | CU25: 5.8 | CV25: 4.5 | CW25: 5.4 | CZ25: 4.1 | DA25: 4.2 | DC25: 7.3 | DE25: 6.7 | DF25: 5.8 | DH25: 6.3 | DL25: 6.3 | DN25: 5.1 | DO25: 7.4 | DP25: 6.2 | DQ25: 4.8 | DR25: 5.7 | DS25: 4.8 | DW25: 6 | DX25: 7 | DY25: 5.65 | EI25: 5.1 | EJ25: 7.4 | EK25: 6.2 | EL25: 4.8 | EM25: 5.7 | EN25: 4.8 | ER25: 6 | ES25: 7 | EU25: 5.2 | EV25: 6.1 | EW25: 5 | EX25: 5.7 | EY25: 5.8 | EZ25: 4.5 | FA25: 5.4 | FD25: 4.1 | FE25: 4.2 | FG25: 7.3 | FI25: 6.7 | FJ25: 5.8 | FL25: 6.3 | FP25: 6.3 | FR25: 5.1 | FS25: 7.4 | FT25: 6.2 | FU25: 4.8 | FV25: 5.7 | FW25: 4.8 | GA25: 6 | GB25: 7 | GC25: 5.65
A26: 16 | B26: 13D301Đ073 | C26: Trịnh Đại | D26: Lăng | G26: 0 | H26: 3.4 | I26: 4.7 | L26: 5.3 | M26: 5.1 | P26: 4.8 | Q26: 5.3 | T26: 0.8 | U26: 2.8 | V26: 4.5 | W26: 4.7 | X26: 5 | Y26: 4.3 | AB26: 6.3 | AC26: 4.9 | AS26: 4.5 | AW26: 7.3 | AZ26: 4.9 | BA26: 5.11 | BB26: 53 | BC26: TBY | BD26: TBY | BG26: 16 | BH26: 2 | BI26: 18 | BJ26: 0 | BK26: 5.64 | BL26: BT | BM26: 5.61 | BN26: BT | BP26: 57 | BQ26: 0 | BR26: 4 | BS26: 3.4 | BT26: 5.3 | BU26: 4.8 | BV26: 0.8 | BW26: 5 | BX26: 6.3 | CB26: 4.5 | CC26: 7.3 | CD26: 1 | CE26: 4.7 | CF26: 5.1 | CG26: 5.3 | CH26: 2.8 | CI26: 4.3 | CJ26: 4.9 | CN26: 4.5 | CO26: 7.3 | CP26: 4.9 | CQ26: 5.2 | CR26: 6 | CS26: 6.3 | CT26: 5.2 | CU26: 6.2 | CV26: 4.6 | CW26: 6.6 | CZ26: 6.4 | DA26: 5.7 | DC26: 7.8 | DD26: 5.4 | DE26: 7.2 | DF26: 6 | DG26: 4.7 | DH26: 7 | DL26: 5.1 | DN26: 4.7 | DO26: 5.1 | DP26: 5.3 | DR26: 4.3 | DS26: 4.9 | DW26: 4.5 | DX26: 7.3 | DY26: 5.64 | EC26: 4.7 | EI26: 4.7 | EJ26: 5.1 | EK26: 5.3 | EL26: 4.7 | EM26: 4.3 | EN26: 4.9 | ER26: 4.5 | ES26: 7.3 | ET26: 5.11 | EU26: 5.2 | EV26: 6 | EW26: 6.3 | EX26: 5.2 | EY26: 6.2 | EZ26: 4.6 | FA26: 6.6 | FD26: 6.4 | FE26: 5.7 | FG26: 7.8 | FH26: 5.4 | FI26: 7.2 | FJ26: 6 | FK26: 4.7 | FL26: 7 | FP26: 5.1 | FR26: 4.7 | FS26: 5.1 | FT26: 5.3 | FU26: 4.7 | FV26: 4.3 | FW26: 4.9 | GA26: 4.5 | GB26: 7.3 | GC26: 5.61
A27: 17 | B27: 13D301Đ204 | C27: Nguyễn Khánh | D27: Linh | G27: 1 | H27: 4.5 | I27: 5.3 | L27: 5.8 | M27: 6.3 | P27: 6 | Q27: 6.7 | T27: 5.5 | U27: 5.8 | X27: 6.5 | Y27: 5.9 | AB27: 3 | AC27: 4.1 | AS27: 6.8 | AW27: 9 | AZ27: 6.27 | BB27: 54 | BC27: TB | BG27: 18 | BH27: 0 | BI27: 18 | BJ27: 0 | BK27: 6.7 | BL27: BT | BM27: 6.7 | BN27: BT | BP27: 57 | BQ27: 0 | BR27: 2 | BS27: 4.5 | BT27: 5.8 | BU27: 6 | BV27: 5.5 | BW27: 6.5 | BX27: 3 | CB27: 6.8 | CC27: 9 | CD27: 0 | CE27: 5.3 | CF27: 6.3 | CG27: 6.7 | CH27: 5.8 | CI27: 5.9 | CJ27: 4.1 | CN27: 6.8 | CO27: 9 | CP27: 6.27 | CQ27: 7.3 | CR27: 8.1 | CS27: 6.5 | CT27: 6 | CU27: 5.7 | CV27: 6.9 | CW27: 7.6 | CZ27: 7 | DA27: 5.9 | DB27: 6.2 | DC27: 8.5 | DE27: 7.4 | DF27: 7.7 | DG27: 6.7 | DH27: 6.2 | DL27: 7 | DN27: 5.3 | DO27: 6.3 | DP27: 6.7 | DQ27: 5.8 | DR27: 5.9 | DS27: 4.1 | DW27: 6.8 | DX27: 9 | DY27: 6.7 | EI27: 5.3 | EJ27: 6.3 | EK27: 6.7 | EL27: 5.8 | EM27: 5.9 | EN27: 4.1 | ER27: 6.8 | ES27: 9 | EU27: 7.3 | EV27: 8.1 | EW27: 6.5 | EX27: 6 | EY27: 5.7 | EZ27: 6.9 | FA27: 7.6 | FD27: 7 | FE27: 5.9 | FF27: 6.2 | FG27: 8.5 | FI27: 7.4 | FJ27: 7.7 | FK27: 6.7 | FL27: 6.2 | FP27: 7 | FR27: 5.3 | FS27: 6.3 | FT27: 6.7 | FU27: 5.8 | FV27: 5.9 | FW27: 4.1 | GA27: 6.8 | GB27: 9 | GC27: 6.7
A28: 18 | B28: 13D301Đ162 | C28: Đỗ Văn | D28: Lượng | G28: 5 | H28: 3.1 | I28: 4 | L28: 5.8 | M28: 6.1 | P28: 4.9 | Q28: 4.9 | T28: 1.5 | U28: 3.5 | V28: 4.8 | W28: 5.1 | X28: 6.5 | Y28: 5.1 | AB28: 2 | AC28: 3.3 | AD28: 3.8 | AE28: 4.2 | AS28: 6 | AW28: 7.5 | AZ28: 5.1 | BA28: 5.38 | BB28: 50 | BC28: TBY | BD28: TBY | BG28: 14 | BH28: 4 | BI28: 18 | BJ28: 0 | BK28: 5.77 | BL28: BT | BM28: 5.69 | BN28: BT | BP28: 55 | BQ28: 2 | BR28: 4 | BS28: 3.1 | BT28: 5.8 | BU28: 4.9 | BV28: 1.5 | BW28: 6.5 | BX28: 2 | CB28: 6 | CC28: 7.5 | CD28: 2 | CE28: 4 | CF28: 6.1 | CG28: 4.9 | CH28: 3.5 | CI28: 5.1 | CJ28: 3.3 | CN28: 6 | CO28: 7.5 | CP28: 5.1 | CQ28: 5.1 | CR28: 8.3 | CS28: 5 | CT28: 6.4 | CU28: 4.4 | CV28: 5 | CW28: 5.4 | CZ28: 7 | DA28: 4.5 | DC28: 6.7 | DD28: 5.3 | DE28: 6.8 | DF28: 5.6 | DH28: 7.4 | DL28: 6.6 | DN28: 4 | DO28: 6.1 | DP28: 4.9 | DR28: 5.1 | DW28: 6 | DX28: 7.5 | DY28: 5.77 | EC28: 5.1 | EE28: 4.2 | EI28: 4 | EJ28: 6.1 | EK28: 4.9 | EL28: 5.1 | EM28: 5.1 | EN28: 4.2 | ER28: 6 | ES28: 7.5 | ET28: 5.38 | EU28: 5.1 | EV28: 8.3 | EW28: 5 | EX28: 6.4 | EY28: 4.4 | EZ28: 5 | FA28: 5.4 | FD28: 7 | FE28: 4.5 | FG28: 6.7 | FH28: 5.3 | FI28: 6.8 | FJ28: 5.6 | FL28: 7.4 | FP28: 6.6 | FR28: 4 | FS28: 6.1 | FT28: 4.9 | FU28: 5.1 | FV28: 5.1 | FW28: 4.2 | GA28: 6 | GB28: 7.5 | GC28: 5.69
A29: 19 | B29: 13D301Đ081 | C29: Mai Đình | D29: Luyện | G29: 17 | P29: 3.4 | Q29: 4.3 | T29: 2.8 | U29: 3.1 | V29: 4.3 | W29: 3.9 | X29: 5.8 | Y29: 4.4 | AB29: 1 | AC29: 2.3 | AD29: 4.3 | AE29: 4 | AS29: 5 | AW29: 6.5 | AZ29: 4.27 | BA29: 3.36 | BB29: 23 | BC29: TBY | BD29: Kém | BG29: 9 | BH29: 4 | BI29: 11 | BJ29: 2 | BK29: 5.34 | BL29: Y | BM29: 5.27 | BN29: Y | BP29: 39 | BQ29: 13 | BR29: 3 | BU29: 3.4 | BV29: 2.8 | BW29: 5.8 | BX29: 1 | CB29: 5 | CC29: 6.5 | CD29: 2 | CG29: 4.3 | CH29: 3.1 | CI29: 4.4 | CJ29: 2.3 | CN29: 5 | CO29: 6.5 | CP29: 4.27 | CQ29: 5.4 | CR29: 6.7 | CS29: 5.1 | CT29: 5.5 | CU29: 5 | CW29: 5.7 | DA29: 4.6 | DC29: 4.9 | DE29: 5.6 | DF29: 5.3 | DH29: 6.3 | DL29: 5.4 | DP29: 4.3 | DR29: 4.4 | DW29: 5 | DX29: 6.5 | DY29: 5.34 | EC29: 3.9 | EE29: 4 | EK29: 4.3 | EL29: 3.9 | EM29: 4.4 | EN29: 4 | ER29: 5 | ES29: 6.5 | ET29: 3.36 | EU29: 5.4 | EV29: 6.7 | EW29: 5.1 | EX29: 5.5 | EY29: 5 | FA29: 5.7 | FE29: 4.6 | FG29: 4.9 | FI29: 5.6 | FJ29: 5.3 | FL29: 6.3 | FP29: 5.4 | FT29: 4.3 | FV29: 4.4 | FW29: 4 | GA29: 5 | GB29: 6.5 | GC29: 5.27
A30: 20 | B30: 13D301Đ085 | C30: Võ Hoài | D30: Nam | G30: 5 | H30: 3.4 | I30: 5.7 | L30: 6.5 | M30: 6.3 | P30: 3.6 | Q30: 4.9 | T30: 3.3 | U30: 4.2 | X30: 4.5 | Y30: 5.3 | AB30: 2.5 | AC30: 3.5 | AD30: 5 | AE30: 4.7 | AS30: 6 | AW30: 7 | AZ30: 5.39 | BA30: 5.52 | BB30: 50 | BC30: TBY | BD30: TB | BG30: 16 | BH30: 2 | BI30: 18 | BJ30: 0 | BK30: 5.92 | BL30: BT | BM30: 5.88 | BN30: BT | BP30: 55 | BQ30: 2 | BR30: 5 | BS30: 3.4 | BT30: 6.5 | BU30: 3.6 | BV30: 3.3 | BW30: 4.5 | BX30: 2.5 | CB30: 6 | CC30: 7 | CD30: 1 | CE30: 5.7 | CF30: 6.3 | CG30: 4.9 | CH30: 4.2 | CI30: 5.3 | CJ30: 3.5 | CN30: 6 | CO30: 7 | CP30: 5.39 | CQ30: 5.3 | CR30: 6.9 | CS30: 5.9 | CT30: 4.6 | CU30: 5.9 | CV30: 5.6 | CW30: 6.1 | CZ30: 6.5 | DA30: 7.4 | DB30: 6.4 | DD30: 5.5 | DE30: 6.5 | DF30: 6.2 | DH30: 7 | DL30: 5 | DN30: 5.7 | DO30: 6.3 | DP30: 4.9 | DQ30: 4.2 | DR30: 5.3 | DW30: 6 | DX30: 7 | DY30: 5.92 | EE30: 4.7 | EI30: 5.7 | EJ30: 6.3 | EK30: 4.9 | EL30: 4.2 | EM30: 5.3 | EN30: 4.7 | ER30: 6 | ES30: 7 | ET30: 5.52 | EU30: 5.3 | EV30: 6.9 | EW30: 5.9 | EX30: 4.6 | EY30: 5.9 | EZ30: 5.6 | FA30: 6.1 | FD30: 6.5 | FE30: 7.4 | FF30: 6.4 | FH30: 5.5 | FI30: 6.5 | FJ30: 6.2 | FL30: 7 | FP30: 5 | FR30: 5.7 | FS30: 6.3 | FT30: 4.9 | FU30: 4.2 | FV30: 5.3 | FW30: 4.7 | GA30: 6 | GB30: 7 | GC30: 5.88
A31: 21 | B31: 13D301Đ089 | C31: Nguyễn Hữu | D31: Nghĩa | G31: 8 | H31: 2.6 | I31: 4 | L31: 5.8 | M31: 6.5 | P31: 5.1 | Q31: 5.7 | T31: 3.5 | U31: 4.4 | X31: 5.8 | Y31: 3.7 | Z31: 1 | AA31: 3.7 | AB31: 1 | AC31: 3.1 | AD31: 5 | AE31: 5.1 | AS31: 6.8 | AW31: 6.3 | AZ31: 5.18 | BA31: 5.4 | BB31: 50 | BC31: TBY | BD31: TBY | BG31: 14 | BH31: 4 | BI31: 16 | BJ31: 2 | BK31: 5.98 | BL31: BT | BM31: 5.94 | BN31: BT | BP31: 55 | BQ31: 2 | BR31: 3 | BS31: 2.6 | BT31: 5.8 | BU31: 5.1 | BV31: 3.5 | BW31: 5.8 | BX31: 1 | CB31: 6.8 | CC31: 6.3 | CD31: 2 | CE31: 4 | CF31: 6.5 | CG31: 5.7 | CH31: 4.4 | CI31: 3.7 | CJ31: 3.1 | CN31: 6.8 | CO31: 6.3 | CP31: 5.18 | CQ31: 6.3 | CR31: 6.4 | CS31: 5 | CT31: 5.4 | CU31: 6.5 | CV31: 6.5 | CW31: 5.8 | CZ31: 5 | DA31: 5.2 | DB31: 5.9 | DC31: 7.6 | DE31: 6.2 | DF31: 6.6 | DG31: 6 | DH31: 5.5 | DL31: 6.7 | DN31: 4 | DO31: 6.5 | DP31: 5.7 | DQ31: 4.4 | DW31: 6.8 | DX31: 6.3 | DY31: 5.98 | ED31: 3.7 | EE31: 5.1 | EI31: 4 | EJ31: 6.5 | EK31: 5.7 | EL31: 4.4 | EM31: 3.7 | EN31: 5.1 | ER31: 6.8 | ES31: 6.3 | ET31: 5.4 | EU31: 6.3 | EV31: 6.4 | EW31: 5 | EX31: 5.4 | EY31: 6.5 | EZ31: 6.5 | FA31: 5.8 | FD31: 5 | FE31: 5.2 | FF31: 5.9 | FG31: 7.6 | FI31: 6.2 | FJ31: 6.6 | FK31: 6 | FL31: 5.5 | FP31: 6.7 | FR31: 4 | FS31: 6.5 | FT31: 5.7 | FU31: 4.4 | FW31: 5.1 | GA31: 6.8 | GB31: 6.3 | GC31: 5.94
A32: 22 | B32: 13D301Đ097 | C32: Nguyễn Thành | D32: Phát | G32: 1 | H32: 3.3 | I32: 4.4 | L32: 5.8 | M32: 5.7 | P32: 3.9 | Q32: 5.2 | T32: 4.5 | U32: 4.2 | X32: 7.5 | Y32: 7.8 | AB32: 5 | AC32: 5.3 | AS32: 7.8 | AW32: 8 | AZ32: 5.98 | BB32: 61 | BC32: TB | BG32: 18 | BH32: 0 | BI32: 18 | BJ32: 0 | BK32: 6.32 | BL32: BT | BM32: 6.32 | BN32: BT | BP32: 57 | BQ32: 0 | BR32: 3 | BS32: 3.3 | BT32: 5.8 | BU32: 3.9 | BV32: 4.5 | BW32: 7.5 | BX32: 5 | CB32: 7.8 | CC32: 8 | CD32: 0 | CE32: 4.4 | CF32: 5.7 | CG32: 5.2 | CH32: 4.2 | CI32: 7.8 | CJ32: 5.3 | CN32: 7.8 | CO32: 8 | CP32: 5.98 | CQ32: 5.7 | CR32: 5 | CS32: 6.4 | CT32: 7 | CU32: 5.6 | CV32: 6.1 | CW32: 7.4 | CZ32: 5.3 | DA32: 5.4 | DC32: 8.2 | DD32: 7.2 | DE32: 7.3 | DF32: 7.6 | DG32: 7.4 | DH32: 7.6 | DL32: 7.2 | DN32: 4.4 | DO32: 5.7 | DP32: 5.2 | DQ32: 4.2 | DR32: 7.8 | DS32: 5.3 | DW32: 7.8 | DX32: 8 | DY32: 6.32 | EI32: 4.4 | EJ32: 5.7 | EK32: 5.2 | EL32: 4.2 | EM32: 7.8 | EN32: 5.3 | ER32: 7.8 | ES32: 8 | EU32: 5.7 | EV32: 5 | EW32: 6.4 | EX32: 7 | EY32: 5.6 | EZ32: 6.1 | FA32: 7.4 | FD32: 5.3 | FE32: 5.4 | FG32: 8.2 | FH32: 7.2 | FI32: 7.3 | FJ32: 7.6 | FK32: 7.4 | FL32: 7.6 | FP32: 7.2 | FR32: 4.4 | FS32: 5.7 | FT32: 5.2 | FU32: 4.2 | FV32: 7.8 | FW32: 5.3 | GA32: 7.8 | GB32: 8 | GC32: 6.32
A33: 23 | B33: 13D301Đ101 | C33: Huỳnh Thanh | D33: Phú | G33: 19 | H33: 0 | I33: 0 | L33: 0 | M33: 0 | P33: 2.8 | Q33: 3.7 | T33: 0 | U33: 0.5 | X33: 0 | Y33: 0.1 | AB33: 1 | AC33: 2.6 | AS33: 5.8 | AW33: 5 | AZ33: 2.17 | BB33: 31 | BC33: Kém | BF33: Cảnh Báo | BG33: 4 | BH33: 14 | BI33: 4 | BJ33: 14 | BK33: 5.53 | BL33: BT | BM33: 5.53 | BN33: BT | BP33: 41 | BQ33: 16 | BR33: 6 | BS33: 0 | BT33: 0 | BU33: 2.8 | BV33: 0 | BW33: 0 | BX33: 1 | CB33: 5.8 | CC33: 5 | CD33: 6 | CE33: 0 | CF33: 0 | CG33: 3.7 | CH33: 0.5 | CI33: 0.1 | CJ33: 2.6 | CN33: 5.8 | CO33: 5 | CP33: 2.17 | CQ33: 5 | CR33: 6.2 | CS33: 7.4 | CT33: 4.5 | CU33: 5.8 | CV33: 5.9 | CW33: 5.1 | CZ33: 5.2 | DA33: 4.1 | DC33: 5.1 | DD33: 4.9 | DE33: 5.9 | DF33: 5.9 | DH33: 6.4 | DL33: 5.8 | DW33: 5.8 | DX33: 5 | DY33: 5.53 | EI33: 0 | EJ33: 0 | EK33: 3.7 | EL33: 0.5 | EM33: 0.1 | EN33: 2.6 | ER33: 5.8 | ES33: 5 | EU33: 5 | EV33: 6.2 | EW33: 7.4 | EX33: 4.5 | EY33: 5.8 | EZ33: 5.9 | FA33: 5.1 | FD33: 5.2 | FE33: 4.1 | FG33: 5.1 | FH33: 4.9 | FI33: 5.9 | FJ33: 5.9 | FL33: 6.4 | FP33: 5.8 | GA33: 5.8 | GB33: 5 | GC33: 5.53
A34: 24 | B34: 13D301Đ117 | C34: Trịnh Ngọc | D34: Sơn | G34: 4 | H34: 1.9 | I34: 4.1 | L34: 6.8 | M34: 6 | P34: 3.7 | Q34: 4.5 | T34: 2 | U34: 3.2 | V34: 4.5 | W34: 4.5 | X34: 6 | Y34: 7.1 | AB34: 1.5 | AC34: 3.4 | AD34: 3.8 | AE34: 4.5 | AS34: 6.8 | AW34: 7 | AZ34: 5.26 | BA34: 5.53 | BB34: 50 | BC34: TBY | BD34: TB | BG34: 14 | BH34: 4 | BI34: 18 | BJ34: 0 | BK34: 5.74 | BL34: BT | BM34: 5.65 | BN34: BT | BP34: 57 | BQ34: 0 | BR34: 4 | BS34: 1.9 | BT34: 6.8 | BU34: 3.7 | BV34: 2 | BW34: 6 | BX34: 1.5 | CB34: 6.8 | CC34: 7 | CD34: 2 | CE34: 4.1 | CF34: 6 | CG34: 4.5 | CH34: 3.2 | CI34: 7.1 | CJ34: 3.4 | CN34: 6.8 | CO34: 7 | CP34: 5.26 | CQ34: 5.9 | CR34: 6.7 | CS34: 5 | CT34: 5.5 | CU34: 5.4 | CV34: 5.1 | CW34: 5.6 | CZ34: 4.8 | DA34: 5.1 | DC34: 6.3 | DD34: 5.3 | DE34: 5.9 | DF34: 6.1 | DG34: 5.3 | DH34: 6.6 | DL34: 7.5 | DN34: 4.1 | DO34: 6 | DP34: 4.5 | DR34: 7.1 | DW34: 6.8 | DX34: 7 | DY34: 5.74 | EC34: 4.5 | EE34: 4.5 | EI34: 4.1 | EJ34: 6 | EK34: 4.5 | EL34: 4.5 | EM34: 7.1 | EN34: 4.5 | ER34: 6.8 | ES34: 7 | ET34: 5.53 | EU34: 5.9 | EV34: 6.7 | EW34: 5 | EX34: 5.5 | EY34: 5.4 | EZ34: 5.1 | FA34: 5.6 | FD34: 4.8 | FE34: 5.1 | FG34: 6.3 | FH34: 5.3 | FI34: 5.9 | FJ34: 6.1 | FK34: 5.3 | FL34: 6.6 | FP34: 7.5 | FR34: 4.1 | FS34: 6 | FT34: 4.5 | FU34: 4.5 | FV34: 7.1 | FW34: 4.5 | GA34: 6.8 | GB34: 7 | GC34: 5.65
A35: 25 | B35: 13D301Đ121 | C35: Lê Minh | D35: Tâm | G35: 3 | H35: 2.5 | I35: 4.3 | L35: 6 | M35: 5.8 | P35: 1.8 | Q35: 3 | R35: 1.9 | S35: 3 | T35: 0.5 | U35: 1.6 | V35: 3.3 | W35: 3 | X35: 4 | Y35: 3.9 | Z35: 2.3 | AA35: 3.9 | AB35: 1.5 | AC35: 3.2 | AD35: 2 | AE35: 3.4 | AS35: 6 | AW35: 7.3 | AZ35: 4.39 | BA35: 4.57 | BB35: 66 | BC35: TBY | BD35: TBY | BG35: 9 | BH35: 9 | BI35: 9 | BJ35: 9 | BK35: 5.8 | BL35: BT | BM35: 5.8 | BN35: BT | BP35: 46 | BQ35: 11 | BR35: 5 | BS35: 2.5 | BT35: 6 | BU35: 1.8 | BV35: 0.5 | BW35: 4 | BX35: 1.5 | CB35: 6 | CC35: 7.3 | CD35: 4 | CE35: 4.3 | CF35: 5.8 | CG35: 3 | CH35: 1.6 | CI35: 3.9 | CJ35: 3.2 | CN35: 6 | CO35: 7.3 | CP35: 4.39 | CQ35: 5.9 | CR35: 5.1 | CS35: 5 | CT35: 5.8 | CU35: 6.4 | CV35: 5.2 | CW35: 5.8 | CZ35: 4.6 | DA35: 5.2 | DB35: 5.7 | DC35: 6.6 | DE35: 6 | DF35: 6.9 | DH35: 6 | DL35: 7.7 | DN35: 4.3 | DO35: 5.8 | DW35: 6 | DX35: 7.3 | DY35: 5.8 | EB35: 3 | EC35: 3 | ED35: 3.9 | EE35: 3.4 | EI35: 4.3 | EJ35: 5.8 | EK35: 3 | EL35: 3 | EM35: 3.9 | EN35: 3.4 | ER35: 6 | ES35: 7.3 | ET35: 4.57 | EU35: 5.9 | EV35: 5.1 | EW35: 5 | EX35: 5.8 | EY35: 6.4 | EZ35: 5.2 | FA35: 5.8 | FD35: 4.6 | FE35: 5.2 | FF35: 5.7 | FG35: 6.6 | FI35: 6 | FJ35: 6.9 | FL35: 6 | FP35: 7.7 | FR35: 4.3 | FS35: 5.8 | GA35: 6 | GB35: 7.3 | GC35: 5.8
A36: 26 | B36: 13D301Đ124 | C36: Cao Nguyễn Nhật | D36: Tân | G36: 1 | H36: 2.4 | I36: 4.3 | L36: 6 | M36: 6.7 | P36: 6.1 | Q36: 6.2 | T36: 4.5 | U36: 4.6 | X36: 7 | Y36: 5.9 | AB36: 6.3 | AC36: 5.8 | AS36: 6.8 | AW36: 6.5 | AZ36: 5.92 | BB36: 61 | BC36: TB | BG36: 18 | BH36: 0 | BI36: 18 | BJ36: 0 | BK36: 5.88 | BL36: BT | BM36: 5.88 | BN36: BT | BP36: 57 | BQ36: 0 | BR36: 2 | BS36: 2.4 | BT36: 6 | BU36: 6.1 | BV36: 4.5 | BW36: 7 | BX36: 6.3 | CB36: 6.8 | CC36: 6.5 | CD36: 0 | CE36: 4.3 | CF36: 6.7 | CG36: 6.2 | CH36: 4.6 | CI36: 5.9 | CJ36: 5.8 | CN36: 6.8 | CO36: 6.5 | CP36: 5.92 | CQ36: 5.2 | CR36: 5.4 | CS36: 6.3 | CT36: 7 | CU36: 6.7 | CV36: 4.3 | CW36: 5 | CZ36: 4.8 | DA36: 5.3 | DB36: 6.2 | DC36: 7.8 | DE36: 6.8 | DF36: 6.8 | DG36: 5.5 | DH36: 7.1 | DL36: 6.4 | DN36: 4.3 | DO36: 6.7 | DP36: 6.2 | DQ36: 4.6 | DR36: 5.9 | DS36: 5.8 | DW36: 6.8 | DX36: 6.5 | DY36: 5.88 | EI36: 4.3 | EJ36: 6.7 | EK36: 6.2 | EL36: 4.6 | EM36: 5.9 | EN36: 5.8 | ER36: 6.8 | ES36: 6.5 | EU36: 5.2 | EV36: 5.4 | EW36: 6.3 | EX36: 7 | EY36: 6.7 | EZ36: 4.3 | FA36: 5 | FD36: 4.8 | FE36: 5.3 | FF36: 6.2 | FG36: 7.8 | FI36: 6.8 | FJ36: 6.8 | FK36: 5.5 | FL36: 7.1 | FP36: 6.4 | FR36: 4.3 | FS36: 6.7 | FT36: 6.2 | FU36: 4.6 | FV36: 5.9 | FW36: 5.8 | GA36: 6.8 | GB36: 6.5 | GC36: 5.88
A37: 27 | B37: 13D301Đ130 | C37: Nguyễn Việt | D37: Thắng | G37: 6 | H37: 3 | I37: 4 | L37: 6.8 | M37: 6.2 | P37: 3.7 | Q37: 4.5 | T37: 1.3 | U37: 3 | V37: 4.5 | W37: 4.6 | X37: 7.5 | Y37: 5.3 | AB37: 5 | AC37: 4.8 | AS37: 4.8 | AW37: 6 | AZ37: 4.88 | BA37: 5.06 | BB37: 47 | BC37: TBY | BD37: TBY | BG37: 16 | BH37: 2 | BI37: 18 | BJ37: 0 | BK37: 5.62 | BL37: BT | BM37: 5.58 | BN37: BT | BP37: 57 | BQ37: 0 | BR37: 4 | BS37: 3 | BT37: 6.8 | BU37: 3.7 | BV37: 1.3 | BW37: 7.5 | BX37: 5 | CB37: 4.8 | CC37: 6 | CD37: 1 | CE37: 4 | CF37: 6.2 | CG37: 4.5 | CH37: 3 | CI37: 5.3 | CJ37: 4.8 | CN37: 4.8 | CO37: 6 | CP37: 4.88 | CQ37: 5.2 | CR37: 6.5 | CS37: 5.6 | CT37: 6 | CU37: 5.4 | CV37: 5 | CW37: 6.2 | CZ37: 6.1 | DA37: 5 | DC37: 7.3 | DD37: 5.6 | DE37: 5.4 | DF37: 7.1 | DG37: 5.6 | DH37: 6.7 | DL37: 6.3 | DN37: 4 | DO37: 6.2 | DP37: 4.5 | DR37: 5.3 | DS37: 4.8 | DW37: 4.8 | DX37: 6 | DY37: 5.62 | EC37: 4.6 | EI37: 4 | EJ37: 6.2 | EK37: 4.5 | EL37: 4.6 | EM37: 5.3 | EN37: 4.8 | ER37: 4.8 | ES37: 6 | ET37: 5.06 | EU37: 5.2 | EV37: 6.5 | EW37: 5.6 | EX37: 6 | EY37: 5.4 | EZ37: 5 | FA37: 6.2 | FD37: 6.1 | FE37: 5 | FG37: 7.3 | FH37: 5.6 | FI37: 5.4 | FJ37: 7.1 | FK37: 5.6 | FL37: 6.7 | FP37: 6.3 | FR37: 4 | FS37: 6.2 | FT37: 4.5 | FU37: 4.6 | FV37: 5.3 | FW37: 4.8 | GA37: 4.8 | GB37: 6 | GC37: 5.58
A38: 28 | B38: 13D301Đ133 | C38: Nguyễn Khắc | D38: Thành | G38: 0 | H38: 3.5 | I38: 4.8 | L38: 6 | M38: 5.2 | P38: 4.1 | Q38: 5.3 | T38: 0.5 | U38: 2.1 | V38: 5.5 | W38: 4.6 | X38: 4.3 | Y38: 3.1 | AB38: 1 | AC38: 3.1 | AD38: 2 | AE38: 3.6 | AS38: 6.3 | AW38: 6.5 | AZ38: 4.63 | BA38: 4.96 | BB38: 50 | BC38: TBY | BD38: TBY | BG38: 12 | BH38: 6 | BI38: 14 | BJ38: 4 | BK38: 5.74 | BL38: BT | BM38: 5.69 | BN38: BT | BP38: 53 | BQ38: 4 | BR38: 5 | BS38: 3.5 | BT38: 6 | BU38: 4.1 | BV38: 0.5 | BW38: 4.3 | BX38: 1 | CB38: 6.3 | CC38: 6.5 | CD38: 3 | CE38: 4.8 | CF38: 5.2 | CG38: 5.3 | CH38: 2.1 | CI38: 3.1 | CJ38: 3.1 | CN38: 6.3 | CO38: 6.5 | CP38: 4.63 | CQ38: 5.3 | CR38: 7 | CS38: 5 | CT38: 5.6 | CU38: 5.6 | CV38: 6 | CW38: 6.6 | CZ38: 5.7 | DA38: 4.7 | DC38: 6.5 | DD38: 5.8 | DE38: 6.5 | DF38: 5.7 | DG38: 5.1 | DH38: 5.9 | DL38: 5.6 | DN38: 4.8 | DO38: 5.2 | DP38: 5.3 | DW38: 6.3 | DX38: 6.5 | DY38: 5.74 | EC38: 4.6 | EE38: 3.6 | EI38: 4.8 | EJ38: 5.2 | EK38: 5.3 | EL38: 4.6 | EM38: 3.1 | EN38: 3.6 | ER38: 6.3 | ES38: 6.5 | ET38: 4.96 | EU38: 5.3 | EV38: 7 | EW38: 5 | EX38: 5.6 | EY38: 5.6 | EZ38: 6 | FA38: 6.6 | FD38: 5.7 | FE38: 4.7 | FG38: 6.5 | FH38: 5.8 | FI38: 6.5 | FJ38: 5.7 | FK38: 5.1 | FL38: 5.9 | FP38: 5.6 | FR38: 4.8 | FS38: 5.2 | FT38: 5.3 | FU38: 4.6 | GA38: 6.3 | GB38: 6.5 | GC38: 5.69
A39: 29 | B39: 13D301Đ136 | C39: Trần Minh | D39: Thanh | G39: 0 | H39: 3.6 | I39: 4.8 | L39: 6.8 | M39: 7.4 | P39: 7.1 | Q39: 6.5 | T39: 7.8 | U39: 7.7 | X39: 8 | Y39: 6.5 | AB39: 7 | AC39: 7.4 | AS39: 6.5 | AW39: 9 | AZ39: 6.97 | BB39: 62 | BC39: TB | BG39: 18 | BH39: 0 | BI39: 18 | BJ39: 0 | BK39: 7.43 | BL39: BT | BM39: 7.43 | BN39: BT | BP39: 57 | BQ39: 0 | BR39: 1 | BS39: 3.6 | BT39: 6.8 | BU39: 7.1 | BV39: 7.8 | BW39: 8 | BX39: 7 | CB39: 6.5 | CC39: 9 | CD39: 0 | CE39: 4.8 | CF39: 7.4 | CG39: 6.5 | CH39: 7.7 | CI39: 6.5 | CJ39: 7.4 | CN39: 6.5 | CO39: 9 | CP39: 6.97 | CQ39: 8.7 | CR39: 7.9 | CS39: 7 | CT39: 7.3 | CU39: 6.6 | CV39: 7.4 | CW39: 9.1 | CZ39: 7.8 | DA39: 4.7 | DC39: 8.7 | DD39: 8.1 | DE39: 8.1 | DF39: 8.5 | DG39: 8.6 | DH39: 7.2 | DL39: 8.3 | DN39: 4.8 | DO39: 7.4 | DP39: 6.5 | DQ39: 7.7 | DR39: 6.5 | DS39: 7.4 | DW39: 6.5 | DX39: 9 | DY39: 7.43 | EI39: 4.8 | EJ39: 7.4 | EK39: 6.5 | EL39: 7.7 | EM39: 6.5 | EN39: 7.4 | ER39: 6.5 | ES39: 9 | EU39: 8.7 | EV39: 7.9 | EW39: 7 | EX39: 7.3 | EY39: 6.6 | EZ39: 7.4 | FA39: 9.1 | FD39: 7.8 | FE39: 4.7 | FG39: 8.7 | FH39: 8.1 | FI39: 8.1 | FJ39: 8.5 | FK39: 8.6 | FL39: 7.2 | FP39: 8.3 | FR39: 4.8 | FS39: 7.4 | FT39: 6.5 | FU39: 7.7 | FV39: 6.5 | FW39: 7.4 | GA39: 6.5 | GB39: 9 | GC39: 7.43
A40: 30 | B40: 13D301Đ169 | C40: Nguyễn Thanh | D40: Thảo | G40: 2 | H40: 3.4 | I40: 4.4 | L40: 7.3 | M40: 6.2 | P40: 3.4 | Q40: 4 | T40: 2 | U40: 2.4 | V40: 5 | W40: 3.9 | X40: 4 | Y40: 4.3 | AB40: 1 | AC40: 2.8 | AD40: 3 | AE40: 3.8 | AS40: 6 | AW40: 7 | AZ40: 4.69 | BA40: 4.97 | BB40: 49 | BC40: TBY | BD40: TBY | BG40: 14 | BH40: 4 | BI40: 14 | BJ40: 4 | BK40: 5.67 | BL40: BT | BM40: 5.67 | BN40: BT | BP40: 49 | BQ40: 8 | BR40: 5 | BS40: 3.4 | BT40: 7.3 | BU40: 3.4 | BV40: 2 | BW40: 4 | BX40: 1 | CB40: 6 | CC40: 7 | CD40: 2 | CE40: 4.4 | CF40: 6.2 | CG40: 4 | CH40: 2.4 | CI40: 4.3 | CJ40: 2.8 | CN40: 6 | CO40: 7 | CP40: 4.69 | CQ40: 5.5 | CR40: 7.4 | CS40: 6.5 | CT40: 4.5 | CU40: 4.7 | CV40: 4.5 | CW40: 6.4 | DA40: 5.1 | DC40: 6.6 | DD40: 5.2 | DE40: 6.3 | DF40: 7.6 | DH40: 7 | DL40: 6.6 | DN40: 4.4 | DO40: 6.2 | DP40: 4 | DR40: 4.3 | DW40: 6 | DX40: 7 | DY40: 5.67 | EC40: 3.9 | EE40: 3.8 | EI40: 4.4 | EJ40: 6.2 | EK40: 4 | EL40: 3.9 | EM40: 4.3 | EN40: 3.8 | ER40: 6 | ES40: 7 | ET40: 4.97 | EU40: 5.5 | EV40: 7.4 | EW40: 6.5 | EX40: 4.5 | EY40: 4.7 | EZ40: 4.5 | FA40: 6.4 | FE40: 5.1 | FG40: 6.6 | FH40: 5.2 | FI40: 6.3 | FJ40: 7.6 | FL40: 7 | FP40: 6.6 | FR40: 4.4 | FS40: 6.2 | FT40: 4 | FV40: 4.3 | GA40: 6 | GB40: 7 | GC40: 5.67
A41: 31 | B41: 13D301Đ154 | C41: Võ Đức | D41: Trí | G41: 2 | H41: 3.8 | I41: 4.8 | L41: 6.3 | M41: 6.1 | P41: 3.4 | Q41: 4.6 | T41: 0.5 | U41: 3 | V41: 2.8 | W41: 4.1 | X41: 6 | Y41: 5.9 | AB41: 0 | AC41: 2.3 | AD41: 2.3 | AE41: 3.5 | AS41: 7 | AW41: 7 | AZ41: 5.12 | BA41: 5.37 | BB41: 64 | BC41: TBY | BD41: TBY | BG41: 14 | BH41: 4 | BI41: 16 | BJ41: 2 | BK41: 5.69 | BL41: BT | BM41: 5.63 | BN41: BT | BP41: 51 | BQ41: 6 | BR41: 4 | BS41: 3.8 | BT41: 6.3 | BU41: 3.4 | BV41: 0.5 | BW41: 6 | BX41: 0 | CB41: 7 | CC41: 7 | CD41: 2 | CE41: 4.8 | CF41: 6.1 | CG41: 4.6 | CH41: 3 | CI41: 5.9 | CJ41: 2.3 | CN41: 7 | CO41: 7 | CP41: 5.12 | CQ41: 6.7 | CR41: 5.6 | CS41: 5.2 | CT41: 4.1 | CU41: 5.6 | CV41: 5.7 | CW41: 5.8 | DA41: 4.4 | DB41: 4.5 | DC41: 6.7 | DE41: 6 | DF41: 5.8 | DH41: 5.9 | DL41: 6.9 | DN41: 4.8 | DO41: 6.1 | DP41: 4.6 | DR41: 5.9 | DW41: 7 | DX41: 7 | DY41: 5.69 | EC41: 4.1 | EE41: 3.5 | EI41: 4.8 | EJ41: 6.1 | EK41: 4.6 | EL41: 4.1 | EM41: 5.9 | EN41: 3.5 | ER41: 7 | ES41: 7 | ET41: 5.37 | EU41: 6.7 | EV41: 5.6 | EW41: 5.2 | EX41: 4.1 | EY41: 5.6 | EZ41: 5.7 | FA41: 5.8 | FE41: 4.4 | FF41: 4.5 | FG41: 6.7 | FI41: 6 | FJ41: 5.8 | FL41: 5.9 | FP41: 6.9 | FR41: 4.8 | FS41: 6.1 | FT41: 4.6 | FU41: 4.1 | FV41: 5.9 | GA41: 7 | GB41: 7 | GC41: 5.63
A42: 32 | B42: 13D301Đ160 | C42: Nguyễn Bá | D42: Trung | G42: 3 | H42: 4.3 | I42: 5.3 | L42: 6.5 | M42: 5.6 | P42: 5 | Q42: 5.5 | T42: 2.5 | U42: 4.2 | X42: 6.5 | Y42: 5.3 | AB42: 1 | AC42: 2.4 | AD42: 2.8 | AE42: 3.3 | AS42: 7.5 | AW42: 7.3 | AZ42: 5.41 | BA42: 5.51 | BB42: 51 | BC42: TBY | BD42: TB | BG42: 16 | BH42: 2 | BI42: 16 | BJ42: 2 | BK42: 6.06 | BL42: BT | BM42: 6.06 | BN42: BT | BP42: 53 | BQ42: 4 | BR42: 3 | BS42: 4.3 | BT42: 6.5 | BU42: 5 | BV42: 2.5 | BW42: 6.5 | BX42: 1 | CB42: 7.5 | CC42: 7.3 | CD42: 1 | CE42: 5.3 | CF42: 5.6 | CG42: 5.5 | CH42: 4.2 | CI42: 5.3 | CJ42: 2.4 | CN42: 7.5 | CO42: 7.3 | CP42: 5.41 | CQ42: 5 | CR42: 6.4 | CS42: 5.6 | CT42: 5.6 | CU42: 5.9 | CV42: 6.5 | CW42: 5.2 | CZ42: 5.8 | DA42: 5.2 | DC42: 8.3 | DD42: 6.4 | DE42: 6.4 | DF42: 6.1 | DH42: 8 | DL42: 6.9 | DN42: 5.3 | DO42: 5.6 | DP42: 5.5 | DQ42: 4.2 | DR42: 5.3 | DW42: 7.5 | DX42: 7.3 | DY42: 6.06 | EE42: 3.3 | EI42: 5.3 | EJ42: 5.6 | EK42: 5.5 | EL42: 4.2 | EM42: 5.3 | EN42: 3.3 | ER42: 7.5 | ES42: 7.3 | ET42: 5.51 | EU42: 5 | EV42: 6.4 | EW42: 5.6 | EX42: 5.6 | EY42: 5.9 | EZ42: 6.5 | FA42: 5.2 | FD42: 5.8 | FE42: 5.2 | FG42: 8.3 | FH42: 6.4 | FI42: 6.4 | FJ42: 6.1 | FL42: 8 | FP42: 6.9 | FR42: 5.3 | FS42: 5.6 | FT42: 5.5 | FU42: 4.2 | FV42: 5.3 | GA42: 7.5 | GB42: 7.3 | GC42: 6.06
A43: 33 | B43: 13D301Đ163 | C43: Mai Ngọc | D43: Trước | G43: 3 | H43: 3.3 | I43: 4.3 | L43: 6 | M43: 7 | P43: 5.6 | Q43: 6.3 | T43: 5.5 | U43: 6.7 | X43: 7 | Y43: 6.1 | AB43: 3.5 | AC43: 4.6 | AS43: 6.8 | AW43: 7.5 | AZ43: 6.22 | BB43: 45 | BC43: TB | BG43: 18 | BH43: 0 | BI43: 18 | BJ43: 0 | BK43: 6.47 | BL43: BT | BM43: 6.47 | BN43: BT | BP43: 57 | BQ43: 0 | BR43: 2 | BS43: 3.3 | BT43: 6 | BU43: 5.6 | BV43: 5.5 | BW43: 7 | BX43: 3.5 | CB43: 6.8 | CC43: 7.5 | CD43: 0 | CE43: 4.3 | CF43: 7 | CG43: 6.3 | CH43: 6.7 | CI43: 6.1 | CJ43: 4.6 | CN43: 6.8 | CO43: 7.5 | CP43: 6.22 | CQ43: 5 | CR43: 6.7 | CS43: 6.6 | CT43: 6.5 | CU43: 6.4 | CV43: 8.1 | CW43: 6.5 | CZ43: 5.2 | DA43: 5.3 | DB43: 6.7 | DC43: 7.7 | DE43: 6.4 | DF43: 7 | DG43: 6.2 | DH43: 7.3 | DL43: 7.1 | DN43: 4.3 | DO43: 7 | DP43: 6.3 | DQ43: 6.7 | DR43: 6.1 | DS43: 4.6 | DW43: 6.8 | DX43: 7.5 | DY43: 6.47 | EI43: 4.3 | EJ43: 7 | EK43: 6.3 | EL43: 6.7 | EM43: 6.1 | EN43: 4.6 | ER43: 6.8 | ES43: 7.5 | EU43: 5 | EV43: 6.7 | EW43: 6.6 | EX43: 6.5 | EY43: 6.4 | EZ43: 8.1 | FA43: 6.5 | FD43: 5.2 | FE43: 5.3 | FF43: 6.7 | FG43: 7.7 | FI43: 6.4 | FJ43: 7 | FK43: 6.2 | FL43: 7.3 | FP43: 7.1 | FR43: 4.3 | FS43: 7 | FT43: 6.3 | FU43: 6.7 | FV43: 6.1 | FW43: 4.6 | GA43: 6.8 | GB43: 7.5 | GC43: 6.47
A44: 34 | B44: 13D301Đ166 | C44: Nguyễn Văn | D44: Tư | G44: 6 | H44: 2.5 | I44: 4.7 | L44: 5.3 | M44: 5.5 | P44: 6.1 | Q44: 6.2 | T44: 3.5 | U44: 5 | X44: 7.5 | Y44: 6.6 | AB44: 5.8 | AC44: 6.5 | AS44: 6.3 | AW44: 7.5 | AZ44: 6.02 | BB44: 51 | BC44: TB | BG44: 18 | BH44: 0 | BI44: 18 | BJ44: 0 | BK44: 6.2 | BL44: BT | BM44: 6.2 | BN44: BT | BP44: 49 | BQ44: 8 | BR44: 2 | BS44: 2.5 | BT44: 5.3 | BU44: 6.1 | BV44: 3.5 | BW44: 7.5 | BX44: 5.8 | CB44: 6.3 | CC44: 7.5 | CD44: 0 | CE44: 4.7 | CF44: 5.5 | CG44: 6.2 | CH44: 5 | CI44: 6.6 | CJ44: 6.5 | CN44: 6.3 | CO44: 7.5 | CP44: 6.02 | CQ44: 5.2 | CR44: 5.5 | CS44: 5.8 | CV44: 7.5 | CW44: 6.2 | CZ44: 5.9 | DB44: 5.8 | DC44: 7.7 | DE44: 6.1 | DF44: 5.8 | DG44: 5 | DH44: 7.5 | DL44: 7.1 | DN44: 4.7 | DO44: 5.5 | DP44: 6.2 | DQ44: 5 | DR44: 6.6 | DS44: 6.5 | DW44: 6.3 | DX44: 7.5 | DY44: 6.2 | EI44: 4.7 | EJ44: 5.5 | EK44: 6.2 | EL44: 5 | EM44: 6.6 | EN44: 6.5 | ER44: 6.3 | ES44: 7.5 | EU44: 5.2 | EV44: 5.5 | EW44: 5.8 | EZ44: 7.5 | FA44: 6.2 | FD44: 5.9 | FF44: 5.8 | FG44: 7.7 | FI44: 6.1 | FJ44: 5.8 | FK44: 5 | FL44: 7.5 | FP44: 7.1 | FR44: 4.7 | FS44: 5.5 | FT44: 6.2 | FU44: 5 | FV44: 6.6 | FW44: 6.5 | GA44: 6.3 | GB44: 7.5 | GC44: 6.2
A45: 35 | B45: 13D301Đ178 | C45: Lê Văn | D45: Vũ | G45: 7 | H45: 3.3 | I45: 4.5 | L45: 7.3 | M45: 7.7 | P45: 5.6 | Q45: 6.1 | T45: 3.3 | U45: 4.4 | X45: 7.5 | Y45: 6.2 | AB45: 1.5 | AC45: 3.9 | AD45: 2.8 | AE45: 4.5 | AS45: 6 | AW45: 7.8 | AZ45: 5.94 | BA45: 6.01 | BB45: 52 | BC45: TB | BD45: TB | BG45: 16 | BH45: 2 | BI45: 18 | BJ45: 0 | BK45: 6.09 | BL45: BT | BM45: 6.04 | BN45: BT | BP45: 57 | BQ45: 0 | BR45: 3 | BS45: 3.3 | BT45: 7.3 | BU45: 5.6 | BV45: 3.3 | BW45: 7.5 | BX45: 1.5 | CB45: 6 | CC45: 7.8 | CD45: 1 | CE45: 4.5 | CF45: 7.7 | CG45: 6.1 | CH45: 4.4 | CI45: 6.2 | CJ45: 3.9 | CN45: 6 | CO45: 7.8 | CP45: 5.94 | CQ45: 6.2 | CR45: 5.9 | CS45: 5.1 | CT45: 4.8 | CU45: 5.5 | CV45: 5.7 | CW45: 6.2 | CZ45: 7 | DA45: 5.5 | DB45: 6.9 | DC45: 7.6 | DE45: 6.7 | DF45: 7 | DG45: 5 | DH45: 7 | DL45: 5.7 | DN45: 4.5 | DO45: 7.7 | DP45: 6.1 | DQ45: 4.4 | DR45: 6.2 | DW45: 6 | DX45: 7.8 | DY45: 6.09 | EE45: 4.5 | EI45: 4.5 | EJ45: 7.7 | EK45: 6.1 | EL45: 4.4 | EM45: 6.2 | EN45: 4.5 | ER45: 6 | ES45: 7.8 | ET45: 6.01 | EU45: 6.2 | EV45: 5.9 | EW45: 5.1 | EX45: 4.8 | EY45: 5.5 | EZ45: 5.7 | FA45: 6.2 | FD45: 7 | FE45: 5.5 | FF45: 6.9 | FG45: 7.6 | FI45: 6.7 | FJ45: 7 | FK45: 5 | FL45: 7 | FP45: 5.7 | FR45: 4.5 | FS45: 7.7 | FT45: 6.1 | FU45: 4.4 | FV45: 6.2 | FW45: 4.5 | GA45: 6 | GB45: 7.8 | GC45: 6.04
A46: 1 | B46: 13D301Đ004 | C46: Đặng Thế | D46: Anh | G46: 12 | H46: 2.8 | I46: 4.7 | L46: 6.5 | M46: 5.9 | P46: 3.3 | Q46: 4 | T46: 2.8 | U46: 3.3 | X46: 5.5 | Y46: 4.7 | AB46: 5.8 | AC46: 4.6 | AS46: 5.5 | AW46: 5.8 | AZ46: 4.83 | BB46: 41 | BC46: TBY | BG46: 16 | BH46: 2 | BI46: 16 | BJ46: 2 | BK46: 5.42 | BL46: Y | BM46: 5.42 | BN46: Y | BP46: 53 | BQ46: 4 | BR46: 3 | BS46: 2.8 | BT46: 6.5 | BU46: 3.3 | BV46: 2.8 | BW46: 5.5 | BX46: 5.8 | CB46: 5.5 | CC46: 5.8 | CD46: 1 | CE46: 4.7 | CF46: 5.9 | CG46: 4 | CH46: 3.3 | CI46: 4.7 | CJ46: 4.6 | CN46: 5.5 | CO46: 5.8 | CP46: 4.83 | CQ46: 6.2 | CR46: 5 | CS46: 4.2 | CT46: 5 | CU46: 5.7 | CV46: 5.7 | CW46: 7.4 | CZ46: 5.4 | DA46: 5.3 | DB46: 5.2 | DC46: 5.1 | DE46: 5.7 | DF46: 5.6 | DH46: 5.8 | DL46: 6.6 | DN46: 4.7 | DO46: 5.9 | DP46: 4 | DR46: 4.7 | DS46: 4.6 | DW46: 5.5 | DX46: 5.8 | DY46: 5.42 | EI46: 4.7 | EJ46: 5.9 | EK46: 4 | EL46: 3.3 | EM46: 4.7 | EN46: 4.6 | ER46: 5.5 | ES46: 5.8 | EU46: 6.2 | EV46: 5 | EW46: 4.2 | EX46: 5 | EY46: 5.7 | EZ46: 5.7 | FA46: 7.4 | FD46: 5.4 | FE46: 5.3 | FF46: 5.2 | FG46: 5.1 | FI46: 5.7 | FJ46: 5.6 | FL46: 5.8 | FP46: 6.6 | FR46: 4.7 | FS46: 5.9 | FT46: 4 | FV46: 4.7 | FW46: 4.6 | GA46: 5.5 | GB46: 5.8 | GC46: 5.42
A47: 2 | B47: 13D301Đ149 | C47: Đỗ Huỳnh | D47: Bảo | G47: 2 | H47: 2.4 | I47: 4.9 | L47: 6.8 | M47: 7.1 | P47: 4.3 | Q47: 5 | T47: 3 | U47: 4.3 | X47: 2.8 | Y47: 4.1 | AB47: 6.5 | AC47: 5.9 | AS47: 5.3 | AW47: 7 | AZ47: 5.52 | BB47: 46 | BC47: TB | BG47: 18 | BH47: 0 | BI47: 18 | BJ47: 0 | BK47: 6.06 | BL47: BT | BM47: 6.06 | BN47: BT | BP47: 57 | BQ47: 0 | BR47: 4 | BS47: 2.4 | BT47: 6.8 | BU47: 4.3 | BV47: 3 | BW47: 2.8 | BX47: 6.5 | CB47: 5.3 | CC47: 7 | CD47: 0 | CE47: 4.9 | CF47: 7.1 | CG47: 5 | CH47: 4.3 | CI47: 4.1 | CJ47: 5.9 | CN47: 5.3 | CO47: 7 | CP47: 5.52 | CQ47: 6.4 | CR47: 7.4 | CS47: 5.4 | CT47: 5.8 | CU47: 5.9 | CV47: 6.6 | CW47: 5.9 | CZ47: 7 | DA47: 5.1 | DB47: 5.2 | DC47: 6.9 | DE47: 7.5 | DF47: 6.9 | DG47: 4.8 | DH47: 6.1 | DL47: 8 | DN47: 4.9 | DO47: 7.1 | DP47: 5 | DQ47: 4.3 | DR47: 4.1 | DS47: 5.9 | DW47: 5.3 | DX47: 7 | DY47: 6.06 | EI47: 4.9 | EJ47: 7.1 | EK47: 5 | EL47: 4.3 | EM47: 4.1 | EN47: 5.9 | ER47: 5.3 | ES47: 7 | EU47: 6.4 | EV47: 7.4 | EW47: 5.4 | EX47: 5.8 | EY47: 5.9 | EZ47: 6.6 | FA47: 5.9 | FD47: 7 | FE47: 5.1 | FF47: 5.2 | FG47: 6.9 | FI47: 7.5 | FJ47: 6.9 | FK47: 4.8 | FL47: 6.1 | FP47: 8 | FR47: 4.9 | FS47: 7.1 | FT47: 5 | FU47: 4.3 | FV47: 4.1 | FW47: 5.9 | GA47: 5.3 | GB47: 7 | GC47: 6.06
A48: 3 | B48: 13D301Đ008 | C48: Trương Vũ | D48: Bảo | G48: 0 | H48: 2.1 | I48: 5.1 | L48: 7.5 | M48: 6.7 | P48: 4.9 | Q48: 5.5 | T48: 5.3 | U48: 5.8 | X48: 7.3 | Y48: 5.6 | AB48: 7 | AC48: 6.1 | AS48: 7.3 | AW48: 8.9 | AZ48: 6.34 | BB48: 85 | BC48: TB | BG48: 18 | BH48: 0 | BI48: 18 | BJ48: 0 | BK48: 6.73 | BL48: BT | BM48: 6.73 | BN48: BT | BP48: 57 | BQ48: 0 | BR48: 2 | BS48: 2.1 | BT48: 7.5 | BU48: 4.9 | BV48: 5.3 | BW48: 7.3 | BX48: 7 | CB48: 7.3 | CC48: 8.9 | CD48: 0 | CE48: 5.1 | CF48: 6.7 | CG48: 5.5 | CH48: 5.8 | CI48: 5.6 | CJ48: 6.1 | CN48: 7.3 | CO48: 8.9 | CP48: 6.34 | CQ48: 6.7 | CR48: 6.4 | CS48: 6 | CT48: 5.6 | CU48: 6.3 | CV48: 7.8 | CW48: 7.5 | CZ48: 7.7 | DA48: 5.8 | DB48: 6.1 | DC48: 8.5 | DE48: 8.1 | DF48: 6.8 | DG48: 6.7 | DH48: 6.5 | DL48: 8 | DN48: 5.1 | DO48: 6.7 | DP48: 5.5 | DQ48: 5.8 | DR48: 5.6 | DS48: 6.1 | DW48: 7.3 | DX48: 8.9 | DY48: 6.73 | EI48: 5.1 | EJ48: 6.7 | EK48: 5.5 | EL48: 5.8 | EM48: 5.6 | EN48: 6.1 | ER48: 7.3 | ES48: 8.9 | EU48: 6.7 | EV48: 6.4 | EW48: 6 | EX48: 5.6 | EY48: 6.3 | EZ48: 7.8 | FA48: 7.5 | FD48: 7.7 | FE48: 5.8 | FF48: 6.1 | FG48: 8.5 | FI48: 8.1 | FJ48: 6.8 | FK48: 6.7 | FL48: 6.5 | FP48: 8 | FR48: 5.1 | FS48: 6.7 | FT48: 5.5 | FU48: 5.8 | FV48: 5.6 | FW48: 6.1 | GA48: 7.3 | GB48: 8.9 | GC48: 6.73
A49: 4 | B49: 13D301Đ016 | C49: Vũ Văn | D49: Chiến | G49: 17 | H49: 3.3 | I49: 5 | L49: 6.8 | M49: 5.9 | P49: 4.9 | Q49: 4.2 | T49: 4.5 | U49: 4.1 | X49: 3.8 | Y49: 2.6 | AB49: 1 | AC49: 2.5 | AS49: 1.5 | AW49: 6.1 | AZ49: 4.11 | BB49: 30 | BC49: TBY | BG49: 12 | BH49: 6 | BI49: 12 | BJ49: 6 | BK49: 5.61 | BL49: BT | BM49: 5.61 | BN49: BT | BP49: 49 | BQ49: 8 | BR49: 6 | BS49: 3.3 | BT49: 6.8 | BU49: 4.9 | BV49: 4.5 | BW49: 3.8 | BX49: 1 | CB49: 1.5 | CC49: 6.1 | CD49: 3 | CE49: 5 | CF49: 5.9 | CG49: 4.2 | CH49: 4.1 | CI49: 2.6 | CJ49: 2.5 | CN49: 1.5 | CO49: 6.1 | CP49: 4.11 | CQ49: 5.5 | CR49: 5.2 | CS49: 5 | CT49: 5.4 | CU49: 6 | CV49: 6.9 | CW49: 5.2 | CZ49: 7.4 | DA49: 4.9 | DB49: 4.7 | DC49: 6.3 | DE49: 5.8 | DF49: 6.8 | DH49: 5.4 | DL49: 5.4 | DN49: 5 | DO49: 5.9 | DP49: 4.2 | DQ49: 4.1 | DX49: 6.1 | DY49: 5.61 | EI49: 5 | EJ49: 5.9 | EK49: 4.2 | EL49: 4.1 | EM49: 2.6 | EN49: 2.5 | ER49: 1.5 | ES49: 6.1 | EU49: 5.5 | EV49: 5.2 | EW49: 5 | EX49: 5.4 | EY49: 6 | EZ49: 6.9 | FA49: 5.2 | FD49: 7.4 | FE49: 4.9 | FF49: 4.7 | FG49: 6.3 | FI49: 5.8 | FJ49: 6.8 | FL49: 5.4 | FP49: 5.4 | FR49: 5 | FS49: 5.9 | FT49: 4.2 | FU49: 4.1 | GB49: 6.1 | GC49: 5.61
A50: 5 | B50: 13D301Đ193 | C50: Phạm Công | D50: Chính | G50: 17 | P50: 3.1 | Q50: 3.2 | T50: 4.3 | U50: 4.7 | X50: 3.5 | Y50: 3.2 | Z50: 3.8 | AA50: 3.3 | AB50: 2.5 | AC50: 3 | AD50: 1.8 | AE50: 3 | AS50: 5 | AW50: 4 | AZ50: 3.8 | BA50: 2.76 | BB50: 29 | BC50: Kém | BD50: Kém | BF50: Cảnh Báo | BG50: 6 | BH50: 7 | BI50: 6 | BJ50: 7 | BK50: 4.96 | BL50: Y | BM50: 4.96 | BN50: Y | BP50: 34 | BQ50: 18 | BR50: 5 | BU50: 3.1 | BV50: 4.3 | BW50: 3.5 | BX50: 2.5 | CB50: 5 | CC50: 4 | CD50: 3 | CG50: 3.2 | CH50: 4.7 | CI50: 3.2 | CJ50: 3 | CN50: 5 | CO50: 4 | CP50: 3.8 | CQ50: 4.4 | CR50: 4.1 | CS50: 4.2 | CV50: 5.1 | CW50: 5.1 | DA50: 5 | DC50: 4.8 | DE50: 6.4 | DF50: 5.2 | DH50: 6.4 | DL50: 5.6 | DQ50: 4.7 | DW50: 5 | DX50: 4 | DY50: 4.96 | ED50: 3.3 | EE50: 3 | EK50: 3.2 | EL50: 4.7 | EM50: 3.3 | EN50: 3 | ER50: 5 | ES50: 4 | ET50: 2.76 | EU50: 4.4 | EV50: 4.1 | EW50: 4.2 | EZ50: 5.1 | FA50: 5.1 | FE50: 5 | FG50: 4.8 | FI50: 6.4 | FJ50: 5.2 | FL50: 6.4 | FP50: 5.6 | FU50: 4.7 | GA50: 5 | GB50: 4 | GC50: 4.96
A51: 6 | B51: 13D301Đ020 | C51: Trịnh Lê | D51: Cung | G51: 4 | H51: 3 | I51: 5 | L51: 6.8 | M51: 6.2 | P51: 3.1 | Q51: 4.4 | T51: 3.8 | U51: 4.1 | X51: 4.8 | Y51: 4.6 | AB51: 2 | AC51: 3.1 | AD51: 4.5 | AE51: 4.4 | AS51: 5.5 | AW51: 8.3 | AZ51: 5.17 | BA51: 5.31 | BB51: 52 | BC51: TBY | BD51: TBY | BG51: 16 | BH51: 2 | BI51: 18 | BJ51: 0 | BK51: 5.5 | BL51: BT | BM51: 5.46 | BN51: Y | BP51: 57 | BQ51: 0 | BR51: 5 | BS51: 3 | BT51: 6.8 | BU51: 3.1 | BV51: 3.8 | BW51: 4.8 | BX51: 2 | CB51: 5.5 | CC51: 8.3 | CD51: 1 | CE51: 5 | CF51: 6.2 | CG51: 4.4 | CH51: 4.1 | CI51: 4.6 | CJ51: 3.1 | CN51: 5.5 | CO51: 8.3 | CP51: 5.17 | CQ51: 5 | CR51: 6.1 | CS51: 4.7 | CT51: 5 | CU51: 5.6 | CV51: 6 | CW51: 5.1 | CZ51: 5.3 | DA51: 4.8 | DB51: 4.8 | DC51: 5.3 | DE51: 6.5 | DF51: 6.4 | DG51: 4.6 | DH51: 6.9 | DL51: 6 | DN51: 5 | DO51: 6.2 | DP51: 4.4 | DQ51: 4.1 | DR51: 4.6 | DW51: 5.5 | DX51: 8.3 | DY51: 5.5 | EE51: 4.4 | EI51: 5 | EJ51: 6.2 | EK51: 4.4 | EL51: 4.1 | EM51: 4.6 | EN51: 4.4 | ER51: 5.5 | ES51: 8.3 | ET51: 5.31 | EU51: 5 | EV51: 6.1 | EW51: 4.7 | EX51: 5 | EY51: 5.6 | EZ51: 6 | FA51: 5.1 | FD51: 5.3 | FE51: 4.8 | FF51: 4.8 | FG51: 5.3 | FI51: 6.5 | FJ51: 6.4 | FK51: 4.6 | FL51: 6.9 | FP51: 6 | FR51: 5 | FS51: 6.2 | FT51: 4.4 | FU51: 4.1 | FV51: 4.6 | FW51: 4.4 | GA51: 5.5 | GB51: 8.3 | GC51: 5.46
A52: 7 | B52: 13D301Đ024 | C52: Trương Công | D52: Duẩn | G52: 2 | H52: 3 | I52: 5.3 | L52: 6.8 | M52: 6.2 | P52: 3.2 | Q52: 4.9 | T52: 3.3 | U52: 3.9 | V52: 6.8 | W52: 5.6 | X52: 4.3 | Y52: 4.5 | AB52: 4.8 | AC52: 4.8 | AS52: 5.8 | AW52: 7.3 | AZ52: 5.36 | BA52: 5.55 | BB52: 58 | BC52: TBY | BD52: TB | BG52: 16 | BH52: 2 | BI52: 18 | BJ52: 0 | BK52: 5.74 | BL52: BT | BM52: 5.74 | BN52: BT | BP52: 55 | BQ52: 2 | BR52: 5 | BS52: 3 | BT52: 6.8 | BU52: 3.2 | BV52: 3.3 | BW52: 4.3 | BX52: 4.8 | CB52: 5.8 | CC52: 7.3 | CD52: 1 | CE52: 5.3 | CF52: 6.2 | CG52: 4.9 | CH52: 3.9 | CI52: 4.5 | CJ52: 4.8 | CN52: 5.8 | CO52: 7.3 | CP52: 5.36 | CQ52: 5 | CR52: 5.3 | CS52: 5.9 | CT52: 5.1 | CU52: 6.1 | CV52: 6.7 | CW52: 6.5 | CZ52: 5.5 | DA52: 5.5 | DB52: 5.2 | DC52: 5 | DE52: 5.7 | DF52: 5.7 | DH52: 6.8 | DL52: 6.8 | DN52: 5.3 | DO52: 6.2 | DP52: 4.9 | DR52: 4.5 | DS52: 4.8 | DW52: 5.8 | DX52: 7.3 | DY52: 5.74 | EC52: 5.6 | EI52: 5.3 | EJ52: 6.2 | EK52: 4.9 | EL52: 5.6 | EM52: 4.5 | EN52: 4.8 | ER52: 5.8 | ES52: 7.3 | ET52: 5.55 | EU52: 5 | EV52: 5.3 | EW52: 5.9 | EX52: 5.1 | EY52: 6.1 | EZ52: 6.7 | FA52: 6.5 | FD52: 5.5 | FE52: 5.5 | FF52: 5.2 | FG52: 5 | FI52: 5.7 | FJ52: 5.7 | FL52: 6.8 | FP52: 6.8 | FR52: 5.3 | FS52: 6.2 | FT52: 4.9 | FU52: 5.6 | FV52: 4.5 | FW52: 4.8 | GA52: 5.8 | GB52: 7.3 | GC52: 5.74
A53: 8 | B53: 13D301Đ192 | C53: Cao Trùng | D53: Dương | G53: 0 | H53: 3.5 | I53: 5.6 | L53: 7.8 | M53: 6.5 | P53: 8.3 | Q53: 8.5 | T53: 8.8 | U53: 8.1 | X53: 10 | Y53: 8.9 | AB53: 6.8 | AC53: 7.4 | AS53: 6.8 | AW53: 9.3 | AZ53: 7.62 | BB53: 65 | BC53: Khá | BG53: 18 | BH53: 0 | BI53: 18 | BJ53: 0 | BK53: 7.69 | BL53: BT | BM53: 7.69 | BN53: BT | BP53: 57 | BQ53: 0 | BR53: 1 | BS53: 3.5 | BT53: 7.8 | BU53: 8.3 | BV53: 8.8 | BW53: 10 | BX53: 6.8 | CB53: 6.8 | CC53: 9.3 | CD53: 0 | CE53: 5.6 | CF53: 6.5 | CG53: 8.5 | CH53: 8.1 | CI53: 8.9 | CJ53: 7.4 | CN53: 6.8 | CO53: 9.3 | CP53: 7.62 | CQ53: 8.5 | CR53: 9 | CS53: 8.4 | CT53: 6.3 | CU53: 7 | CV53: 9.2 | CW53: 7.8 | CZ53: 8.1 | DA53: 5.8 | DB53: 7.3 | DC53: 8.4 | DE53: 7.6 | DF53: 6.9 | DG53: 7.5 | DH53: 7.6 | DL53: 6.2 | DN53: 5.6 | DO53: 6.5 | DP53: 8.5 | DQ53: 8.1 | DR53: 8.9 | DS53: 7.4 | DW53: 6.8 | DX53: 9.3 | DY53: 7.69 | EI53: 5.6 | EJ53: 6.5 | EK53: 8.5 | EL53: 8.1 | EM53: 8.9 | EN53: 7.4 | ER53: 6.8 | ES53: 9.3 | EU53: 8.5 | EV53: 9 | EW53: 8.4 | EX53: 6.3 | EY53: 7 | EZ53: 9.2 | FA53: 7.8 | FD53: 8.1 | FE53: 5.8 | FF53: 7.3 | FG53: 8.4 | FI53: 7.6 | FJ53: 6.9 | FK53: 7.5 | FL53: 7.6 | FP53: 6.2 | FR53: 5.6 | FS53: 6.5 | FT53: 8.5 | FU53: 8.1 | FV53: 8.9 | FW53: 7.4 | GA53: 6.8 | GB53: 9.3 | GC53: 7.69
A54: 9 | B54: 13D301Đ028 | C54: Hoàng Văn | D54: Duy | G54: 23 | H54: 2.1 | I54: 3.9 | J54: 2.8 | K54: 4.3 | L54: 6 | M54: 5.2 | P54: 2.7 | Q54: 3.5 | R54: 1.9 | S54: 3.5 | T54: 2.8 | U54: 3.3 | V54: 1.8 | W54: 3.3 | X54: 5 | Y54: 4.4 | AB54: 4 | AC54: 3.5 | AS54: 5.3 | AW54: 4 | AZ54: 4.16 | BA54: 4.21 | BB54: 20 | BC54: TBY | BD54: TBY | BG54: 9 | BH54: 9 | BI54: 11 | BJ54: 7 | BK54: 5.34 | BL54: Y | BM54: 5.3 | BN54: Y | BP54: 48 | BQ54: 9 | BR54: 5 | BS54: 2.1 | BT54: 6 | BU54: 2.7 | BV54: 2.8 | BW54: 5 | BX54: 4 | CB54: 5.3 | CC54: 4 | CD54: 4 | CE54: 3.9 | CF54: 5.2 | CG54: 3.5 | CH54: 3.3 | CI54: 4.4 | CJ54: 3.5 | CN54: 5.3 | CO54: 4 | CP54: 4.16 | CQ54: 4.5 | CR54: 5.1 | CS54: 5.6 | CT54: 5.4 | CU54: 5 | CV54: 4.9 | CW54: 5.9 | CZ54: 5.8 | DA54: 5.2 | DB54: 5.4 | DC54: 4.3 | DE54: 6.5 | DF54: 6.2 | DH54: 6.9 | DL54: 7.4 | DO54: 5.2 | DR54: 4.4 | DW54: 5.3 | DX54: 4 | DY54: 5.34 | DZ54: 4.3 | EB54: 3.5 | EC54: 3.3 | EI54: 4.3 | EJ54: 5.2 | EK54: 3.5 | EL54: 3.3 | EM54: 4.4 | EN54: 3.5 | ER54: 5.3 | ES54: 4 | ET54: 4.21 | EU54: 4.5 | EV54: 5.1 | EW54: 5.6 | EX54: 5.4 | EY54: 5 | EZ54: 4.9 | FA54: 5.9 | FD54: 5.8 | FE54: 5.2 | FF54: 5.4 | FG54: 4.3 | FI54: 6.5 | FJ54: 6.2 | FL54: 6.9 | FP54: 7.4 | FR54: 4.3 | FS54: 5.2 | FV54: 4.4 | GA54: 5.3 | GB54: 4 | GC54: 5.3
A55: 10 | B55: 13D301Đ181 | C55: Lâm Văn | D55: Duy | G55: 11 | P55: 3.6 | Q55: 4.1 | T55: 4.8 | U55: 3.9 | V55: 5.5 | W55: 4.3 | X55: 4.8 | Y55: 4.9 | AB55: 4 | AC55: 4.4 | AS55: 6.3 | AW55: 5.4 | AZ55: 4.78 | BA55: 3.49 | BB55: 43 | BC55: TBY | BD55: Kém | BG55: 11 | BH55: 2 | BI55: 13 | BJ55: 0 | BK55: 5.3 | BL55: Y | BM55: 5.25 | BN55: Y | BP55: 48 | BQ55: 4 | BR55: 4 | BU55: 3.6 | BV55: 4.8 | BW55: 4.8 | BX55: 4 | CB55: 6.3 | CC55: 5.4 | CD55: 1 | CG55: 4.1 | CH55: 3.9 | CI55: 4.9 | CJ55: 4.4 | CN55: 6.3 | CO55: 5.4 | CP55: 4.78 | CQ55: 5.3 | CR55: 5.7 | CS55: 5 | CT55: 5.6 | CU55: 5 | CV55: 5.1 | CW55: 5 | CZ55: 6.3 | DA55: 5.2 | DC55: 5.4 | DE55: 5.2 | DF55: 5.8 | DH55: 5 | DL55: 6.8 | DP55: 4.1 | DR55: 4.9 | DS55: 4.4 | DW55: 6.3 | DX55: 5.4 | DY55: 5.3 | EC55: 4.3 | EK55: 4.1 | EL55: 4.3 | EM55: 4.9 | EN55: 4.4 | ER55: 6.3 | ES55: 5.4 | ET55: 3.49 | EU55: 5.3 | EV55: 5.7 | EW55: 5 | EX55: 5.6 | EY55: 5 | EZ55: 5.1 | FA55: 5 | FD55: 6.3 | FE55: 5.2 | FG55: 5.4 | FI55: 5.2 | FJ55: 5.8 | FL55: 5 | FP55: 6.8 | FT55: 4.1 | FU55: 4.3 | FV55: 4.9 | FW55: 4.4 | GA55: 6.3 | GB55: 5.4 | GC55: 5.25
A56: 11 | B56: 13D301Đ191 | C56: Nguyễn Hiền | D56: Đức | G56: 2 | H56: 3.1 | I56: 5.2 | L56: 6.8 | M56: 6.4 | P56: 3.9 | Q56: 4.5 | T56: 4.3 | U56: 4.1 | X56: 5.3 | Y56: 4 | AB56: 2.5 | AC56: 3.7 | AD56: 5 | AE56: 4.9 | AS56: 6 | AW56: 5.5 | AZ56: 4.98 | BA56: 5.12 | BB56: 43 | BC56: TBY | BD56: TBY | BG56: 16 | BH56: 2 | BI56: 18 | BJ56: 0 | BK56: 5.95 | BL56: BT | BM56: 5.91 | BN56: BT | BP56: 55 | BQ56: 2 | BR56: 4 | BS56: 3.1 | BT56: 6.8 | BU56: 3.9 | BV56: 4.3 | BW56: 5.3 | BX56: 2.5 | CB56: 6 | CC56: 5.5 | CD56: 1 | CE56: 5.2 | CF56: 6.4 | CG56: 4.5 | CH56: 4.1 | CI56: 4 | CJ56: 3.7 | CN56: 6 | CO56: 5.5 | CP56: 4.98 | CQ56: 6.4 | CR56: 6.8 | CS56: 6.1 | CT56: 5.4 | CU56: 5.7 | CV56: 6.2 | CW56: 5.4 | CZ56: 6.7 | DA56: 6.1 | DB56: 6.8 | DC56: 7.5 | DE56: 6.1 | DF56: 6.5 | DH56: 5.9 | DL56: 7 | DN56: 5.2 | DO56: 6.4 | DP56: 4.5 | DQ56: 4.1 | DR56: 4 | DW56: 6 | DX56: 5.5 | DY56: 5.95 | EE56: 4.9 | EI56: 5.2 | EJ56: 6.4 | EK56: 4.5 | EL56: 4.1 | EM56: 4 | EN56: 4.9 | ER56: 6 | ES56: 5.5 | ET56: 5.12 | EU56: 6.4 | EV56: 6.8 | EW56: 6.1 | EX56: 5.4 | EY56: 5.7 | EZ56: 6.2 | FA56: 5.4 | FD56: 6.7 | FE56: 6.1 | FF56: 6.8 | FG56: 7.5 | FI56: 6.1 | FJ56: 6.5 | FL56: 5.9 | FP56: 7 | FR56: 5.2 | FS56: 6.4 | FT56: 4.5 | FU56: 4.1 | FV56: 4 | FW56: 4.9 | GA56: 6 | GB56: 5.5 | GC56: 5.91
A57: 12 | B57: 13D301Đ040 | C57: Nguyễn Văn | D57: Đức | G57: 1 | H57: 2.3 | I57: 4.7 | L57: 7 | M57: 6.6 | P57: 4 | Q57: 5 | T57: 4.3 | U57: 6.2 | X57: 8 | Y57: 7.3 | AB57: 5.8 | AC57: 6.1 | AS57: 6 | AW57: 8 | AZ57: 6.19 | BB57: 54 | BC57: TB | BG57: 18 | BH57: 0 | BI57: 18 | BJ57: 0 | BK57: 6.12 | BL57: BT | BM57: 6.12 | BN57: BT | BP57: 57 | BQ57: 0 | BR57: 3 | BS57: 2.3 | BT57: 7 | BU57: 4 | BV57: 4.3 | BW57: 8 | BX57: 5.8 | CB57: 6 | CC57: 8 | CD57: 0 | CE57: 4.7 | CF57: 6.6 | CG57: 5 | CH57: 6.2 | CI57: 7.3 | CJ57: 6.1 | CN57: 6 | CO57: 8 | CP57: 6.19 | CQ57: 5.4 | CR57: 5.8 | CS57: 6.3 | CT57: 5 | CU57: 5.5 | CV57: 6.4 | CW57: 5.3 | CZ57: 7.3 | DA57: 5.3 | DB57: 5.7 | DC57: 5 | DE57: 8.2 | DF57: 7 | DG57: 5 | DH57: 6.9 | DL57: 8 | DN57: 4.7 | DO57: 6.6 | DP57: 5 | DQ57: 6.2 | DR57: 7.3 | DS57: 6.1 | DW57: 6 | DX57: 8 | DY57: 6.12 | EI57: 4.7 | EJ57: 6.6 | EK57: 5 | EL57: 6.2 | EM57: 7.3 | EN57: 6.1 | ER57: 6 | ES57: 8 | EU57: 5.4 | EV57: 5.8 | EW57: 6.3 | EX57: 5 | EY57: 5.5 | EZ57: 6.4 | FA57: 5.3 | FD57: 7.3 | FE57: 5.3 | FF57: 5.7 | FG57: 5 | FI57: 8.2 | FJ57: 7 | FK57: 5 | FL57: 6.9 | FP57: 8 | FR57: 4.7 | FS57: 6.6 | FT57: 5 | FU57: 6.2 | FV57: 7.3 | FW57: 6.1 | GA57: 6 | GB57: 8 | GC57: 6.12
A58: 13 | B58: 13D301Đ048 | C58: Hồ Văn | D58: Hiệp | G58: 2 | H58: 3 | I58: 5.2 | L58: 8.3 | M58: 7.4 | P58: 6.3 | Q58: 6.6 | T58: 5 | U58: 4.7 | X58: 9 | Y58: 7.7 | AB58: 7.5 | AC58: 7.1 | AS58: 6.5 | AW58: 8.1 | AZ58: 6.7 | BB58: 50 | BC58: TB | BG58: 18 | BH58: 0 | BI58: 18 | BJ58: 0 | BK58: 6.55 | BL58: BT | BM58: 6.55 | BN58: BT | BP58: 57 | BQ58: 0 | BR58: 1 | BS58: 3 | BT58: 8.3 | BU58: 6.3 | BV58: 5 | BW58: 9 | BX58: 7.5 | CB58: 6.5 | CC58: 8.1 | CD58: 0 | CE58: 5.2 | CF58: 7.4 | CG58: 6.6 | CH58: 4.7 | CI58: 7.7 | CJ58: 7.1 | CN58: 6.5 | CO58: 8.1 | CP58: 6.7 | CQ58: 7.8 | CR58: 6.8 | CS58: 6.7 | CT58: 5.1 | CU58: 5.5 | CV58: 6.3 | CW58: 6.5 | CZ58: 8.3 | DA58: 5.4 | DB58: 6.7 | DC58: 7.4 | DE58: 6.9 | DF58: 6.9 | DG58: 4.4 | DH58: 6.5 | DL58: 7 | DN58: 5.2 | DO58: 7.4 | DP58: 6.6 | DQ58: 4.7 | DR58: 7.7 | DS58: 7.1 | DW58: 6.5 | DX58: 8.1 | DY58: 6.55 | EI58: 5.2 | EJ58: 7.4 | EK58: 6.6 | EL58: 4.7 | EM58: 7.7 | EN58: 7.1 | ER58: 6.5 | ES58: 8.1 | EU58: 7.8 | EV58: 6.8 | EW58: 6.7 | EX58: 5.1 | EY58: 5.5 | EZ58: 6.3 | FA58: 6.5 | FD58: 8.3 | FE58: 5.4 | FF58: 6.7 | FG58: 7.4 | FI58: 6.9 | FJ58: 6.9 | FK58: 4.4 | FL58: 6.5 | FP58: 7 | FR58: 5.2 | FS58: 7.4 | FT58: 6.6 | FU58: 4.7 | FV58: 7.7 | FW58: 7.1 | GA58: 6.5 | GB58: 8.1 | GC58: 6.55
A59: 14 | B59: 13D301Đ056 | C59: Trần Huy | D59: Hoàng | G59: 7 | H59: 2.5 | I59: 5.3 | L59: 6.5 | M59: 6.5 | P59: 4.4 | Q59: 5.4 | T59: 4 | U59: 3.4 | X59: 8 | Y59: 5.8 | AB59: 5.5 | AC59: 4.9 | AS59: 6.5 | AW59: 6.5 | AZ59: 5.58 | BB59: 41 | BC59: TB | BG59: 16 | BH59: 2 | BI59: 16 | BJ59: 2 | BK59: 6.1 | BL59: BT | BM59: 6.1 | BN59: BT | BP59: 53 | BQ59: 4 | BR59: 3 | BS59: 2.5 | BT59: 6.5 | BU59: 4.4 | BV59: 4 | BW59: 8 | BX59: 5.5 | CB59: 6.5 | CC59: 6.5 | CD59: 1 | CE59: 5.3 | CF59: 6.5 | CG59: 5.4 | CH59: 3.4 | CI59: 5.8 | CJ59: 4.9 | CN59: 6.5 | CO59: 6.5 | CP59: 5.58 | CQ59: 6.9 | CR59: 7.8 | CS59: 5.3 | CT59: 5.4 | CU59: 5.2 | CV59: 6.1 | CW59: 6.7 | CZ59: 5.6 | DA59: 5.4 | DB59: 5.5 | DC59: 5.9 | DE59: 6.7 | DF59: 6.4 | DH59: 7.4 | DL59: 6.6 | DN59: 5.3 | DO59: 6.5 | DP59: 5.4 | DR59: 5.8 | DS59: 4.9 | DW59: 6.5 | DX59: 6.5 | DY59: 6.1 | EI59: 5.3 | EJ59: 6.5 | EK59: 5.4 | EL59: 3.4 | EM59: 5.8 | EN59: 4.9 | ER59: 6.5 | ES59: 6.5 | EU59: 6.9 | EV59: 7.8 | EW59: 5.3 | EX59: 5.4 | EY59: 5.2 | EZ59: 6.1 | FA59: 6.7 | FD59: 5.6 | FE59: 5.4 | FF59: 5.5 | FG59: 5.9 | FI59: 6.7 | FJ59: 6.4 | FL59: 7.4 | FP59: 6.6 | FR59: 5.3 | FS59: 6.5 | FT59: 5.4 | FV59: 5.8 | FW59: 4.9 | GA59: 6.5 | GB59: 6.5 | GC59: 6.1
A60: 15 | B60: 13D301Đ201 | C60: Nguyễn Quang | D60: Huân | G60: 8 | H60: 2.6 | I60: 5.3 | L60: 6 | M60: 5.4 | P60: 3.5 | Q60: 3.8 | R60: 4.1 | S60: 4.1 | T60: 4 | U60: 3.8 | V60: 3 | W60: 3.8 | X60: 5.8 | Y60: 4.3 | AB60: 2.3 | AC60: 3.8 | AD60: 1.5 | AE60: 3.8 | AS60: 6.3 | AW60: 5.9 | AZ60: 4.8 | BA60: 4.85 | BB60: 36 | BC60: TBY | BD60: TBY | BG60: 11 | BH60: 7 | BI60: 14 | BJ60: 4 | BK60: 5.59 | BL60: BT | BM60: 5.5 | BN60: BT | BP60: 51 | BQ60: 6 | BR60: 4 | BS60: 2.6 | BT60: 6 | BU60: 3.5 | BV60: 4 | BW60: 5.8 | BX60: 2.3 | CB60: 6.3 | CC60: 5.9 | CD60: 3 | CE60: 5.3 | CF60: 5.4 | CG60: 3.8 | CH60: 3.8 | CI60: 4.3 | CJ60: 3.8 | CN60: 6.3 | CO60: 5.9 | CP60: 4.8 | CQ60: 5.2 | CR60: 5.9 | CS60: 5.5 | CT60: 5.7 | CU60: 5 | CV60: 5.8 | CW60: 5 | CZ60: 5.6 | DA60: 5.5 | DB60: 4.5 | DC60: 5.3 | DE60: 6.2 | DF60: 6 | DH60: 5.5 | DL60: 8 | DN60: 5.3 | DO60: 5.4 | DR60: 4.3 | DW60: 6.3 | DX60: 5.9 | DY60: 5.59 | EB60: 4.1 | EC60: 3.8 | EE60: 3.8 | EI60: 5.3 | EJ60: 5.4 | EK60: 4.1 | EL60: 3.8 | EM60: 4.3 | EN60: 3.8 | ER60: 6.3 | ES60: 5.9 | ET60: 4.85 | EU60: 5.2 | EV60: 5.9 | EW60: 5.5 | EX60: 5.7 | EY60: 5 | EZ60: 5.8 | FA60: 5 | FD60: 5.6 | FE60: 5.5 | FF60: 4.5 | FG60: 5.3 | FI60: 6.2 | FJ60: 6 | FL60: 5.5 | FP60: 8 | FR60: 5.3 | FS60: 5.4 | FT60: 4.1 | FV60: 4.3 | GA60: 6.3 | GB60: 5.9 | GC60: 5.5
A78: THỐNG KÊ KẾT QUẢ HỌC TẬP (căn cứ vào điểm trung bình chung học tập sau kỳ thi chính) | H78: SL = 35 SV | J78: % | N78: Ngày tháng năm 201 | AB78: Ngày tháng năm 201 | AZ78: Ngày tháng năm 201
A79: Loại Xuất sắc | D79: TBC HK từ 9,00 đến 10 | H79: 0/35 | J79: 0 % | N79: TRƯỞNG PHÒNG ĐÀO TẠO | AB79: TRƯỞNG KHOA | AZ79: CỐ VẤN HỌC TẬP
A80: Loại Giỏi | D80: TBC HK từ 8,00 đến 8,99 | H80: 0/35 | J80: 0 %
A81: Loại Khá | D81: TBC HK từ 7,00 đến 7,99 | H81: 0/35 | J81: 0 %
A82: Loại Trung bình | D82: TBC HK từ 5,50 đến 6,99 | H82: 14/35 | J82: 40 %
A83: Loại Trung bình yếu | D83: TBC HK từ 4,00 đến 5.49 | H83: 20/35 | J83: 57.14 %
A84: Loại Kém | D84: TBC HK dưới 4,00 | H84: 1/35 | J84: 2.86 %

Sheet CA NAM
A1: ỦY BAN NHÂN DÂN THÀNH PHỐ HỒ CHÍ MINH | AT1: CỘNG HOÀ XÃ HỘI CHỦ NGHĨA VIỆT NAM
A2: TRƯỜNG CAO ĐẲNG KỸ THUẬT LÝ TỰ TRỌNG THÀNH PHỐ HỒ CHÍ MINH | AT2: Độc lập - Tự do - Hạnh phúc
C3: LỚP: | D3: =IF($B11="","",IF(ISNA(VLOOKUP($B11,'DS LOP HKII'!$B$2:$F$936,5,FALSE))=TRUE,"",VLOOKUP($B11,'DS LOP HKII'!$B$2:$F$936,5,FALSE))) -> 13CĐ-Đ1 | G3: SĨ SỐ: | I3: =IF(B11="",0,MAX($A$11:$A$80)) -> 50
A4: BẢNG TỔNG KẾT HỌC TẬP NĂM HỌC 2014 - 2015
EK5: Điểm tích luỹ năm 2013-2014
A6: Số thứ tự | B6: HỌC PHẦN | H6: =IF(HKI!$H$6="","",HKI!$H$6) -> Anh văn 2 | J6: =IF(HKI!$L$6="","",HKI!$L$6) -> Những NLCB của CNMLN 2 | L6: =IF(HKI!$P$6="","",HKI!$P$6) -> Khí cụ điện và máy điện | N6: =IF(HKI!$T$6="","",HKI!$T$6) -> Kỹ thuật số | P6: =IF(HKI!$X$6="","",HKI!$X$6) -> Điện tử công suất | R6: =IF(HKI!$AB$6="","",HKI!$AB$6) -> Kỹ thuật truyền số liệu | T6: =IF(HKI!$AF$6="","",HKI!$AF$6) | V6: =IF(HKI!$AJ$6="","",HKI!$AJ$6) | X6: =IF(HKI!$AN$6="","",HKI!$AN$6) | Z6: =IF(HKI!$AR$6="","",HKI!$AR$6) -> Thực tập Điện tử cơ bản | AB6: =IF(HKI!$AV$6="","",HKI!$AV$6) -> Thực tập Đo lường và mạch điện | AD6: =IF(HKII!$H$6="","",HKII!$H$6) -> Anh văn chuyên ngành | AF6: =IF(HKII!$L$6="","",HKII!$L$6) -> Tư tưởng Hồ Chí Minh | AH6: =IF(HKII!$P$6="","",HKII!$P$6) -> Phương pháp nghiên cứu khoa học | AJ6: =IF(HKII!$T$6="","",HKII!$T$6) -> Đo lường cảm biến | AL6: =IF(HKII!$X$6="","",HKII!$X$6) -> Kỹ thuật Audio và Video | AN6: =IF(HKII!$AB$6="","",HKII!$AB$6) -> Vi xử lý | AP6: =IF(HKII!$AF$6="","",HKII!$AF$6) | AR6: =IF(HKII!$AJ$6="","",HKII!$AJ$6) -> Đồ án Mạng cung cấp điện | AT6: =IF(HKII!$AN$6="","",HKII!$AN$6) -> Thực tập Kỹ thuật số | AV6: =IF(HKII!$AR$6="","",HKII!$AR$6) -> Thực tập Điện công nghiệp cơ bản | AX6: =IF(HKII!$AV$6="","",HKII!$AV$6) | AZ6: TBC HỌC TẬP | BB6: KẾT QUẢ RÈN LUYỆN | BC6: XẾP LOẠI HT | BE6: KHEN THƯỞNG | BF6: CẢNH BÁO HỌC TẬP | BG6: TỔNG SỐ TÍN CHỈ ĐÃ HỌC | BH6: SỐ TC ĐÃ TÍCH LUỸ SAU KỲ THI CHÍNH | BI6: SỐ TC NỢ SAU KỲ THI CHÍNH | BJ6: SỐ TC ĐÃ TÍCH LUỸ SAU KỲ THI PHỤ | BK6: SỐ TC NỢ SAU KỲ THI PHỤ | BL6: ĐIỂM TBC TÍCH LUỸ SAU KỲ THI CHÍNH | BM6: HẠNG HỌC LỰC SAU KỲ THI CHÍNH | BN6: ĐIỂM TBC TÍCH LUỸ SAU KỲ THI PHỤ | BO6: HẠNG HỌC LỰC SAU KỲ THI PHỤ | BP6: HẠNG NĂM ĐÀO TẠO | BQ6: GHI CHÚ | BR6: SỐ TC TÍCH LUỸ TỪ ĐẦU KHOÁ HỌC | BS6: SỐ TC CÒN NỢ TỪ ĐẦU KHOÁ HỌC | BT6: =$H$6 -> Anh văn 2 | BU6: =$J$6 -> Những NLCB của CNMLN 2 | BV6: =$L$6 -> Khí cụ điện và máy điện | BW6: =$N$6 -> Kỹ thuật số | BX6: =$P$6 -> Điện tử công suất | BY6: =$R$6 -> Kỹ thuật truyền số liệu | BZ6: =$T$6 | CA6: =$V$6 | CB6: =$X$6 | CC6: =$Z$6 -> Thực tập Điện tử cơ bản | CD6: =$AB$6 -> Thực tập Đo lường và mạch điện | CE6: =$AD$6 -> Anh văn chuyên ngành | CF6: =$AF$6 -> Tư tưởng Hồ Chí Minh | CG6: =$AH$6 -> Phương pháp nghiên cứu khoa học | CH6: =$AJ$6 -> Đo lường cảm biến | CI6: =$AL$6 -> Kỹ thuật Audio và Video | CJ6: =$AN$6 -> Vi xử lý | CK6: =$AP$6 | CL6: =$AR$6 -> Đồ án Mạng cung cấp điện | CM6: =$AT$6 -> Thực tập Kỹ thuật số | CN6: =$AV$6 -> Thực tập Điện công nghiệp cơ bản | CO6: =$AX$6 | CP6: TBC HỌC TẬP KỲ THI CHÍNH | CQ6: =$H$6 -> Anh văn 2 | CR6: =$J$6 -> Những NLCB của CNMLN 2 | CS6: =$L$6 -> Khí cụ điện và máy điện | CT6: =$N$6 -> Kỹ thuật số | CU6: =$P$6 -> Điện tử công suất | CV6: =$R$6 -> Kỹ thuật truyền số liệu | CW6: =$T$6 | CX6: =$V$6 | CY6: =$X$6 | CZ6: =$Z$6 -> Thực tập Điện tử cơ bản | DA6: =$AB$6 -> Thực tập Đo lường và mạch điện | DB6: =$AD$6 -> Anh văn chuyên ngành | DC6: =$AF$6 -> Tư tưởng Hồ Chí Minh | DD6: =$AH$6 -> Phương pháp nghiên cứu khoa học | DE6: =$AJ$6 -> Đo lường cảm biến | DF6: =$AL$6 -> Kỹ thuật Audio và Video | DG6: =$AN$6 -> Vi xử lý | DH6: =$AP$6 | DI6: =$AR$6 -> Đồ án Mạng cung cấp điện | DJ6: =$AT$6 -> Thực tập Kỹ thuật số | DK6: =$AV$6 -> Thực tập Điện công nghiệp cơ bản | DL6: =$AX$6 | DN6: =$H$6 -> Anh văn 2 | DO6: =$J$6 -> Những NLCB của CNMLN 2 | DP6: =$L$6 -> Khí cụ điện và máy điện | DQ6: =$N$6 -> Kỹ thuật số | DR6: =$P$6 -> Điện tử công suất | DS6: =$R$6 -> Kỹ thuật truyền số liệu | DT6: =$T$6 | DU6: =$V$6 | DV6: =$X$6 | DW6: =$Z$6 -> Thực tập Điện tử cơ bản | DX6: =$AB$6 -> Thực tập Đo lường và mạch điện | DY6: =$AD$6 -> Anh văn chuyên ngành | DZ6: =$AF$6 -> Tư tưởng Hồ Chí Minh | EA6: =$AH$6 -> Phương pháp nghiên cứu khoa học | EB6: =$AJ$6 -> Đo lường cảm biến | EC6: =$AL$6 -> Kỹ thuật Audio và Video | ED6: =$AN$6 -> Vi xử lý | EE6: =$AP$6 | EF6: =$AR$6 -> Đồ án Mạng cung cấp điện | EG6: =$AT$6 -> Thực tập Kỹ thuật số | EH6: =$AV$6 -> Thực tập Điện công nghiệp cơ bản | EI6: =$AX$6 | EJ6: TBC HỌC TẬP KỲ THI PHỤ | EK6: =HKI!$EU$6 -> Toán cao cấp 1 | EL6: =HKI!$EV$6 -> Vật lý đại cương 1 | EM6: =HKI!$EW$6 -> Hóa học đại cương 1 | EN6: =HKI!$EX$6 -> Pháp luật đại cương | EO6: =HKI!$EY$6 -> Nhập môn Tin học | EP6: =HKI!$EZ$6 -> Đo lường và mạch điện | EQ6: =HKI!$FA$6 -> Mạng cung cấp điện | ER6: =HKI!$FB$6 | ES6: =HKI!$FC$6 | ET6: =HKI!$FD$6 -> Toán cao cấp 2 | EU6: =HKI!$FE$6 -> Anh văn 1 | EV6: =HKI!$FF$6 -> Xác suất thống kê | EW6: =HKI!$FG$6 -> Vật lý đại cương 2 | EX6: =HKI!$FH$6 -> Hoá học đại cương 2 | EY6: =HKI!$FI$6 -> Kỹ năng giao tiếp | EZ6: =HKI!$FJ$6 -> Những NLCB của CNMLN 1 | FA6: =HKI!$FK$6 -> Điện tử cơ bản | FB6: =HKI!$FL$6 -> An toàn điện | FC6: =HKI!$FM$6 | FD6: =HKI!$FN$6 | FE6: =HKI!$FO$6 | FF6: =HKI!$FP$6 -> Thực tập Điện cơ bản | FG6: =HKI!$FQ$6 | FH6: =$H$6 -> Anh văn 2 | FI6: =$J$6 -> Những NLCB của CNMLN 2 | FJ6: =$L$6 -> Khí cụ điện và máy điện | FK6: =$N$6 -> Kỹ thuật số | FL6: =$P$6 -> Điện tử công suất | FM6: =$R$6 -> Kỹ thuật truyền số liệu | FN6: =$T$6 | FO6: =$V$6 | FP6: =$X$6 | FQ6: =$Z$6 -> Thực tập Điện tử cơ bản | FR6: =$AB$6 -> Thực tập Đo lường và mạch điện | FS6: =$AD$6 -> Anh văn chuyên ngành | FT6: =$AF$6 -> Tư tưởng Hồ Chí Minh | FU6: =$AH$6 -> Phương pháp nghiên cứu khoa học | FV6: =$AJ$6 -> Đo lường cảm biến | FW6: =$AL$6 -> Kỹ thuật Audio và Video | FX6: =$AN$6 -> Vi xử lý | FY6: =$AP$6 | FZ6: =$AR$6 -> Đồ án Mạng cung cấp điện | GA6: =$AT$6 -> Thực tập Kỹ thuật số | GB6: =$AV$6 -> Thực tập Điện công nghiệp cơ bản | GC6: =$AX$6 | GE6: TRUNG BÌNH CHUNG TÍCH LŨY TỪ ĐẦU KHOÁ
B7: SỐ TÍN CHỈ | H7: =IF(HKI!$H$7="","",HKI!$H$7) -> 2 | J7: =IF(HKI!$L$7="","",HKI!$L$7) -> 3 | L7: =IF(HKI!$P$7="","",HKI!$P$7) -> 3 | N7: =IF(HKI!$T$7="","",HKI!$T$7) -> 2 | P7: =IF(HKI!$X$7="","",HKI!$X$7) -> 2 | R7: =IF(HKI!$AB$7="","",HKI!$AB$7) -> 2 | T7: =IF(HKI!$AF$7="","",HKI!$AF$7) | V7: =IF(HKI!$AJ$7="","",HKI!$AJ$7) | X7: =IF(HKI!$AN$7="","",HKI!$AN$7) | Z7: =IF(HKI!$AR$7="","",HKI!$AR$7) -> 2 | AB7: =IF(HKI!$AV$7="","",HKI!$AV$7) -> 2 | AD7: =IF(HKII!$H$7="","",HKII!$H$7) -> 2 | AF7: =IF(HKII!$L$7="","",HKII!$L$7) -> 2 | AH7: =IF(HKII!$P$7="","",HKII!$P$7) -> 2 | AJ7: =IF(HKII!$T$7="","",HKII!$T$7) -> 2 | AL7: =IF(HKII!$X$7="","",HKII!$X$7) -> 2 | AN7: =IF(HKII!$AB$7="","",HKII!$AB$7) -> 2 | AP7: =IF(HKII!$AF$7="","",HKII!$AF$7) | AR7: =IF(HKII!$AJ$7="","",HKII!$AJ$7) -> 1 | AT7: =IF(HKII!$AN$7="","",HKII!$AN$7) -> 2 | AV7: =IF(HKII!$AR$7="","",HKII!$AR$7) -> 2 | AX7: =IF(HKII!$AV$7="","",HKII!$AV$7) | AZ7: =SUM(H7:AY7) -> 35 | BT7: =$H$7 -> 2 | BU7: =$J$7 -> 3 | BV7: =$L$7 -> 3 | BW7: =$N$7 -> 2 | BX7: =$P$7 -> 2 | BY7: =$R$7 -> 2 | BZ7: =$T$7 | CA7: =$V$7 | CB7: =$X$7 | CC7: =$Z$7 -> 2 | CD7: =$AB$7 -> 2 | CE7: =$AD$7 -> 2 | CF7: =$AF$7 -> 2 | CG7: =$AH$7 -> 2 | CH7: =$AJ$7 -> 2 | CI7: =$AL$7 -> 2 | CJ7: =$AN$7 -> 2 | CK7: =$AP$7 | CL7: =$AR$7 -> 1 | CM7: =$AT$7 -> 2 | CN7: =$AV$7 -> 2 | CO7: =$AX$7 | CP7: =SUM($BT$7:$CO$7) -> 35 | CQ7: =$H$7 -> 2 | CR7: =$J$7 -> 3 | CS7: =$L$7 -> 3 | CT7: =$N$7 -> 2 | CU7: =$P$7 -> 2 | CV7: =$R$7 -> 2 | CW7: =$T$7 | CX7: =$V$7 | CY7: =$X$7 | CZ7: =$Z$7 -> 2 | DA7: =$AB$7 -> 2 | DB7: =$AD$7 -> 2 | DC7: =$AF$7 -> 2 | DD7: =$AH$7 -> 2 | DE7: =$AJ$7 -> 2 | DF7: =$AL$7 -> 2 | DG7: =$AN$7 -> 2 | DH7: =$AP$7 | DI7: =$AR$7 -> 1 | DJ7: =$AT$7 -> 2 | DK7: =$AV$7 -> 2 | DL7: =$AX$7 | DM7: =SUM($CQ$7:$DL$7) -> 35 | DN7: =$H$7 -> 2 | DO7: =$J$7 -> 3 | DP7: =$L$7 -> 3 | DQ7: =$N$7 -> 2 | DR7: =$P$7 -> 2 | DS7: =$R$7 -> 2 | DT7: =$T$7 | DU7: =$V$7 | DV7: =$X$7 | DW7: =$Z$7 -> 2 | DX7: =$AB$7 -> 2 | DY7: =$AD$7 -> 2 | DZ7: =$AF$7 -> 2 | EA7: =$AH$7 -> 2 | EB7: =$AJ$7 -> 2 | EC7: =$AL$7 -> 2 | ED7: =$AN$7 -> 2 | EE7: =$AP$7 | EF7: =$AR$7 -> 1 | EG7: =$AT$7 -> 2 | EH7: =$AV$7 -> 2 | EI7: =$AX$7 | EJ7: =SUM($DN$7:$EI$7) -> 35 | EK7: =HKI!$EU$7 -> 3 | EL7: =HKI!$EV$7 -> 3 | EM7: =HKI!$EW$7 -> 2 | EN7: =HKI!$EX$7 -> 2 | EO7: =HKI!$EY$7 -> 3 | EP7: =HKI!$EZ$7 -> 5 | EQ7: =HKI!$FA$7 -> 2 | ER7: =HKI!$FB$7 | ES7: =HKI!$FC$7 | ET7: =HKI!$FD$7 -> 2 | EU7: =HKI!$FE$7 -> 3 | EV7: =HKI!$FF$7 -> 2 | EW7: =HKI!$FG$7 -> 2 | EX7: =HKI!$FH$7 -> 2 | EY7: =HKI!$FI$7 -> 2 | EZ7: =HKI!$FJ$7 -> 2 | FA7: =HKI!$FK$7 -> 2 | FB7: =HKI!$FL$7 -> 2 | FC7: =HKI!$FM$7 | FD7: =HKI!$FN$7 | FE7: =HKI!$FO$7 | FF7: =HKI!$FP$7 -> 2 | FG7: =HKI!$FQ$7 | FH7: =$H$7 -> 2 | FI7: =$J$7 -> 3 | FJ7: =$L$7 -> 3 | FK7: =$N$7 -> 2 | FL7: =$P$7 -> 2 | FM7: =$R$7 -> 2 | FN7: =$T$7 | FO7: =$V$7 | FP7: =$X$7 | FQ7: =$Z$7 -> 2 | FR7: =$AB$7 -> 2 | FS7: =$AD$7 -> 2 | FT7: =$AF$7 -> 2 | FU7: =$AH$7 -> 2 | FV7: =$AJ$7 -> 2 | FW7: =$AL$7 -> 2 | FX7: =$AN$7 -> 2 | FY7: =$AP$7 | FZ7: =$AR$7 -> 1 | GA7: =$AT$7 -> 2 | GB7: =$AV$7 -> 2 | GC7: =$AX$7 | GD7: =SUM(FH7:GC7) -> 35
B8: MSSV | C8: Họ tên sinh viên | E8: HỆ CHUẨN | F8: NGÀY NGHỈ | H8: TKHP Chính | I8: TKHP Phụ | J8: TKHP Chính | K8: TKHP Phụ | L8: TKHP Chính | M8: TKHP Phụ | N8: TKHP Chính | O8: TKHP Phụ | P8: TKHP Chính | Q8: TKHP Phụ | R8: TKHP Chính | S8: TKHP Phụ | T8: TKHP Chính | U8: TKHP Phụ | V8: TKHP Chính | W8: TKHP Phụ | X8: TKHP Chính | Y8: TKHP Phụ | Z8: TKHP Chính | AA8: TKHP Phụ | AB8: TKHP Chính | AC8: TKHP Phụ | AD8: TKHP Chính | AE8: TKHP Phụ | AF8: TKHP Chính | AG8: TKHP Phụ | AH8: TKHP Chính | AI8: TKHP Phụ | AJ8: TKHP Chính | AK8: TKHP Phụ | AL8: TKHP Chính | AM8: TKHP Phụ | AN8: TKHP Chính | AO8: TKHP Phụ | AP8: TKHP Chính | AQ8: TKHP Phụ | AR8: TKHP Chính | AS8: TKHP Phụ | AT8: TKHP Chính | AU8: TKHP Phụ | AV8: TKHP Chính | AW8: TKHP Phụ | AX8: TKHP Chính | AY8: TKHP Phụ | AZ8: Kỳ thi Chính | BA8: Kỳ thi Phụ | BC8: Kỳ thi Chính | BD8: Kỳ thi Phụ | BT8: TỔNG KẾT HỌC PHẦN CHÍNH | CQ8: TỔNG KẾT TRUNG BÌNH CHUNG TÍCH LUỸ KỲ THI CHÍNH | DN8: THAY THẾ ĐIỂM THI PHỤ ĐỂ TÍNH HỌC PHẦN PHỤ | EK8: ĐIỂM TRUNG BÌNH CHUNG TÍCH LUỸ NĂM HỌC 2013 - 2014 | FH8: TỔNG KẾT TRUNG BÌNH CHUNG TÍCH LUỸ KỲ THI PHỤ
F9: P | G9: K
A10: (1) | B10: ="(2)" -> (2) | C10: (3) | E10: (4) | F10: (5) | G10: (6) | H10: (7) | J10: (8) | L10: (9) | N10: (10) | P10: (11) | R10: (12) | T10: (13) | V10: (14) | X10: (15) | Z10: (15) | AB10: (15) | AD10: (16) | AF10: (17) | AH10: (18) | AJ10: (19) | AL10: (20) | AN10: (20) | AP10: (21) | AR10: (22) | AT10: (23) | AV10: (24) | AX10: (26) | AZ10: (29) | BA10: (30) | BB10: (31) | BC10: (32) | BD10: (33) | BE10: (34) | BF10: (35) | BG10: (36) | BH10: (37) | BI10: (38) | BJ10: (39) | BK10: (40) | BL10: (41) | BM10: (42) | BN10: (43) | BO10: (44) | BP10: (45) | BQ10: (46) | BR10: (34) | BS10: (35)
A11: =IF(B11="",1,SUBTOTAL(3,$B$11:B11)) -> 1 | B11: =IF(HKII!$B11="","",HKII!$B11) -> 13D301Đ001 | C11: =IF($B11="","",VLOOKUP($B11,'DS LOP HKII'!$B$2:$C$936,2,0)) -> Lương Hoàng Thuận | D11: =IF($B11="","",VLOOKUP($B11,'DS LOP HKII'!$B$2:$D$936,3,0)) -> An | F11: =IF($B11="","",IF(AND(ISBLANK(VLOOKUP($B11,HKI!$B$11:$G$73,5,FALSE)),ISBLANK(VLOOKUP($B11,HKII!$B$11:$G$80,5,FALSE)))=TRUE,"",VLOOKUP($B11,HKI!$B$11:$G$73,5,FALSE)+VLOOKUP($B11,HKII!$B$11:$G$80,5,FALSE))) | G11: =IF($B11="","",IF(AND(ISBLANK(VLOOKUP($B11,HKI!$B$11:$G$73,6,FALSE)),ISBLANK(VLOOKUP($B11,HKII!$B$11:$G$80,6,FALSE)))=TRUE,"",VLOOKUP($B11,HKI!$B$11:$G$73,6,FALSE)+VLOOKUP($B11,HKII!$B$11:$G$80,6,FALSE))) -> 3 | H11: =IF(OR(ISNUMBER(VLOOKUP($B11,HKI!$B$11:$I$73,8,FALSE))=FALSE,$H$6="",$B11=""),"",VLOOKUP($B11,HKI!$B$11:$I$73,8,FALSE)) -> 4.6 | I11: =IF(OR(ISNUMBER(VLOOKUP($B11,HKI!$B$11:$K$73,10,FALSE))=FALSE,,$H$6="",$B11=""),"",VLOOKUP($B11,HKI!$B$11:$K$73,10,FALSE)) | J11: =IF(OR(ISNUMBER(VLOOKUP($B11,HKI!$B$11:$M$73,12,FALSE))=FALSE,$J$6="",$B11=""),"",VLOOKUP($B11,HKI!$B$11:$M$73,12,FALSE)) -> 7.3 | K11: =IF(OR(ISNUMBER(VLOOKUP($B11,HKI!$B$11:$O$73,14,FALSE))=FALSE,$J$6="",$B11=""),"",VLOOKUP($B11,HKI!$B$11:$O$73,14,FALSE)) | L11: =IF(OR(ISNUMBER(VLOOKUP($B11,HKI!$B$11:$Q$73,16,FALSE))=FALSE,$L$6="",$B11=""),"",VLOOKUP($B11,HKI!$B$11:$Q$73,16,FALSE)) -> 6.9 | M11: =IF(OR(ISNUMBER(VLOOKUP($B11,HKI!$B$11:$S$73,18,FALSE))=FALSE,$L$6="",$B11=""),"",VLOOKUP($B11,HKI!$B$11:$S$73,18,FALSE)) | N11: =IF(OR(ISNUMBER(VLOOKUP($B11,HKI!$B$11:$U$73,20,FALSE))=FALSE,$N$6="",$B11=""),"",VLOOKUP($B11,HKI!$B$11:$U$73,20,FALSE)) -> 7.3 | O11: =IF(OR(ISNUMBER(VLOOKUP($B11,HKI!$B$11:$W$73,22,FALSE))=FALSE,$N$6="",$B11=""),"",VLOOKUP($B11,HKI!$B$11:$W$73,22,FALSE)) | P11: =IF(OR(ISNUMBER(VLOOKUP($B11,HKI!$B$11:$Y$73,24,FALSE))=FALSE,$P$6="",$B11=""),"",VLOOKUP($B11,HKI!$B$11:$Y$73,24,FALSE)) -> 6.8 | Q11: =IF(OR(ISNUMBER(VLOOKUP($B11,HKI!$B$11:$AA$73,26,FALSE))=FALSE,$P$6="",$B11=""),"",VLOOKUP($B11,HKI!$B$11:$AA$73,26,FALSE)) | R11: =IF(OR(ISNUMBER(VLOOKUP($B11,HKI!$B$11:$AC$73,28,FALSE))=FALSE,$R$6="",$B11=""),"",VLOOKUP($B11,HKI!$B$11:$AC$73,28,FALSE)) -> 6.8 | S11: =IF(OR(ISNUMBER(VLOOKUP($B11,HKI!$B$11:$AE$73,30,FALSE))=FALSE,$R$6="",$B11=""),"",VLOOKUP($B11,HKI!$B$11:$AE$73,30,FALSE)) | T11: =IF(OR(ISNUMBER(VLOOKUP($B11,HKI!$B$11:$AG$73,32,FALSE))=FALSE,$T$6="",$B11=""),"",VLOOKUP($B11,HKI!$B$11:$AG$73,32,FALSE)) | U11: =IF(OR(ISNUMBER(VLOOKUP($B11,HKI!$B$11:$AI$73,34,FALSE))=FALSE,$T$6="",$B11=""),"",VLOOKUP($B11,HKI!$B$11:$AI$73,34,FALSE)) | V11: =IF(OR(ISNUMBER(VLOOKUP($B11,HKI!$B$11:$AK$73,36,FALSE))=FALSE,$V$6="",$B11=""),"",VLOOKUP($B11,HKI!$B$11:$AK$73,36,FALSE)) | W11: =IF(OR(ISNUMBER(VLOOKUP($B11,HKI!$B$11:$AM$73,38,FALSE))=FALSE,$V$6="",$B11=""),"",VLOOKUP($B11,HKI!$B$11:$AM$73,38,FALSE)) | X11: =IF(OR(ISNUMBER(VLOOKUP($B11,HKI!$B$11:$AO$73,40,FALSE))=FALSE,$X$6="",$B11=""),"",VLOOKUP($B11,HKI!$B$11:$AO$73,40,FALSE)) | Y11: =IF(OR(ISNUMBER(VLOOKUP($B11,HKI!$B$11:$AQ$73,42,FALSE))=FALSE,$X$6="",$B11=""),"",VLOOKUP($B11,HKI!$B$11:$AQ$73,42,FALSE)) | Z11: =IF(OR(ISNUMBER(VLOOKUP($B11,HKI!$B$11:$AS$73,44,FALSE))=FALSE,$Z$6="",$B11=""),"",VLOOKUP($B11,HKI!$B$11:$AS$73,44,FALSE)) -> 6.3 | AB11: =IF(OR(ISNUMBER(VLOOKUP($B11,HKI!$B$11:$AW$73,48,FALSE))=FALSE,$AB$6="",$B11=""),"",VLOOKUP($B11,HKI!$B$11:$AW$73,48,FALSE)) -> 9 | AD11: =IF(OR(ISNUMBER(VLOOKUP($B11,HKII!$B$11:$I$80,8,FALSE))=FALSE,$AD$6="",$B11=""),"",VLOOKUP($B11,HKII!$B$11:$I$80,8,FALSE)) -> 5.4 | AE11: =IF(OR(ISNUMBER(VLOOKUP($B11,HKII!$B$11:$K$80,10,FALSE))=FALSE,$AD$6="",$B11=""),"",VLOOKUP($B11,HKII!$B$11:$K$80,10,FALSE)) | AF11: =IF(OR(ISNUMBER(VLOOKUP($B11,HKII!$B$11:$M$80,12,FALSE))=FALSE,$AF$6="",$B11=""),"",VLOOKUP($B11,HKII!$B$11:$M$80,12,FALSE)) -> 6.7 | AG11: =IF(OR(ISNUMBER(VLOOKUP($B11,HKII!$B$11:$O$80,14,FALSE))=FALSE,$AF$6="",$B11=""),"",VLOOKUP($B11,HKII!$B$11:$O$80,14,FALSE)) | AH11: =IF(OR(ISNUMBER(VLOOKUP($B11,HKII!$B$11:$Q$80,16,FALSE))=FALSE,$AH$6="",$B11=""),"",VLOOKUP($B11,HKII!$B$11:$Q$80,16,FALSE)) -> 8.5 | AI11: =IF(OR(ISNUMBER(VLOOKUP($B11,HKII!$B$11:$S$80,18,FALSE))=FALSE,$AH$6="",$B11=""),"",VLOOKUP($B11,HKII!$B$11:$S$75,18,FALSE)) | AJ11: =IF(OR(ISNUMBER(VLOOKUP($B11,HKII!$B$11:$U$80,20,FALSE))=FALSE,$AJ$6="",$B11=""),"",VLOOKUP($B11,HKII!$B$11:$U$80,20,FALSE)) -> 6.5 | AK11: =IF(OR(ISNUMBER(VLOOKUP($B11,HKII!$B$11:$W$91,22,FALSE))=FALSE,$AJ$6="",$B11=""),"",VLOOKUP($B11,HKII!$B$11:$W$91,22,FALSE)) | AL11: =IF(OR(ISNUMBER(VLOOKUP($B11,HKII!$B$11:$Y$80,24,FALSE))=FALSE,$AL$6="",$B11=""),"",VLOOKUP($B11,HKII!$B$11:$Y$80,24,FALSE)) -> 6.5 | AM11: =IF(OR(ISNUMBER(VLOOKUP($B11,HKII!$B$11:$AA$80,26,FALSE))=FALSE,$AL$6="",$B11=""),"",VLOOKUP($B11,HKII!$B$11:$AA$80,26,FALSE)) | AN11: =IF(OR(ISNUMBER(VLOOKUP($B11,HKII!$B$11:$AC$80,28,FALSE))=FALSE,$AN$6="",$B11=""),"",VLOOKUP($B11,HKII!$B$11:$AC$80,28,FALSE)) -> 4.6 | AO11: =IF(OR(ISNUMBER(VLOOKUP($B11,HKII!$B$11:$AE$80,30,FALSE))=FALSE,$AN$6="",$B11=""),"",VLOOKUP($B11,HKII!$B$11:$AE$80,30,FALSE)) | AP11: =IF(OR(ISNUMBER(VLOOKUP($B11,HKII!$B$11:$AG$80,32,FALSE))=FALSE,$AP$6="",$B11=""),"",VLOOKUP($B11,HKII!$B$11:$AG$80,32,FALSE)) | AQ11: =IF(OR(ISNUMBER(VLOOKUP($B11,HKII!$B$11:$AI$80,34,FALSE))=FALSE,$AP$6="",$B11=""),"",VLOOKUP($B11,HKII!$B$11:$AI$80,34,FALSE)) | AR11: =IF(OR(ISNUMBER(VLOOKUP($B11,HKII!$B$11:$AK$80,36,FALSE))=FALSE,$AR$6="",$B11=""),"",VLOOKUP($B11,HKII!$B$11:$AK$80,36,FALSE)) -> 4 | AT11: =IF(OR(ISNUMBER(VLOOKUP($B11,HKII!$B$11:$AO$80,40,FALSE))=FALSE,$AT$6="",$B11=""),"",VLOOKUP($B11,HKII!$B$11:$AO$80,40,FALSE)) -> 5.8 | AV11: =IF(OR(ISNUMBER(VLOOKUP($B11,HKII!$B$11:$AS$80,44,FALSE))=FALSE,$AV$6="",$B11=""),"",VLOOKUP($B11,HKII!$B$11:$AS$80,44,FALSE)) -> 6 | AX11: =IF(OR(ISNUMBER(VLOOKUP($B11,HKII!$B$11:$AW$80,48,FALSE))=FALSE,AX6="",$B11=""),"",VLOOKUP($B11,HKII!$B$11:$AW$80,48,FALSE)) | AZ11: =IF($B11="","",$CP11) -> 6.52 | BA11: =IF($B11="","",IF($CP11<>$EJ11,$EJ11,"")) | BB11: =IF($B11="","",IF(OR(ISNUMBER(VLOOKUP($B11,HKI!$B$11:$BB$73,53,FALSE)),ISNUMBER(VLOOKUP($B11,HKII!$B$11:$BB$80,53,FALSE))),ROUND((VLOOKUP($B11,HKI!$B$11:$BB$73,53,FALSE)+VLOOKUP($B11,HKII!$B$11:$BB$80,53,FALSE))/2,0),"")) -> 81 | BC11: =IF($B11="","",IF($AZ11="","KXL",IF($AZ11<4,"Kém",IF($AZ11<5.5,"TB Yếu",IF($AZ11<7,"T.Bình",IF($AZ11<8,"Khá",IF($AZ11<9,"Giỏi","XS"))))))) -> T.Bình | BD11: =IF($B11="","",IF($BA11="","",IF($BA11="","KXL",IF($BA11<4,"Kém",IF($BA11<5.5,"TB Yếu",IF($BA11<7,"T.Bình",IF($BA11<8,"Khá",IF($BA11<9,"Giỏi","XS")))))))) | BF11: =IF(AND(ISNUMBER(BS11)=TRUE,$BS11>24),"Cảnh báo","") | BG11: =IF($B11="","",SUMIF($BT11:$CO11,">=0",$BT$7:$CO$7)) -> 35 | BH11: =IF($B11="","",SUMIF($BT11:$CO11,">=4",$BT$7:$CO$7)) -> 35 | BI11: =IF($B11="","",SUMIF($BT11:$CO11,"<4",$BT$7:$CO$7)) -> 0 | BJ11: =IF(OR($AZ11="",$B11=""),"",SUMIF($DN11:$EI11,">=4",$DN$7:$EI$7)) -> 35 | BK11: =IF(OR($AZ11="",$B11=""),"",SUMIF($DN11:$EI11,"<4",$DN$7:$EI$7)) -> 0 | BL11: =$DM11 -> 6.59 | BM11: =IF($B11="","",IF($BL11>=5.5,"BT","Y")) -> BT | BN11: =$GD11 -> 6.59 | BO11: =IF($B11="","",IF($BN11>=5.5,"BT","Y")) -> BT | BP11: =IF($BR11="","",IF($BR11<34,"SV năm 1",IF($BR11<=68,"SV năm 2","SV năm 3"))) -> SV năm 3 | BR11: =IF($B11="","",IF(AND(ISNUMBER(VLOOKUP($B11,HKI!$B$11:$BP$73,67,FALSE))=TRUE,ISNUMBER(VLOOKUP($B11,HKII!$B$11:$BI$80,60,FALSE))=TRUE),VLOOKUP($B11,HKI!$B$11:$BP$73,67,FALSE)+VLOOKUP($B11,HKII!$B$11:$BI$80,60,FALSE),IF(OR(ISNUMBER(VLOOKUP($B11,HKI!$B$11:$BP$73,67,FALSE))=TRUE,ISNUMBER(VLOOKUP($B11,HKII!$B$11:$BI$80,60,FALSE))=TRUE),VLOOKUP($B11,HKII!$B$11:$BI$80,60,FALSE),""))) -> 74 | BS11: =IF($B11="","",IF(ISNUMBER(VLOOKUP($B11,HKI!$B$11:$BQ$73,68,FALSE))=TRUE,VLOOKUP($B11,HKI!$B$11:$BQ$84,68,FALSE)+IF(ISNUMBER(VLOOKUP($B11,HKII!$B$11:$BJ$80,61,FALSE))=TRUE,VLOOKUP($B11,HKII!$B$11:$BJ$80,61,FALSE),VLOOKUP($B11,HKII!$B$11:$BJ$80,61,FALSE)),"")) -> 0 | BT11: =$H11 -> 4.6 | BU11: =$J11 -> 7.3 | BV11: =$L11 -> 6.9 | BW11: =$N11 -> 7.3 | BX11: =$P11 -> 6.8 | BY11: =$R11 -> 6.8 | BZ11: =$T11 | CA11: =$V11 | CB11: =$X11 | CC11: =$Z11 -> 6.3 | CD11: =$AB11 -> 9 | CE11: =$AD11 -> 5.4 | CF11: =$AF11 -> 6.7 | CG11: =$AH11 -> 8.5 | CH11: =$AJ11 -> 6.5 | CI11: =$AL11 -> 6.5 | CJ11: =$AN11 -> 4.6 | CK11: =$AP11 | CL11: =$AR11 -> 4 | CM11: =$AT11 -> 5.8 | CN11: =$AV11 -> 6 | CO11: =$AX11 | CP11: =IF(COUNT($BT11:$CO11)=0,"",ROUND(SUMPRODUCT($BT11:$CO11,$BT$7:$CO$7)/SUMIF($BT11:$CO11,">=0",$BT$7:$CO$7),2)) -> 6.52 | CQ11: =IF($BT11<=4,"",$BT11) -> 4.6 | CR11: =IF($BU11<=4,"",$BU11) -> 7.3 | CS11: =IF($BV11<=4,"",$BV11) -> 6.9 | CT11: =IF($BW11<=4,"",$BW11) -> 7.3 | CU11: =IF($BX11<=4,"",$BX11) -> 6.8 | CV11: =IF($BY11<=4,"",$BY11) -> 6.8 | CW11: =IF($BZ11<=4,"",$BZ11) | CX11: =IF($CA11<=4,"",$CA11) | CY11: =IF($CB11<=4,"",$CB11) | CZ11: =IF($CC11<=4,"",$CC11) -> 6.3 | DA11: =IF($CD11<=4,"",$CD11) -> 9 | DB11: =IF($CE11<=4,"",$CE11) -> 5.4 | DC11: =IF($CF11<=4,"",$CF11) -> 6.7 | DD11: =IF($CG11<=4,"",$CG11) -> 8.5 | DE11: =IF($CH11<=4,"",$CH11) -> 6.5 | DF11: =IF($CI11<=4,"",$CI11) -> 6.5 | DG11: =IF($CJ11<=4,"",$CJ11) -> 4.6 | DH11: =IF($CK11<=4,"",$CK11) | DI11: =IF($CL11<=4,"",$CL11) | DJ11: =IF($CM11<=4,"",$CM11) -> 5.8 | DK11: =IF($CN11<=4,"",$CN11) -> 6 | DL11: =IF($CO11<=4,"",$CO11) | DM11: =IF($B11="","",IF(COUNT($CQ11:$DL11)=0,0,ROUND(SUMPRODUCT($CQ11:$DL11,$CQ$7:$DL$7)/SUMIF($CQ11:$DL11,">=4",$CQ$7:$DL$7),2))) -> 6.59 | DN11: =IF($I11="",$H11,$I11) -> 4.6 | DO11: =IF($K11="",$J11,$K11) -> 7.3 | DP11: =IF($M11="",$L11,$M11) -> 6.9 | DQ11: =IF($O11="",$N11,$O11) -> 7.3 | DR11: =IF($Q11="",$P11,$Q11) -> 6.8 | DS11: =IF($S11="",$R11,$S11) -> 6.8 | DT11: =IF($U11="",$T11,$U11) | DU11: =IF($W11="",$V11,$W11) | DV11: =IF($Y11="",$X11,$Y11) | DW11: =IF($AA11="",$Z11,$AA11) -> 6.3 | DX11: =IF($AC11="",$AB11,$AC11) -> 9 | DY11: =IF($AE11="",$AD11,$AE11) -> 5.4 | DZ11: =IF($AG11="",$AF11,$AG11) -> 6.7 | EA11: =IF($AI11="",$AH11,$AI11) -> 8.5 | EB11: =IF($AK11="",$AJ11,$AK11) -> 6.5 | EC11: =IF($AM11="",$AL11,$AM11) -> 6.5 | ED11: =IF($AO11="",$AN11,$AO11) -> 4.6 | EE11: =IF($AQ11="",$AP11,$AQ11) | EF11: =IF($AS11="",$AR11,$AS11) -> 4 | EG11: =IF($AU11="",$AT11,$AU11) -> 5.8 | EH11: =IF($AW11="",$AV11,$AW11) -> 6 | EI11: =IF($AY11="",$AX11,$AY11) | EJ11: =IF(COUNT($DN11:$EI11)=0,"",ROUND(SUMPRODUCT($DN11:$EI11,$DN$7:$EI$7)/SUMIF($DN11:$EI11,">=0",$DN$7:$EI$7),2)) -> 6.52 | EK11: =IF($B11="","",IF(ISNUMBER(VLOOKUP($B11,HKI!$B$11:$EU$73,150,FALSE)),VLOOKUP($B11,HKI!$B$11:$EU$73,150,FALSE),"")) -> 5.2 | EL11: =IF($B11="","",IF(ISNUMBER(VLOOKUP($B11,HKI!$B$11:$EV$73,151,FALSE)),VLOOKUP($B11,HKI!$B$11:$EV$73,151,FALSE),"")) -> 9.3 | EM11: =IF($B11="","",IF(ISNUMBER(VLOOKUP($B11,HKI!$B$11:$EW$73,152,FALSE)),VLOOKUP($B11,HKI!$B$11:$EW$73,152,FALSE),"")) -> 7.2 | EN11: =IF($B11="","",IF(ISNUMBER(VLOOKUP($B11,HKI!$B$11:$EX$73,153,FALSE)),VLOOKUP($B11,HKI!$B$11:$EX$73,153,FALSE),"")) -> 5.8 | EO11: =IF($B11="","",IF(ISNUMBER(VLOOKUP($B11,HKI!$B$11:$EY$73,154,FALSE)),VLOOKUP($B11,HKI!$B$11:$EY$73,154,FALSE),"")) -> 6.3 | EP11: =IF($B11="","",IF(ISNUMBER(VLOOKUP($B11,HKI!$B$11:$EZ$73,155,FALSE)),VLOOKUP($B11,HKI!$B$11:$EZ$73,155,FALSE),"")) -> 7.2 | EQ11: =IF($B11="","",IF(ISNUMBER(VLOOKUP($B11,HKI!$B$11:$FA$73,156,FALSE)),VLOOKUP($B11,HKI!$B$11:$FA$73,156,FALSE),"")) -> 8.3 | ER11: =IF($B11="","",IF(ISNUMBER(VLOOKUP($B11,HKI!$B$11:$FB$73,157,FALSE)),VLOOKUP($B11,HKI!$B$11:$FB$73,157,FALSE),"")) | ES11: =IF($B11="","",IF(ISNUMBER(VLOOKUP($B11,HKI!$B$11:$FC$84,158,FALSE)),VLOOKUP($B11,HKI!$B$11:$FC$73,158,FALSE),"")) | ET11: =IF($B11="","",IF(ISNUMBER(VLOOKUP($B11,HKI!$B$11:$FD$73,159,FALSE)),VLOOKUP($B11,HKI!$B$11:$FD$73,159,FALSE),"")) -> 8.1 | EU11: =IF($B11="","",IF(ISNUMBER(VLOOKUP($B11,HKI!$B$11:$FE$73,160,FALSE)),VLOOKUP($B11,HKI!$B$11:$FE$73,160,FALSE),"")) -> 5.5 | EV11: =IF($B11="","",IF(ISNUMBER(VLOOKUP($B11,HKI!$B$11:$FF$73,161,FALSE)),VLOOKUP($B11,HKI!$B$11:$FF$73,161,FALSE),"")) | EW11: =IF($B11="","",IF(ISNUMBER(VLOOKUP($B11,HKI!$B$11:$FG$73,162,FALSE)),VLOOKUP($B11,HKI!$B$11:$FG$73,162,FALSE),"")) -> 9.8 | EX11: =IF($B11="","",IF(ISNUMBER(VLOOKUP($B11,HKI!$B$11:$FH$73,163,FALSE)),VLOOKUP($B11,HKI!$B$11:$FH$73,163,FALSE),"")) -> 9.1 | EY11: =IF($B11="","",IF(ISNUMBER(VLOOKUP($B11,HKI!$B$11:$FI$73,164,FALSE)),VLOOKUP($B11,HKI!$B$11:$FI$73,164,FALSE),"")) -> 8 | EZ11: =IF($B11="","",IF(ISNUMBER(VLOOKUP($B11,HKI!$B$11:$FJ$73,165,FALSE)),VLOOKUP($B11,HKI!$B$11:$FJ$73,165,FALSE),"")) -> 8.1 | FA11: =IF($B11="","",IF(ISNUMBER(VLOOKUP($B11,HKI!$B$11:$FK$73,166,FALSE)),VLOOKUP($B11,HKI!$B$11:$FK$73,166,FALSE),"")) -> 6 | FB11: =IF($B11="","",IF(ISNUMBER(VLOOKUP($B11,HKI!$B$11:$FL$73,167,FALSE)),VLOOKUP($B11,HKI!$B$11:$FL$73,167,FALSE),"")) -> 8 | FC11: =IF($B11="","",IF(ISNUMBER(VLOOKUP($B11,HKI!$B$11:$FM$73,168,FALSE)),VLOOKUP($B11,HKI!$B$11:$FM$73,168,FALSE),"")) | FD11: =IF($B11="","",IF(ISNUMBER(VLOOKUP($B11,HKI!$B$11:$FN$73,169,FALSE)),VLOOKUP($B11,HKI!$B$11:$FN$73,169,FALSE),"")) | FE11: =IF($B11="","",IF(ISNUMBER(VLOOKUP($B11,HKI!$B$11:$FO$73,170,FALSE)),VLOOKUP($B11,HKI!$B$11:$FO$73,170,FALSE),"")) | FF11: =IF($B11="","",IF(ISNUMBER(VLOOKUP($B11,HKI!$B$11:$FP$73,171,FALSE)),VLOOKUP($B11,HKI!$B$11:$FP$73,171,FALSE),"")) -> 7 | FG11: =IF($B11="","",IF(ISNUMBER(VLOOKUP($B11,HKI!$B$11:$FQ$73,172,FALSE)),VLOOKUP($B11,HKI!$B$11:$FQ$73,172,FALSE),"")) | FH11: =IF($DN11<=4,"",$DN11) -> 4.6 | FI11: =IF($DO11<=4,"",$DO11) -> 7.3 | FJ11: =IF($DP11<=4,"",$DP11) -> 6.9 | FK11: =IF($DQ11<=4,"",$DQ11) -> 7.3 | FL11: =IF($DR11<=4,"",$DR11) -> 6.8 | FM11: =IF($DS11<=4,"",$DS11) -> 6.8 | FN11: =IF($DT11<=4,"",$DT11) | FO11: =IF($DU11<=4,"",$DU11) | FP11: =IF($DV11<=4,"",$DV11) | FQ11: =IF($DW11<=4,"",$DW11) -> 6.3 | FR11: =IF($DX11<=4,"",$DX11) -> 9 | FS11: =IF($DY11<=4,"",$DY11) -> 5.4 | FT11: =IF($DZ11<=4,"",$DZ11) -> 6.7 | FU11: =IF($EA11<=4,"",$EA11) -> 8.5 | FV11: =IF($EB11<=4,"",$EB11) -> 6.5 | FW11: =IF($EC11<=4,"",$EC11) -> 6.5 | FX11: =IF($ED11<=4,"",$ED11) -> 4.6 | FY11: =IF($EE11<=4,"",$EE11) | FZ11: =IF($EF11<=4,"",$EF11) | GA11: =IF($EG11<=4,"",$EG11) -> 5.8 | GB11: =IF($EH11<=4,"",$EH11) -> 6 | GC11: =IF($EI11<=4,"",$EI11) | GD11: =IF($B11="","",IF(COUNT($FH11:$GC11)=0,0,ROUND(SUMPRODUCT($FH11:$GC11,$FH$7:$GC$7)/SUMIF($FH11:$GC11,">=4",$FH$7:$GC$7),2))) -> 6.59 | GE11: =IF($B11="","",IF(COUNT($EK11:$GC11)=0,0,ROUND(SUMPRODUCT($EK11:$GC11,$EK$7:$GC$7)/SUMIF($EK11:$GC11,">=4",$EK$7:$GC$7),2))) -> 6.98 | GI11: =SUMPRODUCT($EK11:$GC11,$EK$7:$GC$7) -> 509.9 | GJ11: =SUMIF($EK11:$GC11,">=0",$EK$7:$GC$7) -> 73 | GK11: =ROUND(GI11/GJ11,2) -> 6.98
A12: =IF(B12="","",SUBTOTAL(3,$B$11:B12)) -> 2 | B12: =IF(HKII!$B12="","",HKII!$B12) -> 13D301Đ004 | C12: =IF($B12="","",VLOOKUP($B12,'DS LOP HKII'!$B$2:$C$936,2,0)) -> Đặng Thế | D12: =IF($B12="","",VLOOKUP($B12,'DS LOP HKII'!$B$2:$D$936,3,0)) -> Anh | F12: =IF($B12="","",IF(AND(ISBLANK(VLOOKUP($B12,HKI!$B$11:$G$73,5,FALSE)),ISBLANK(VLOOKUP($B12,HKII!$B$11:$G$80,5,FALSE)))=TRUE,"",VLOOKUP($B12,HKI!$B$11:$G$73,5,FALSE)+VLOOKUP($B12,HKII!$B$11:$G$80,5,FALSE))) | G12: =IF($B12="","",IF(AND(ISBLANK(VLOOKUP($B12,HKI!$B$11:$G$73,6,FALSE)),ISBLANK(VLOOKUP($B12,HKII!$B$11:$G$80,6,FALSE)))=TRUE,"",VLOOKUP($B12,HKI!$B$11:$G$73,6,FALSE)+VLOOKUP($B12,HKII!$B$11:$G$80,6,FALSE))) -> 29 | H12: =IF(OR(ISNUMBER(VLOOKUP($B12,HKI!$B$11:$I$73,8,FALSE))=FALSE,$H$6="",$B12=""),"",VLOOKUP($B12,HKI!$B$11:$I$73,8,FALSE)) -> 4.7 | I12: =IF(OR(ISNUMBER(VLOOKUP($B12,HKI!$B$11:$K$73,10,FALSE))=FALSE,,$H$6="",$B12=""),"",VLOOKUP($B12,HKI!$B$11:$K$73,10,FALSE)) | J12: =IF(OR(ISNUMBER(VLOOKUP($B12,HKI!$B$11:$M$73,12,FALSE))=FALSE,$J$6="",$B12=""),"",VLOOKUP($B12,HKI!$B$11:$M$73,12,FALSE)) -> 5.9 | K12: =IF(OR(ISNUMBER(VLOOKUP($B12,HKI!$B$11:$O$73,14,FALSE))=FALSE,$J$6="",$B12=""),"",VLOOKUP($B12,HKI!$B$11:$O$73,14,FALSE)) | L12: =IF(OR(ISNUMBER(VLOOKUP($B12,HKI!$B$11:$Q$73,16,FALSE))=FALSE,$L$6="",$B12=""),"",VLOOKUP($B12,HKI!$B$11:$Q$73,16,FALSE)) -> 4 | M12: =IF(OR(ISNUMBER(VLOOKUP($B12,HKI!$B$11:$S$73,18,FALSE))=FALSE,$L$6="",$B12=""),"",VLOOKUP($B12,HKI!$B$11:$S$73,18,FALSE)) | N12: =IF(OR(ISNUMBER(VLOOKUP($B12,HKI!$B$11:$U$73,20,FALSE))=FALSE,$N$6="",$B12=""),"",VLOOKUP($B12,HKI!$B$11:$U$73,20,FALSE)) -> 3.3 | O12: =IF(OR(ISNUMBER(VLOOKUP($B12,HKI!$B$11:$W$73,22,FALSE))=FALSE,$N$6="",$B12=""),"",VLOOKUP($B12,HKI!$B$11:$W$73,22,FALSE)) | P12: =IF(OR(ISNUMBER(VLOOKUP($B12,HKI!$B$11:$Y$73,24,FALSE))=FALSE,$P$6="",$B12=""),"",VLOOKUP($B12,HKI!$B$11:$Y$73,24,FALSE)) -> 4.7 | Q12: =IF(OR(ISNUMBER(VLOOKUP($B12,HKI!$B$11:$AA$73,26,FALSE))=FALSE,$P$6="",$B12=""),"",VLOOKUP($B12,HKI!$B$11:$AA$73,26,FALSE)) | R12: =IF(OR(ISNUMBER(VLOOKUP($B12,HKI!$B$11:$AC$73,28,FALSE))=FALSE,$R$6="",$B12=""),"",VLOOKUP($B12,HKI!$B$11:$AC$73,28,FALSE)) -> 4.6 | S12: =IF(OR(ISNUMBER(VLOOKUP($B12,HKI!$B$11:$AE$73,30,FALSE))=FALSE,$R$6="",$B12=""),"",VLOOKUP($B12,HKI!$B$11:$AE$73,30,FALSE)) | T12: =IF(OR(ISNUMBER(VLOOKUP($B12,HKI!$B$11:$AG$73,32,FALSE))=FALSE,$T$6="",$B12=""),"",VLOOKUP($B12,HKI!$B$11:$AG$73,32,FALSE)) | U12: =IF(OR(ISNUMBER(VLOOKUP($B12,HKI!$B$11:$AI$73,34,FALSE))=FALSE,$T$6="",$B12=""),"",VLOOKUP($B12,HKI!$B$11:$AI$73,34,FALSE)) | V12: =IF(OR(ISNUMBER(VLOOKUP($B12,HKI!$B$11:$AK$73,36,FALSE))=FALSE,$V$6="",$B12=""),"",VLOOKUP($B12,HKI!$B$11:$AK$73,36,FALSE)) | W12: =IF(OR(ISNUMBER(VLOOKUP($B12,HKI!$B$11:$AM$73,38,FALSE))=FALSE,$V$6="",$B12=""),"",VLOOKUP($B12,HKI!$B$11:$AM$73,38,FALSE)) | X12: =IF(OR(ISNUMBER(VLOOKUP($B12,HKI!$B$11:$AO$73,40,FALSE))=FALSE,$X$6="",$B12=""),"",VLOOKUP($B12,HKI!$B$11:$AO$73,40,FALSE)) | Y12: =IF(OR(ISNUMBER(VLOOKUP($B12,HKI!$B$11:$AQ$73,42,FALSE))=FALSE,$X$6="",$B12=""),"",VLOOKUP($B12,HKI!$B$11:$AQ$73,42,FALSE)) | Z12: =IF(OR(ISNUMBER(VLOOKUP($B12,HKI!$B$11:$AS$73,44,FALSE))=FALSE,$Z$6="",$B12=""),"",VLOOKUP($B12,HKI!$B$11:$AS$73,44,FALSE)) -> 5.5 | AB12: =IF(OR(ISNUMBER(VLOOKUP($B12,HKI!$B$11:$AW$73,48,FALSE))=FALSE,$AB$6="",$B12=""),"",VLOOKUP($B12,HKI!$B$11:$AW$73,48,FALSE)) -> 5.8 | AD12: =IF(OR(ISNUMBER(VLOOKUP($B12,HKII!$B$11:$I$80,8,FALSE))=FALSE,$AD$6="",$B12=""),"",VLOOKUP($B12,HKII!$B$11:$I$80,8,FALSE)) -> 3.4 | AE12: =IF(OR(ISNUMBER(VLOOKUP($B12,HKII!$B$11:$K$80,10,FALSE))=FALSE,$AD$6="",$B12=""),"",VLOOKUP($B12,HKII!$B$11:$K$80,10,FALSE)) | AF12: =IF(OR(ISNUMBER(VLOOKUP($B12,HKII!$B$11:$M$80,12,FALSE))=FALSE,$AF$6="",$B12=""),"",VLOOKUP($B12,HKII!$B$11:$M$80,12,FALSE)) -> 2.1 | AG12: =IF(OR(ISNUMBER(VLOOKUP($B12,HKII!$B$11:$O$80,14,FALSE))=FALSE,$AF$6="",$B12=""),"",VLOOKUP($B12,HKII!$B$11:$O$80,14,FALSE)) | AH12: =IF(OR(ISNUMBER(VLOOKUP($B12,HKII!$B$11:$Q$80,16,FALSE))=FALSE,$AH$6="",$B12=""),"",VLOOKUP($B12,HKII!$B$11:$Q$80,16,FALSE)) -> 6.7 | AI12: =IF(OR(ISNUMBER(VLOOKUP($B12,HKII!$B$11:$S$80,18,FALSE))=FALSE,$AH$6="",$B12=""),"",VLOOKUP($B12,HKII!$B$11:$S$75,18,FALSE)) | AJ12: =IF(OR(ISNUMBER(VLOOKUP($B12,HKII!$B$11:$U$80,20,FALSE))=FALSE,$AJ$6="",$B12=""),"",VLOOKUP($B12,HKII!$B$11:$U$80,20,FALSE)) -> 2.5 | AK12: =IF(OR(ISNUMBER(VLOOKUP($B12,HKII!$B$11:$W$91,22,FALSE))=FALSE,$AJ$6="",$B12=""),"",VLOOKUP($B12,HKII!$B$11:$W$91,22,FALSE)) | AL12: =IF(OR(ISNUMBER(VLOOKUP($B12,HKII!$B$11:$Y$80,24,FALSE))=FALSE,$AL$6="",$B12=""),"",VLOOKUP($B12,HKII!$B$11:$Y$80,24,FALSE)) -> 7.3 | AM12: =IF(OR(ISNUMBER(VLOOKUP($B12,HKII!$B$11:$AA$80,26,FALSE))=FALSE,$AL$6="",$B12=""),"",VLOOKUP($B12,HKII!$B$11:$AA$80,26,FALSE)) | AN12: =IF(OR(ISNUMBER(VLOOKUP($B12,HKII!$B$11:$AC$80,28,FALSE))=FALSE,$AN$6="",$B12=""),"",VLOOKUP($B12,HKII!$B$11:$AC$80,28,FALSE)) -> 2.3 | AO12: =IF(OR(ISNUMBER(VLOOKUP($B12,HKII!$B$11:$AE$80,30,FALSE))=FALSE,$AN$6="",$B12=""),"",VLOOKUP($B12,HKII!$B$11:$AE$80,30,FALSE)) | AP12: =IF(OR(ISNUMBER(VLOOKUP($B12,HKII!$B$11:$AG$80,32,FALSE))=FALSE,$AP$6="",$B12=""),"",VLOOKUP($B12,HKII!$B$11:$AG$80,32,FALSE)) | AQ12: =IF(OR(ISNUMBER(VLOOKUP($B12,HKII!$B$11:$AI$80,34,FALSE))=FALSE,$AP$6="",$B12=""),"",VLOOKUP($B12,HKII!$B$11:$AI$80,34,FALSE)) | AR12: =IF(OR(ISNUMBER(VLOOKUP($B12,HKII!$B$11:$AK$80,36,FALSE))=FALSE,$AR$6="",$B12=""),"",VLOOKUP($B12,HKII!$B$11:$AK$80,36,FALSE)) -> 0 | AT12: =IF(OR(ISNUMBER(VLOOKUP($B12,HKII!$B$11:$AO$80,40,FALSE))=FALSE,$AT$6="",$B12=""),"",VLOOKUP($B12,HKII!$B$11:$AO$80,40,FALSE)) -> 6.3 | AV12: =IF(OR(ISNUMBER(VLOOKUP($B12,HKII!$B$11:$AS$80,44,FALSE))=FALSE,$AV$6="",$B12=""),"",VLOOKUP($B12,HKII!$B$11:$AS$80,44,FALSE)) -> 5.4 | AX12: =IF(OR(ISNUMBER(VLOOKUP($B12,HKII!$B$11:$AW$80,48,FALSE))=FALSE,AX7="",$B12=""),"",VLOOKUP($B12,HKII!$B$11:$AW$80,48,FALSE)) | AZ12: =IF($B12="","",$CP12) -> 4.54 | BA12: =IF($B12="","",IF($CP12<>$EJ12,$EJ12,"")) | BB12: =IF($B12="","",IF(OR(ISNUMBER(VLOOKUP($B12,HKI!$B$11:$BB$73,53,FALSE)),ISNUMBER(VLOOKUP($B12,HKII!$B$11:$BB$80,53,FALSE))),ROUND((VLOOKUP($B12,HKI!$B$11:$BB$73,53,FALSE)+VLOOKUP($B12,HKII!$B$11:$BB$80,53,FALSE))/2,0),"")) -> 38 | BC12: =IF($B12="","",IF($AZ12="","KXL",IF($AZ12<4,"Kém",IF($AZ12<5.5,"TB Yếu",IF($AZ12<7,"T.Bình",IF($AZ12<8,"Khá",IF($AZ12<9,"Giỏi","XS"))))))) -> TB Yếu | BD12: =IF($B12="","",IF($BA12="","",IF($BA12="","KXL",IF($BA12<4,"Kém",IF($BA12<5.5,"TB Yếu",IF($BA12<7,"T.Bình",IF($BA12<8,"Khá",IF($BA12<9,"Giỏi","XS")))))))) | BF12: =IF(AND(ISNUMBER(BS12)=TRUE,$BS12>24),"Cảnh báo","") | BG12: =IF($B12="","",SUMIF($BT12:$CO12,">=0",$BT$7:$CO$7)) -> 35 | BH12: =IF(B12="","",SUMIF(BT12:CO12,">=4",$BT$7:$CO$7)) -> 24 | BI12: =IF($B12="","",SUMIF($BT12:$CO12,"<4",$BT$7:$CO$7)) -> 11 | BJ12: =IF(OR($AZ12="",$B12=""),"",SUMIF($DN12:$EI12,">=4",$DN$7:$EI$7)) -> 24 | BK12: =IF(OR($AZ12="",$B12=""),"",SUMIF($DN12:$EI12,"<4",$DN$7:$EI$7)) -> 11 | BL12: =$DM12 -> 5.7 | BM12: =IF($B12="","",IF($BL12>=5.5,"BT","Y")) -> BT | BN12: =$GD12 -> 5.7 | BO12: =IF($B12="","",IF($BN12>=5.5,"BT","Y")) -> BT | BP12: =IF($BR12="","",IF($BR12<34,"SV năm 1",IF($BR12<=68,"SV năm 2","SV năm 3"))) -> SV năm 2 | BR12: =IF($B12="","",IF(AND(ISNUMBER(VLOOKUP($B12,HKI!$B$11:$BP$73,67,FALSE))=TRUE,ISNUMBER(VLOOKUP($B12,HKII!$B$11:$BI$80,60,FALSE))=TRUE),VLOOKUP($B12,HKI!$B$11:$BP$73,67,FALSE)+VLOOKUP($B12,HKII!$B$11:$BI$80,60,FALSE),IF(OR(ISNUMBER(VLOOKUP($B12,HKI!$B$11:$BP$73,67,FALSE))=TRUE,ISNUMBER(VLOOKUP($B12,HKII!$B$11:$BI$80,60,FALSE))=TRUE),VLOOKUP($B12,HKII!$B$11:$BI$80,60,FALSE),""))) -> 61 | BS12: =IF($B12="","",IF(ISNUMBER(VLOOKUP($B12,HKI!$B$11:$BQ$73,68,FALSE))=TRUE,VLOOKUP($B12,HKI!$B$11:$BQ$84,68,FALSE)+IF(ISNUMBER(VLOOKUP($B12,HKII!$B$11:$BJ$80,61,FALSE))=TRUE,VLOOKUP($B12,HKII!$B$11:$BJ$80,61,FALSE),VLOOKUP($B12,HKII!$B$11:$BJ$80,61,FALSE)),"")) -> 13 | BT12: =$H12 -> 4.7 | BU12: =$J12 -> 5.9 | BV12: =$L12 -> 4 | BW12: =$N12 -> 3.3 | BX12: =$P12 -> 4.7 | BY12: =$R12 -> 4.6 | BZ12: =$T12 | CA12: =$V12 | CB12: =$X12 | CC12: =$Z12 -> 5.5 | CD12: =$AB12 -> 5.8 | CE12: =$AD12 -> 3.4 | CF12: =$AF12 -> 2.1 | CG12: =$AH12 -> 6.7 | CH12: =$AJ12 -> 2.5 | CI12: =$AL12 -> 7.3 | CJ12: =$AN12 -> 2.3 | CK12: =$AP12 | CL12: =$AR12 -> 0 | CM12: =$AT12 -> 6.3 | CN12: =$AV12 -> 5.4 | CO12: =$AX12 | CP12: =IF(COUNT($BT12:$CO12)=0,"",ROUND(SUMPRODUCT($BT12:$CO12,$BT$7:$CO$7)/SUMIF($BT12:$CO12,">=0",$BT$7:$CO$7),2)) -> 4.54 | CQ12: =IF($BT12<=4,"",$BT12) -> 4.7 | CR12: =IF($BU12<=4,"",$BU12) -> 5.9 | CS12: =IF($BV12<=4,"",$BV12) | CT12: =IF($BW12<=4,"",$BW12) | CU12: =IF($BX12<=4,"",$BX12) -> 4.7 | CV12: =IF($BY12<=4,"",$BY12) -> 4.6 | CW12: =IF($BZ12<=4,"",$BZ12) | CX12: =IF($CA12<=4,"",$CA12) | CY12: =IF($CB12<=4,"",$CB12) | CZ12: =IF($CC12<=4,"",$CC12) -> 5.5 | DA12: =IF($CD12<=4,"",$CD12) -> 5.8 | DB12: =IF($CE12<=4,"",$CE12) | DC12: =IF($CF12<=4,"",$CF12) | DD12: =IF($CG12<=4,"",$CG12) -> 6.7 | DE12: =IF($CH12<=4,"",$CH12) | DF12: =IF($CI12<=4,"",$CI12) -> 7.3 | DG12: =IF($CJ12<=4,"",$CJ12) | DH12: =IF($CK12<=4,"",$CK12) | DI12: =IF($CL12<=4,"",$CL12) | DJ12: =IF($CM12<=4,"",$CM12) -> 6.3 | DK12: =IF($CN12<=4,"",$CN12) -> 5.4 | DL12: =IF($CO12<=4,"",$CO12) | DM12: =IF($B12="","",IF(COUNT($CQ12:$DL12)=0,0,ROUND(SUMPRODUCT($CQ12:$DL12,$CQ$7:$DL$7)/SUMIF($CQ12:$DL12,">=4",$CQ$7:$DL$7),2))) -> 5.7 | DN12: =IF($I12="",$H12,$I12) -> 4.7 | DO12: =IF($K12="",$J12,$K12) -> 5.9 | DP12: =IF($M12="",$L12,$M12) -> 4 | DQ12: =IF($O12="",$N12,$O12) -> 3.3 | DR12: =IF($Q12="",$P12,$Q12) -> 4.7 | DS12: =IF($S12="",$R12,$S12) -> 4.6 | DT12: =IF($U12="",$T12,$U12) | DU12: =IF($W12="",$V12,$W12) | DV12: =IF($Y12="",$X12,$Y12) | DW12: =IF($AA12="",$Z12,$AA12) -> 5.5 | DX12: =IF($AC12="",$AB12,$AC12) -> 5.8 | DY12: =IF($AE12="",$AD12,$AE12) -> 3.4 | DZ12: =IF($AG12="",$AF12,$AG12) -> 2.1 | EA12: =IF($AI12="",$AH12,$AI12) -> 6.7 | EB12: =IF($AK12="",$AJ12,$AK12) -> 2.5 | EC12: =IF($AM12="",$AL12,$AM12) -> 7.3 | ED12: =IF($AO12="",$AN12,$AO12) -> 2.3 | EE12: =IF($AQ12="",$AP12,$AQ12) | EF12: =IF($AS12="",$AR12,$AS12) -> 0 | EG12: =IF($AU12="",$AT12,$AU12) -> 6.3 | EH12: =IF($AW12="",$AV12,$AW12) -> 5.4 | EI12: =IF($AY12="",$AX12,$AY12) | EJ12: =IF(COUNT($DN12:$EI12)=0,"",ROUND(SUMPRODUCT($DN12:$EI12,$DN$7:$EI$7)/SUMIF($DN12:$EI12,">=0",$DN$7:$EI$7),2)) -> 4.54 | EK12: =IF($B12="","",IF(ISNUMBER(VLOOKUP($B12,HKI!$B$11:$EU$73,150,FALSE)),VLOOKUP($B12,HKI!$B$11:$EU$73,150,FALSE),"")) -> 6.2 | EL12: =IF($B12="","",IF(ISNUMBER(VLOOKUP($B12,HKI!$B$11:$EV$73,151,FALSE)),VLOOKUP($B12,HKI!$B$11:$EV$73,151,FALSE),"")) -> 5 | EM12: =IF($B12="","",IF(ISNUMBER(VLOOKUP($B12,HKI!$B$11:$EW$73,152,FALSE)),VLOOKUP($B12,HKI!$B$11:$EW$73,152,FALSE),"")) -> 4.2 | EN12: =IF($B12="","",IF(ISNUMBER(VLOOKUP($B12,HKI!$B$11:$EX$73,153,FALSE)),VLOOKUP($B12,HKI!$B$11:$EX$73,153,FALSE),"")) -> 5 | EO12: =IF($B12="","",IF(ISNUMBER(VLOOKUP($B12,HKI!$B$11:$EY$73,154,FALSE)),VLOOKUP($B12,HKI!$B$11:$EY$73,154,FALSE),"")) -> 5.7 | EP12: =IF($B12="","",IF(ISNUMBER(VLOOKUP($B12,HKI!$B$11:$EZ$73,155,FALSE)),VLOOKUP($B12,HKI!$B$11:$EZ$73,155,FALSE),"")) -> 5.7 | EQ12: =IF($B12="","",IF(ISNUMBER(VLOOKUP($B12,HKI!$B$11:$FA$73,156,FALSE)),VLOOKUP($B12,HKI!$B$11:$FA$73,156,FALSE),"")) -> 7.4 | ER12: =IF($B12="","",IF(ISNUMBER(VLOOKUP($B12,HKI!$B$11:$FB$73,157,FALSE)),VLOOKUP($B12,HKI!$B$11:$FB$73,157,FALSE),"")) | ES12: =IF($B12="","",IF(ISNUMBER(VLOOKUP($B12,HKI!$B$11:$FC$84,158,FALSE)),VLOOKUP($B12,HKI!$B$11:$FC$73,158,FALSE),"")) | ET12: =IF($B12="","",IF(ISNUMBER(VLOOKUP($B12,HKI!$B$11:$FD$73,159,FALSE)),VLOOKUP($B12,HKI!$B$11:$FD$73,159,FALSE),"")) -> 5.4 | EU12: =IF($B12="","",IF(ISNUMBER(VLOOKUP($B12,HKI!$B$11:$FE$73,160,FALSE)),VLOOKUP($B12,HKI!$B$11:$FE$73,160,FALSE),"")) -> 5.3 | EV12: =IF($B12="","",IF(ISNUMBER(VLOOKUP($B12,HKI!$B$11:$FF$73,161,FALSE)),VLOOKUP($B12,HKI!$B$11:$FF$73,161,FALSE),"")) -> 5.2 | EW12: =IF($B12="","",IF(ISNUMBER(VLOOKUP($B12,HKI!$B$11:$FG$73,162,FALSE)),VLOOKUP($B12,HKI!$B$11:$FG$73,162,FALSE),"")) -> 5.1 | EX12: =IF($B12="","",IF(ISNUMBER(VLOOKUP($B12,HKI!$B$11:$FH$73,163,FALSE)),VLOOKUP($B12,HKI!$B$11:$FH$73,163,FALSE),"")) | EY12: =IF($B12="","",IF(ISNUMBER(VLOOKUP($B12,HKI!$B$11:$FI$73,164,FALSE)),VLOOKUP($B12,HKI!$B$11:$FI$73,164,FALSE),"")) -> 5.7 | EZ12: =IF($B12="","",IF(ISNUMBER(VLOOKUP($B12,HKI!$B$11:$FJ$73,165,FALSE)),VLOOKUP($B12,HKI!$B$11:$FJ$73,165,FALSE),"")) -> 5.6 | FA12: =IF($B12="","",IF(ISNUMBER(VLOOKUP($B12,HKI!$B$11:$FK$73,166,FALSE)),VLOOKUP($B12,HKI!$B$11:$FK$73,166,FALSE),"")) | FB12: =IF($B12="","",IF(ISNUMBER(VLOOKUP($B12,HKI!$B$11:$FL$73,167,FALSE)),VLOOKUP($B12,HKI!$B$11:$FL$73,167,FALSE),"")) -> 5.8 | FC12: =IF($B12="","",IF(ISNUMBER(VLOOKUP($B12,HKI!$B$11:$FM$73,168,FALSE)),VLOOKUP($B12,HKI!$B$11:$FM$73,168,FALSE),"")) | FD12: =IF($B12="","",IF(ISNUMBER(VLOOKUP($B12,HKI!$B$11:$FN$73,169,FALSE)),VLOOKUP($B12,HKI!$B$11:$FN$73,169,FALSE),"")) | FE12: =IF($B12="","",IF(ISNUMBER(VLOOKUP($B12,HKI!$B$11:$FO$73,170,FALSE)),VLOOKUP($B12,HKI!$B$11:$FO$73,170,FALSE),"")) | FF12: =IF($B12="","",IF(ISNUMBER(VLOOKUP($B12,HKI!$B$11:$FP$73,171,FALSE)),VLOOKUP($B12,HKI!$B$11:$FP$73,171,FALSE),"")) -> 6.6 | FG12: =IF($B12="","",IF(ISNUMBER(VLOOKUP($B12,HKI!$B$11:$FQ$73,172,FALSE)),VLOOKUP($B12,HKI!$B$11:$FQ$73,172,FALSE),"")) | FH12: =IF($DN12<=4,"",$DN12) -> 4.7 | FI12: =IF($DO12<=4,"",$DO12) -> 5.9 | FJ12: =IF($DP12<=4,"",$DP12) | FK12: =IF($DQ12<=4,"",$DQ12) | FL12: =IF($DR12<=4,"",$DR12) -> 4.7 | FM12: =IF($DS12<=4,"",$DS12) -> 4.6 | FN12: =IF($DT12<=4,"",$DT12) | FO12: =IF($DU12<=4,"",$DU12) | FP12: =IF($DV12<=4,"",$DV12) | FQ12: =IF($DW12<=4,"",$DW12) -> 5.5 | FR12: =IF($DX12<=4,"",$DX12) -> 5.8 | FS12: =IF($DY12<=4,"",$DY12) | FT12: =IF($DZ12<=4,"",$DZ12) | FU12: =IF($EA12<=4,"",$EA12) -> 6.7 | FV12: =IF($EB12<=4,"",$EB12) | FW12: =IF($EC12<=4,"",$EC12) -> 7.3 | FX12: =IF($ED12<=4,"",$ED12) | FY12: =IF($EE12<=4,"",$EE12) | FZ12: =IF($EF12<=4,"",$EF12) | GA12: =IF($EG12<=4,"",$EG12) -> 6.3 | GB12: =IF($EH12<=4,"",$EH12) -> 5.4 | GC12: =IF($EI12<=4,"",$EI12) | GD12: =IF($B12="","",IF(COUNT($FH12:$GC12)=0,0,ROUND(SUMPRODUCT($FH12:$GC12,$FH$7:$GC$7)/SUMIF($FH12:$GC12,">=4",$FH$7:$GC$7),2))) -> 5.7 | GE12: =IF($B12="","",IF(COUNT($EK12:$GC12)=0,0,ROUND(SUMPRODUCT($EK12:$GC12,$EK$7:$GC$7)/SUMIF($EK12:$GC12,">=4",$EK$7:$GC$7),2))) -> 5.63 | GI12: =SUMPRODUCT($EK12:$GC12,$EK$7:$GC$7) -> 326.8 | GJ12: =SUMIF($EK12:$GC12,">=0",$EK$7:$GC$7) -> 58 | GK12: =ROUND(GI12/GJ12,2) -> 5.63
A13: =IF(B13="","",SUBTOTAL(3,$B$11:B13)) -> 3 | B13: =IF(HKII!$B13="","",HKII!$B13) -> 13D301Đ149 | C13: =IF($B13="","",VLOOKUP($B13,'DS LOP HKII'!$B$2:$C$936,2,0)) -> Đỗ Huỳnh | D13: =IF($B13="","",VLOOKUP($B13,'DS LOP HKII'!$B$2:$D$936,3,0)) -> Bảo | F13: =IF($B13="","",IF(AND(ISBLANK(VLOOKUP($B13,HKI!$B$11:$G$73,5,FALSE)),ISBLANK(VLOOKUP($B13,HKII!$B$11:$G$80,5,FALSE)))=TRUE,"",VLOOKUP($B13,HKI!$B$11:$G$73,5,FALSE)+VLOOKUP($B13,HKII!$B$11:$G$80,5,FALSE))) | G13: =IF($B13="","",IF(AND(ISBLANK(VLOOKUP($B13,HKI!$B$11:$G$73,6,FALSE)),ISBLANK(VLOOKUP($B13,HKII!$B$11:$G$80,6,FALSE)))=TRUE,"",VLOOKUP($B13,HKI!$B$11:$G$73,6,FALSE)+VLOOKUP($B13,HKII!$B$11:$G$80,6,FALSE))) -> 8 | H13: =IF(OR(ISNUMBER(VLOOKUP($B13,HKI!$B$11:$I$73,8,FALSE))=FALSE,$H$6="",$B13=""),"",VLOOKUP($B13,HKI!$B$11:$I$73,8,FALSE)) -> 4.9 | I13: =IF(OR(ISNUMBER(VLOOKUP($B13,HKI!$B$11:$K$73,10,FALSE))=FALSE,,$H$6="",$B13=""),"",VLOOKUP($B13,HKI!$B$11:$K$73,10,FALSE)) | J13: =IF(OR(ISNUMBER(VLOOKUP($B13,HKI!$B$11:$M$73,12,FALSE))=FALSE,$J$6="",$B13=""),"",VLOOKUP($B13,HKI!$B$11:$M$73,12,FALSE)) -> 7.1 | K13: =IF(OR(ISNUMBER(VLOOKUP($B13,HKI!$B$11:$O$73,14,FALSE))=FALSE,$J$6="",$B13=""),"",VLOOKUP($B13,HKI!$B$11:$O$73,14,FALSE)) | L13: =IF(OR(ISNUMBER(VLOOKUP($B13,HKI!$B$11:$Q$73,16,FALSE))=FALSE,$L$6="",$B13=""),"",VLOOKUP($B13,HKI!$B$11:$Q$73,16,FALSE)) -> 5 | M13: =IF(OR(ISNUMBER(VLOOKUP($B13,HKI!$B$11:$S$73,18,FALSE))=FALSE,$L$6="",$B13=""),"",VLOOKUP($B13,HKI!$B$11:$S$73,18,FALSE)) | N13: =IF(OR(ISNUMBER(VLOOKUP($B13,HKI!$B$11:$U$73,20,FALSE))=FALSE,$N$6="",$B13=""),"",VLOOKUP($B13,HKI!$B$11:$U$73,20,FALSE)) -> 4.3 | O13: =IF(OR(ISNUMBER(VLOOKUP($B13,HKI!$B$11:$W$73,22,FALSE))=FALSE,$N$6="",$B13=""),"",VLOOKUP($B13,HKI!$B$11:$W$73,22,FALSE)) | P13: =IF(OR(ISNUMBER(VLOOKUP($B13,HKI!$B$11:$Y$73,24,FALSE))=FALSE,$P$6="",$B13=""),"",VLOOKUP($B13,HKI!$B$11:$Y$73,24,FALSE)) -> 4.1 | Q13: =IF(OR(ISNUMBER(VLOOKUP($B13,HKI!$B$11:$AA$73,26,FALSE))=FALSE,$P$6="",$B13=""),"",VLOOKUP($B13,HKI!$B$11:$AA$73,26,FALSE)) | R13: =IF(OR(ISNUMBER(VLOOKUP($B13,HKI!$B$11:$AC$73,28,FALSE))=FALSE,$R$6="",$B13=""),"",VLOOKUP($B13,HKI!$B$11:$AC$73,28,FALSE)) -> 5.9 | S13: =IF(OR(ISNUMBER(VLOOKUP($B13,HKI!$B$11:$AE$73,30,FALSE))=FALSE,$R$6="",$B13=""),"",VLOOKUP($B13,HKI!$B$11:$AE$73,30,FALSE)) | T13: =IF(OR(ISNUMBER(VLOOKUP($B13,HKI!$B$11:$AG$73,32,FALSE))=FALSE,$T$6="",$B13=""),"",VLOOKUP($B13,HKI!$B$11:$AG$73,32,FALSE)) | U13: =IF(OR(ISNUMBER(VLOOKUP($B13,HKI!$B$11:$AI$73,34,FALSE))=FALSE,$T$6="",$B13=""),"",VLOOKUP($B13,HKI!$B$11:$AI$73,34,FALSE)) | V13: =IF(OR(ISNUMBER(VLOOKUP($B13,HKI!$B$11:$AK$73,36,FALSE))=FALSE,$V$6="",$B13=""),"",VLOOKUP($B13,HKI!$B$11:$AK$73,36,FALSE)) | W13: =IF(OR(ISNUMBER(VLOOKUP($B13,HKI!$B$11:$AM$73,38,FALSE))=FALSE,$V$6="",$B13=""),"",VLOOKUP($B13,HKI!$B$11:$AM$73,38,FALSE)) | X13: =IF(OR(ISNUMBER(VLOOKUP($B13,HKI!$B$11:$AO$73,40,FALSE))=FALSE,$X$6="",$B13=""),"",VLOOKUP($B13,HKI!$B$11:$AO$73,40,FALSE)) | Y13: =IF(OR(ISNUMBER(VLOOKUP($B13,HKI!$B$11:$AQ$73,42,FALSE))=FALSE,$X$6="",$B13=""),"",VLOOKUP($B13,HKI!$B$11:$AQ$73,42,FALSE)) | Z13: =IF(OR(ISNUMBER(VLOOKUP($B13,HKI!$B$11:$AS$73,44,FALSE))=FALSE,$Z$6="",$B13=""),"",VLOOKUP($B13,HKI!$B$11:$AS$73,44,FALSE)) -> 5.3 | AB13: =IF(OR(ISNUMBER(VLOOKUP($B13,HKI!$B$11:$AW$73,48,FALSE))=FALSE,$AB$6="",$B13=""),"",VLOOKUP($B13,HKI!$B$11:$AW$73,48,FALSE)) -> 7 | AD13: =IF(OR(ISNUMBER(VLOOKUP($B13,HKII!$B$11:$I$80,8,FALSE))=FALSE,$AD$6="",$B13=""),"",VLOOKUP($B13,HKII!$B$11:$I$80,8,FALSE)) -> 4.7 | AE13: =IF(OR(ISNUMBER(VLOOKUP($B13,HKII!$B$11:$K$80,10,FALSE))=FALSE,$AD$6="",$B13=""),"",VLOOKUP($B13,HKII!$B$11:$K$80,10,FALSE)) | AF13: =IF(OR(ISNUMBER(VLOOKUP($B13,HKII!$B$11:$M$80,12,FALSE))=FALSE,$AF$6="",$B13=""),"",VLOOKUP($B13,HKII!$B$11:$M$80,12,FALSE)) -> 5 | AG13: =IF(OR(ISNUMBER(VLOOKUP($B13,HKII!$B$11:$O$80,14,FALSE))=FALSE,$AF$6="",$B13=""),"",VLOOKUP($B13,HKII!$B$11:$O$80,14,FALSE)) | AH13: =IF(OR(ISNUMBER(VLOOKUP($B13,HKII!$B$11:$Q$80,16,FALSE))=FALSE,$AH$6="",$B13=""),"",VLOOKUP($B13,HKII!$B$11:$Q$80,16,FALSE)) -> 7 | AI13: =IF(OR(ISNUMBER(VLOOKUP($B13,HKII!$B$11:$S$80,18,FALSE))=FALSE,$AH$6="",$B13=""),"",VLOOKUP($B13,HKII!$B$11:$S$75,18,FALSE)) | AJ13: =IF(OR(ISNUMBER(VLOOKUP($B13,HKII!$B$11:$U$80,20,FALSE))=FALSE,$AJ$6="",$B13=""),"",VLOOKUP($B13,HKII!$B$11:$U$80,20,FALSE)) -> 5.3 | AK13: =IF(OR(ISNUMBER(VLOOKUP($B13,HKII!$B$11:$W$91,22,FALSE))=FALSE,$AJ$6="",$B13=""),"",VLOOKUP($B13,HKII!$B$11:$W$91,22,FALSE)) | AL13: =IF(OR(ISNUMBER(VLOOKUP($B13,HKII!$B$11:$Y$80,24,FALSE))=FALSE,$AL$6="",$B13=""),"",VLOOKUP($B13,HKII!$B$11:$Y$80,24,FALSE)) -> 7.1 | AM13: =IF(OR(ISNUMBER(VLOOKUP($B13,HKII!$B$11:$AA$80,26,FALSE))=FALSE,$AL$6="",$B13=""),"",VLOOKUP($B13,HKII!$B$11:$AA$80,26,FALSE)) | AN13: =IF(OR(ISNUMBER(VLOOKUP($B13,HKII!$B$11:$AC$80,28,FALSE))=FALSE,$AN$6="",$B13=""),"",VLOOKUP($B13,HKII!$B$11:$AC$80,28,FALSE)) -> 2.5 | AO13: =IF(OR(ISNUMBER(VLOOKUP($B13,HKII!$B$11:$AE$80,30,FALSE))=FALSE,$AN$6="",$B13=""),"",VLOOKUP($B13,HKII!$B$11:$AE$80,30,FALSE)) | AP13: =IF(OR(ISNUMBER(VLOOKUP($B13,HKII!$B$11:$AG$80,32,FALSE))=FALSE,$AP$6="",$B13=""),"",VLOOKUP($B13,HKII!$B$11:$AG$80,32,FALSE)) | AQ13: =IF(OR(ISNUMBER(VLOOKUP($B13,HKII!$B$11:$AI$80,34,FALSE))=FALSE,$AP$6="",$B13=""),"",VLOOKUP($B13,HKII!$B$11:$AI$80,34,FALSE)) | AR13: =IF(OR(ISNUMBER(VLOOKUP($B13,HKII!$B$11:$AK$80,36,FALSE))=FALSE,$AR$6="",$B13=""),"",VLOOKUP($B13,HKII!$B$11:$AK$80,36,FALSE)) -> 4 | AT13: =IF(OR(ISNUMBER(VLOOKUP($B13,HKII!$B$11:$AO$80,40,FALSE))=FALSE,$AT$6="",$B13=""),"",VLOOKUP($B13,HKII!$B$11:$AO$80,40,FALSE)) -> 6.5 | AV13: =IF(OR(ISNUMBER(VLOOKUP($B13,HKII!$B$11:$AS$80,44,FALSE))=FALSE,$AV$6="",$B13=""),"",VLOOKUP($B13,HKII!$B$11:$AS$80,44,FALSE)) -> 5.8 | AX13: =IF(OR(ISNUMBER(VLOOKUP($B13,HKII!$B$11:$AW$80,48,FALSE))=FALSE,AX8="",$B13=""),"",VLOOKUP($B13,HKII!$B$11:$AW$80,48,FALSE)) | AZ13: =IF($B13="","",$CP13) -> 5.46 | BA13: =IF($B13="","",IF($CP13<>$EJ13,$EJ13,"")) | BB13: =IF($B13="","",IF(OR(ISNUMBER(VLOOKUP($B13,HKI!$B$11:$BB$73,53,FALSE)),ISNUMBER(VLOOKUP($B13,HKII!$B$11:$BB$80,53,FALSE))),ROUND((VLOOKUP($B13,HKI!$B$11:$BB$73,53,FALSE)+VLOOKUP($B13,HKII!$B$11:$BB$80,53,FALSE))/2,0),"")) -> 46 | BC13: =IF($B13="","",IF($AZ13="","KXL",IF($AZ13<4,"Kém",IF($AZ13<5.5,"TB Yếu",IF($AZ13<7,"T.Bình",IF($AZ13<8,"Khá",IF($AZ13<9,"Giỏi","XS"))))))) -> TB Yếu | BD13: =IF($B13="","",IF($BA13="","",IF($BA13="","KXL",IF($BA13<4,"Kém",IF($BA13<5.5,"TB Yếu",IF($BA13<7,"T.Bình",IF($BA13<8,"Khá",IF($BA13<9,"Giỏi","XS")))))))) | BF13: =IF(AND(ISNUMBER(BS13)=TRUE,$BS13>24),"Cảnh báo","") | BG13: =IF($B13="","",SUMIF($BT13:$CO13,">=0",$BT$7:$CO$7)) -> 35 | BH13: =IF(B13="","",SUMIF(BT13:CO13,">=4",$BT$7:$CO$7)) -> 33 | BI13: =IF($B13="","",SUMIF($BT13:$CO13,"<4",$BT$7:$CO$7)) -> 2 | BJ13: =IF(OR($AZ13="",$B13=""),"",SUMIF($DN13:$EI13,">=4",$DN$7:$EI$7)) -> 33 | BK13: =IF(OR($AZ13="",$B13=""),"",SUMIF($DN13:$EI13,"<4",$DN$7:$EI$7)) -> 2 | BL13: =$DM13 -> 5.69 | BM13: =IF($B13="","",IF($BL13>=5.5,"BT","Y")) -> BT | BN13: =$GD13 -> 5.69 | BO13: =IF($B13="","",IF($BN13>=5.5,"BT","Y")) -> BT | BP13: =IF($BR13="","",IF($BR13<34,"SV năm 1",IF($BR13<=68,"SV năm 2","SV năm 3"))) -> SV năm 3 | BR13: =IF($B13="","",IF(AND(ISNUMBER(VLOOKUP($B13,HKI!$B$11:$BP$73,67,FALSE))=TRUE,ISNUMBER(VLOOKUP($B13,HKII!$B$11:$BI$80,60,FALSE))=TRUE),VLOOKUP($B13,HKI!$B$11:$BP$73,67,FALSE)+VLOOKUP($B13,HKII!$B$11:$BI$80,60,FALSE),IF(OR(ISNUMBER(VLOOKUP($B13,HKI!$B$11:$BP$73,67,FALSE))=TRUE,ISNUMBER(VLOOKUP($B13,HKII!$B$11:$BI$80,60,FALSE))=TRUE),VLOOKUP($B13,HKII!$B$11:$BI$80,60,FALSE),""))) -> 72 | BS13: =IF($B13="","",IF(ISNUMBER(VLOOKUP($B13,HKI!$B$11:$BQ$73,68,FALSE))=TRUE,VLOOKUP($B13,HKI!$B$11:$BQ$84,68,FALSE)+IF(ISNUMBER(VLOOKUP($B13,HKII!$B$11:$BJ$80,61,FALSE))=TRUE,VLOOKUP($B13,HKII!$B$11:$BJ$80,61,FALSE),VLOOKUP($B13,HKII!$B$11:$BJ$80,61,FALSE)),"")) -> 2 | BT13: =$H13 -> 4.9 | BU13: =$J13 -> 7.1 | BV13: =$L13 -> 5 | BW13: =$N13 -> 4.3 | BX13: =$P13 -> 4.1 | BY13: =$R13 -> 5.9 | BZ13: =$T13 | CA13: =$V13 | CB13: =$X13 | CC13: =$Z13 -> 5.3 | CD13: =$AB13 -> 7 | CE13: =$AD13 -> 4.7 | CF13: =$AF13 -> 5 | CG13: =$AH13 -> 7 | CH13: =$AJ13 -> 5.3 | CI13: =$AL13 -> 7.1 | CJ13: =$AN13 -> 2.5 | CK13: =$AP13 | CL13: =$AR13 -> 4 | CM13: =$AT13 -> 6.5 | CN13: =$AV13 -> 5.8 | CO13: =$AX13 | CP13: =IF(COUNT($BT13:$CO13)=0,"",ROUND(SUMPRODUCT($BT13:$CO13,$BT$7:$CO$7)/SUMIF($BT13:$CO13,">=0",$BT$7:$CO$7),2)) -> 5.46 | CQ13: =IF($BT13<=4,"",$BT13) -> 4.9 | CR13: =IF($BU13<=4,"",$BU13) -> 7.1 | CS13: =IF($BV13<=4,"",$BV13) -> 5 | CT13: =IF($BW13<=4,"",$BW13) -> 4.3 | CU13: =IF($BX13<=4,"",$BX13) -> 4.1 | CV13: =IF($BY13<=4,"",$BY13) -> 5.9 | CW13: =IF($BZ13<=4,"",$BZ13) | CX13: =IF($CA13<=4,"",$CA13) | CY13: =IF($CB13<=4,"",$CB13) | CZ13: =IF($CC13<=4,"",$CC13) -> 5.3 | DA13: =IF($CD13<=4,"",$CD13) -> 7 | DB13: =IF($CE13<=4,"",$CE13) -> 4.7 | DC13: =IF($CF13<=4,"",$CF13) -> 5 | DD13: =IF($CG13<=4,"",$CG13) -> 7 | DE13: =IF($CH13<=4,"",$CH13) -> 5.3 | DF13: =IF($CI13<=4,"",$CI13) -> 7.1 | DG13: =IF($CJ13<=4,"",$CJ13) | DH13: =IF($CK13<=4,"",$CK13) | DI13: =IF($CL13<=4,"",$CL13) | DJ13: =IF($CM13<=4,"",$CM13) -> 6.5 | DK13: =IF($CN13<=4,"",$CN13) -> 5.8 | DL13: =IF($CO13<=4,"",$CO13) | DM13: =IF($B13="","",IF(COUNT($CQ13:$DL13)=0,0,ROUND(SUMPRODUCT($CQ13:$DL13,$CQ$7:$DL$7)/SUMIF($CQ13:$DL13,">=4",$CQ$7:$DL$7),2))) -> 5.69 | DN13: =IF($I13="",$H13,$I13) -> 4.9 | DO13: =IF($K13="",$J13,$K13) -> 7.1 | DP13: =IF($M13="",$L13,$M13) -> 5 | DQ13: =IF($O13="",$N13,$O13) -> 4.3 | DR13: =IF($Q13="",$P13,$Q13) -> 4.1 | DS13: =IF($S13="",$R13,$S13) -> 5.9 | DT13: =IF($U13="",$T13,$U13) | DU13: =IF($W13="",$V13,$W13) | DV13: =IF($Y13="",$X13,$Y13) | DW13: =IF($AA13="",$Z13,$AA13) -> 5.3 | DX13: =IF($AC13="",$AB13,$AC13) -> 7 | DY13: =IF($AE13="",$AD13,$AE13) -> 4.7 | DZ13: =IF($AG13="",$AF13,$AG13) -> 5 | EA13: =IF($AI13="",$AH13,$AI13) -> 7 | EB13: =IF($AK13="",$AJ13,$AK13) -> 5.3 | EC13: =IF($AM13="",$AL13,$AM13) -> 7.1 | ED13: =IF($AO13="",$AN13,$AO13) -> 2.5 | EE13: =IF($AQ13="",$AP13,$AQ13) | EF13: =IF($AS13="",$AR13,$AS13) -> 4 | EG13: =IF($AU13="",$AT13,$AU13) -> 6.5 | EH13: =IF($AW13="",$AV13,$AW13) -> 5.8 | EI13: =IF($AY13="",$AX13,$AY13) | EJ13: =IF(COUNT($DN13:$EI13)=0,"",ROUND(SUMPRODUCT($DN13:$EI13,$DN$7:$EI$7)/SUMIF($DN13:$EI13,">=0",$DN$7:$EI$7),2)) -> 5.46 | EK13: =IF($B13="","",IF(ISNUMBER(VLOOKUP($B13,HKI!$B$11:$EU$73,150,FALSE)),VLOOKUP($B13,HKI!$B$11:$EU$73,150,FALSE),"")) -> 6.4 | EL13: =IF($B13="","",IF(ISNUMBER(VLOOKUP($B13,HKI!$B$11:$EV$73,151,FALSE)),VLOOKUP($B13,HKI!$B$11:$EV$73,151,FALSE),"")) -> 7.4 | EM13: =IF($B13="","",IF(ISNUMBER(VLOOKUP($B13,HKI!$B$11:$EW$73,152,FALSE)),VLOOKUP($B13,HKI!$B$11:$EW$73,152,FALSE),"")) -> 5.4 | EN13: =IF($B13="","",IF(ISNUMBER(VLOOKUP($B13,HKI!$B$11:$EX$73,153,FALSE)),VLOOKUP($B13,HKI!$B$11:$EX$73,153,FALSE),"")) -> 5.8 | EO13: =IF($B13="","",IF(ISNUMBER(VLOOKUP($B13,HKI!$B$11:$EY$73,154,FALSE)),VLOOKUP($B13,HKI!$B$11:$EY$73,154,FALSE),"")) -> 5.9 | EP13: =IF($B13="","",IF(ISNUMBER(VLOOKUP($B13,HKI!$B$11:$EZ$73,155,FALSE)),VLOOKUP($B13,HKI!$B$11:$EZ$73,155,FALSE),"")) -> 6.6 | EQ13: =IF($B13="","",IF(ISNUMBER(VLOOKUP($B13,HKI!$B$11:$FA$73,156,FALSE)),VLOOKUP($B13,HKI!$B$11:$FA$73,156,FALSE),"")) -> 5.9 | ER13: =IF($B13="","",IF(ISNUMBER(VLOOKUP($B13,HKI!$B$11:$FB$73,157,FALSE)),VLOOKUP($B13,HKI!$B$11:$FB$73,157,FALSE),"")) | ES13: =IF($B13="","",IF(ISNUMBER(VLOOKUP($B13,HKI!$B$11:$FC$84,158,FALSE)),VLOOKUP($B13,HKI!$B$11:$FC$73,158,FALSE),"")) | ET13: =IF($B13="","",IF(ISNUMBER(VLOOKUP($B13,HKI!$B$11:$FD$73,159,FALSE)),VLOOKUP($B13,HKI!$B$11:$FD$73,159,FALSE),"")) -> 7 | EU13: =IF($B13="","",IF(ISNUMBER(VLOOKUP($B13,HKI!$B$11:$FE$73,160,FALSE)),VLOOKUP($B13,HKI!$B$11:$FE$73,160,FALSE),"")) -> 5.1 | EV13: =IF($B13="","",IF(ISNUMBER(VLOOKUP($B13,HKI!$B$11:$FF$73,161,FALSE)),VLOOKUP($B13,HKI!$B$11:$FF$73,161,FALSE),"")) -> 5.2 | EW13: =IF($B13="","",IF(ISNUMBER(VLOOKUP($B13,HKI!$B$11:$FG$73,162,FALSE)),VLOOKUP($B13,HKI!$B$11:$FG$73,162,FALSE),"")) -> 6.9 | EX13: =IF($B13="","",IF(ISNUMBER(VLOOKUP($B13,HKI!$B$11:$FH$73,163,FALSE)),VLOOKUP($B13,HKI!$B$11:$FH$73,163,FALSE),"")) | EY13: =IF($B13="","",IF(ISNUMBER(VLOOKUP($B13,HKI!$B$11:$FI$73,164,FALSE)),VLOOKUP($B13,HKI!$B$11:$FI$73,164,FALSE),"")) -> 7.5 | EZ13: =IF($B13="","",IF(ISNUMBER(VLOOKUP($B13,HKI!$B$11:$FJ$73,165,FALSE)),VLOOKUP($B13,HKI!$B$11:$FJ$73,165,FALSE),"")) -> 6.9 | FA13: =IF($B13="","",IF(ISNUMBER(VLOOKUP($B13,HKI!$B$11:$FK$73,166,FALSE)),VLOOKUP($B13,HKI!$B$11:$FK$73,166,FALSE),"")) -> 4.8 | FB13: =IF($B13="","",IF(ISNUMBER(VLOOKUP($B13,HKI!$B$11:$FL$73,167,FALSE)),VLOOKUP($B13,HKI!$B$11:$FL$73,167,FALSE),"")) -> 6.1 | FC13: =IF($B13="","",IF(ISNUMBER(VLOOKUP($B13,HKI!$B$11:$FM$73,168,FALSE)),VLOOKUP($B13,HKI!$B$11:$FM$73,168,FALSE),"")) | FD13: =IF($B13="","",IF(ISNUMBER(VLOOKUP($B13,HKI!$B$11:$FN$73,169,FALSE)),VLOOKUP($B13,HKI!$B$11:$FN$73,169,FALSE),"")) | FE13: =IF($B13="","",IF(ISNUMBER(VLOOKUP($B13,HKI!$B$11:$FO$73,170,FALSE)),VLOOKUP($B13,HKI!$B$11:$FO$73,170,FALSE),"")) | FF13: =IF($B13="","",IF(ISNUMBER(VLOOKUP($B13,HKI!$B$11:$FP$73,171,FALSE)),VLOOKUP($B13,HKI!$B$11:$FP$73,171,FALSE),"")) -> 8 | FG13: =IF($B13="","",IF(ISNUMBER(VLOOKUP($B13,HKI!$B$11:$FQ$73,172,FALSE)),VLOOKUP($B13,HKI!$B$11:$FQ$73,172,FALSE),"")) | FH13: =IF($DN13<=4,"",$DN13) -> 4.9 | FI13: =IF($DO13<=4,"",$DO13) -> 7.1 | FJ13: =IF($DP13<=4,"",$DP13) -> 5 | FK13: =IF($DQ13<=4,"",$DQ13) -> 4.3 | FL13: =IF($DR13<=4,"",$DR13) -> 4.1 | FM13: =IF($DS13<=4,"",$DS13) -> 5.9 | FN13: =IF($DT13<=4,"",$DT13) | FO13: =IF($DU13<=4,"",$DU13) | FP13: =IF($DV13<=4,"",$DV13) | FQ13: =IF($DW13<=4,"",$DW13) -> 5.3 | FR13: =IF($DX13<=4,"",$DX13) -> 7 | FS13: =IF($DY13<=4,"",$DY13) -> 4.7 | FT13: =IF($DZ13<=4,"",$DZ13) -> 5 | FU13: =IF($EA13<=4,"",$EA13) -> 7 | FV13: =IF($EB13<=4,"",$EB13) -> 5.3 | FW13: =IF($EC13<=4,"",$EC13) -> 7.1 | FX13: =IF($ED13<=4,"",$ED13) | FY13: =IF($EE13<=4,"",$EE13) | FZ13: =IF($EF13<=4,"",$EF13) | GA13: =IF($EG13<=4,"",$EG13) -> 6.5 | GB13: =IF($EH13<=4,"",$EH13) -> 5.8 | GC13: =IF($EI13<=4,"",$EI13) | GD13: =IF($B13="","",IF(COUNT($FH13:$GC13)=0,0,ROUND(SUMPRODUCT($FH13:$GC13,$FH$7:$GC$7)/SUMIF($FH13:$GC13,">=4",$FH$7:$GC$7),2))) -> 5.69 | GE13: =IF($B13="","",IF(COUNT($EK13:$GC13)=0,0,ROUND(SUMPRODUCT($EK13:$GC13,$EK$7:$GC$7)/SUMIF($EK13:$GC13,">=4",$EK$7:$GC$7),2))) -> 6.04 | GI13: =SUMPRODUCT($EK13:$GC13,$EK$7:$GC$7) -> 428.5 | GJ13: =SUMIF($EK13:$GC13,">=0",$EK$7:$GC$7) -> 71 | GK13: =ROUND(GI13/GJ13,2) -> 6.04
A14: =IF(B14="","",SUBTOTAL(3,$B$11:B14)) -> 4 | B14: =IF(HKII!$B14="","",HKII!$B14) -> 13D301Đ008 | C14: =IF($B14="","",VLOOKUP($B14,'DS LOP HKII'!$B$2:$C$936,2,0)) -> Trương Vũ | D14: =IF($B14="","",VLOOKUP($B14,'DS LOP HKII'!$B$2:$D$936,3,0)) -> Bảo | F14: =IF($B14="","",IF(AND(ISBLANK(VLOOKUP($B14,HKI!$B$11:$G$73,5,FALSE)),ISBLANK(VLOOKUP($B14,HKII!$B$11:$G$80,5,FALSE)))=TRUE,"",VLOOKUP($B14,HKI!$B$11:$G$73,5,FALSE)+VLOOKUP($B14,HKII!$B$11:$G$80,5,FALSE))) | G14: =IF($B14="","",IF(AND(ISBLANK(VLOOKUP($B14,HKI!$B$11:$G$73,6,FALSE)),ISBLANK(VLOOKUP($B14,HKII!$B$11:$G$80,6,FALSE)))=TRUE,"",VLOOKUP($B14,HKI!$B$11:$G$73,6,FALSE)+VLOOKUP($B14,HKII!$B$11:$G$80,6,FALSE))) -> 2 | H14: =IF(OR(ISNUMBER(VLOOKUP($B14,HKI!$B$11:$I$73,8,FALSE))=FALSE,$H$6="",$B14=""),"",VLOOKUP($B14,HKI!$B$11:$I$73,8,FALSE)) -> 5.1 | I14: =IF(OR(ISNUMBER(VLOOKUP($B14,HKI!$B$11:$K$73,10,FALSE))=FALSE,,$H$6="",$B14=""),"",VLOOKUP($B14,HKI!$B$11:$K$73,10,FALSE)) | J14: =IF(OR(ISNUMBER(VLOOKUP($B14,HKI!$B$11:$M$73,12,FALSE))=FALSE,$J$6="",$B14=""),"",VLOOKUP($B14,HKI!$B$11:$M$73,12,FALSE)) -> 6.7 | K14: =IF(OR(ISNUMBER(VLOOKUP($B14,HKI!$B$11:$O$73,14,FALSE))=FALSE,$J$6="",$B14=""),"",VLOOKUP($B14,HKI!$B$11:$O$73,14,FALSE)) | L14: =IF(OR(ISNUMBER(VLOOKUP($B14,HKI!$B$11:$Q$73,16,FALSE))=FALSE,$L$6="",$B14=""),"",VLOOKUP($B14,HKI!$B$11:$Q$73,16,FALSE)) -> 5.5 | M14: =IF(OR(ISNUMBER(VLOOKUP($B14,HKI!$B$11:$S$73,18,FALSE))=FALSE,$L$6="",$B14=""),"",VLOOKUP($B14,HKI!$B$11:$S$73,18,FALSE)) | N14: =IF(OR(ISNUMBER(VLOOKUP($B14,HKI!$B$11:$U$73,20,FALSE))=FALSE,$N$6="",$B14=""),"",VLOOKUP($B14,HKI!$B$11:$U$73,20,FALSE)) -> 5.8 | O14: =IF(OR(ISNUMBER(VLOOKUP($B14,HKI!$B$11:$W$73,22,FALSE))=FALSE,$N$6="",$B14=""),"",VLOOKUP($B14,HKI!$B$11:$W$73,22,FALSE)) | P14: =IF(OR(ISNUMBER(VLOOKUP($B14,HKI!$B$11:$Y$73,24,FALSE))=FALSE,$P$6="",$B14=""),"",VLOOKUP($B14,HKI!$B$11:$Y$73,24,FALSE)) -> 5.6 | Q14: =IF(OR(ISNUMBER(VLOOKUP($B14,HKI!$B$11:$AA$73,26,FALSE))=FALSE,$P$6="",$B14=""),"",VLOOKUP($B14,HKI!$B$11:$AA$73,26,FALSE)) | R14: =IF(OR(ISNUMBER(VLOOKUP($B14,HKI!$B$11:$AC$73,28,FALSE))=FALSE,$R$6="",$B14=""),"",VLOOKUP($B14,HKI!$B$11:$AC$73,28,FALSE)) -> 6.1 | S14: =IF(OR(ISNUMBER(VLOOKUP($B14,HKI!$B$11:$AE$73,30,FALSE))=FALSE,$R$6="",$B14=""),"",VLOOKUP($B14,HKI!$B$11:$AE$73,30,FALSE)) | T14: =IF(OR(ISNUMBER(VLOOKUP($B14,HKI!$B$11:$AG$73,32,FALSE))=FALSE,$T$6="",$B14=""),"",VLOOKUP($B14,HKI!$B$11:$AG$73,32,FALSE)) | U14: =IF(OR(ISNUMBER(VLOOKUP($B14,HKI!$B$11:$AI$73,34,FALSE))=FALSE,$T$6="",$B14=""),"",VLOOKUP($B14,HKI!$B$11:$AI$73,34,FALSE)) | V14: =IF(OR(ISNUMBER(VLOOKUP($B14,HKI!$B$11:$AK$73,36,FALSE))=FALSE,$V$6="",$B14=""),"",VLOOKUP($B14,HKI!$B$11:$AK$73,36,FALSE)) | W14: =IF(OR(ISNUMBER(VLOOKUP($B14,HKI!$B$11:$AM$73,38,FALSE))=FALSE,$V$6="",$B14=""),"",VLOOKUP($B14,HKI!$B$11:$AM$73,38,FALSE)) | X14: =IF(OR(ISNUMBER(VLOOKUP($B14,HKI!$B$11:$AO$73,40,FALSE))=FALSE,$X$6="",$B14=""),"",VLOOKUP($B14,HKI!$B$11:$AO$73,40,FALSE)) | Y14: =IF(OR(ISNUMBER(VLOOKUP($B14,HKI!$B$11:$AQ$73,42,FALSE))=FALSE,$X$6="",$B14=""),"",VLOOKUP($B14,HKI!$B$11:$AQ$73,42,FALSE)) | Z14: =IF(OR(ISNUMBER(VLOOKUP($B14,HKI!$B$11:$AS$73,44,FALSE))=FALSE,$Z$6="",$B14=""),"",VLOOKUP($B14,HKI!$B$11:$AS$73,44,FALSE)) -> 7.3 | AB14: =IF(OR(ISNUMBER(VLOOKUP($B14,HKI!$B$11:$AW$73,48,FALSE))=FALSE,$AB$6="",$B14=""),"",VLOOKUP($B14,HKI!$B$11:$AW$73,48,FALSE)) -> 8.9 | AD14: =IF(OR(ISNUMBER(VLOOKUP($B14,HKII!$B$11:$I$80,8,FALSE))=FALSE,$AD$6="",$B14=""),"",VLOOKUP($B14,HKII!$B$11:$I$80,8,FALSE)) -> 7.1 | AE14: =IF(OR(ISNUMBER(VLOOKUP($B14,HKII!$B$11:$K$80,10,FALSE))=FALSE,$AD$6="",$B14=""),"",VLOOKUP($B14,HKII!$B$11:$K$80,10,FALSE)) | AF14: =IF(OR(ISNUMBER(VLOOKUP($B14,HKII!$B$11:$M$80,12,FALSE))=FALSE,$AF$6="",$B14=""),"",VLOOKUP($B14,HKII!$B$11:$M$80,12,FALSE)) -> 6.4 | AG14: =IF(OR(ISNUMBER(VLOOKUP($B14,HKII!$B$11:$O$80,14,FALSE))=FALSE,$AF$6="",$B14=""),"",VLOOKUP($B14,HKII!$B$11:$O$80,14,FALSE)) | AH14: =IF(OR(ISNUMBER(VLOOKUP($B14,HKII!$B$11:$Q$80,16,FALSE))=FALSE,$AH$6="",$B14=""),"",VLOOKUP($B14,HKII!$B$11:$Q$80,16,FALSE)) -> 7.2 | AI14: =IF(OR(ISNUMBER(VLOOKUP($B14,HKII!$B$11:$S$80,18,FALSE))=FALSE,$AH$6="",$B14=""),"",VLOOKUP($B14,HKII!$B$11:$S$75,18,FALSE)) | AJ14: =IF(OR(ISNUMBER(VLOOKUP($B14,HKII!$B$11:$U$80,20,FALSE))=FALSE,$AJ$6="",$B14=""),"",VLOOKUP($B14,HKII!$B$11:$U$80,20,FALSE)) -> 5.7 | AK14: =IF(OR(ISNUMBER(VLOOKUP($B14,HKII!$B$11:$W$91,22,FALSE))=FALSE,$AJ$6="",$B14=""),"",VLOOKUP($B14,HKII!$B$11:$W$91,22,FALSE)) | AL14: =IF(OR(ISNUMBER(VLOOKUP($B14,HKII!$B$11:$Y$80,24,FALSE))=FALSE,$AL$6="",$B14=""),"",VLOOKUP($B14,HKII!$B$11:$Y$80,24,FALSE)) -> 7.2 | AM14: =IF(OR(ISNUMBER(VLOOKUP($B14,HKII!$B$11:$AA$80,26,FALSE))=FALSE,$AL$6="",$B14=""),"",VLOOKUP($B14,HKII!$B$11:$AA$80,26,FALSE)) | AN14: =IF(OR(ISNUMBER(VLOOKUP($B14,HKII!$B$11:$AC$80,28,FALSE))=FALSE,$AN$6="",$B14=""),"",VLOOKUP($B14,HKII!$B$11:$AC$80,28,FALSE)) -> 5.3 | AO14: =IF(OR(ISNUMBER(VLOOKUP($B14,HKII!$B$11:$AE$80,30,FALSE))=FALSE,$AN$6="",$B14=""),"",VLOOKUP($B14,HKII!$B$11:$AE$80,30,FALSE)) | AP14: =IF(OR(ISNUMBER(VLOOKUP($B14,HKII!$B$11:$AG$80,32,FALSE))=FALSE,$AP$6="",$B14=""),"",VLOOKUP($B14,HKII!$B$11:$AG$80,32,FALSE)) | AQ14: =IF(OR(ISNUMBER(VLOOKUP($B14,HKII!$B$11:$AI$80,34,FALSE))=FALSE,$AP$6="",$B14=""),"",VLOOKUP($B14,HKII!$B$11:$AI$80,34,FALSE)) | AR14: =IF(OR(ISNUMBER(VLOOKUP($B14,HKII!$B$11:$AK$80,36,FALSE))=FALSE,$AR$6="",$B14=""),"",VLOOKUP($B14,HKII!$B$11:$AK$80,36,FALSE)) -> 4 | AT14: =IF(OR(ISNUMBER(VLOOKUP($B14,HKII!$B$11:$AO$80,40,FALSE))=FALSE,$AT$6="",$B14=""),"",VLOOKUP($B14,HKII!$B$11:$AO$80,40,FALSE)) -> 6.3 | AV14: =IF(OR(ISNUMBER(VLOOKUP($B14,HKII!$B$11:$AS$80,44,FALSE))=FALSE,$AV$6="",$B14=""),"",VLOOKUP($B14,HKII!$B$11:$AS$80,44,FALSE)) -> 5 | AX14: =IF(OR(ISNUMBER(VLOOKUP($B14,HKII!$B$11:$AW$80,48,FALSE))=FALSE,AX9="",$B14=""),"",VLOOKUP($B14,HKII!$B$11:$AW$80,48,FALSE)) | AZ14: =IF($B14="","",$CP14) -> 6.25 | BA14: =IF($B14="","",IF($CP14<>$EJ14,$EJ14,"")) | BB14: =IF($B14="","",IF(OR(ISNUMBER(VLOOKUP($B14,HKI!$B$11:$BB$73,53,FALSE)),ISNUMBER(VLOOKUP($B14,HKII!$B$11:$BB$80,53,FALSE))),ROUND((VLOOKUP($B14,HKI!$B$11:$BB$73,53,FALSE)+VLOOKUP($B14,HKII!$B$11:$BB$80,53,FALSE))/2,0),"")) -> 87 | BC14: =IF($B14="","",IF($AZ14="","KXL",IF($AZ14<4,"Kém",IF($AZ14<5.5,"TB Yếu",IF($AZ14<7,"T.Bình",IF($AZ14<8,"Khá",IF($AZ14<9,"Giỏi","XS"))))))) -> T.Bình | BD14: =IF($B14="","",IF($BA14="","",IF($BA14="","KXL",IF($BA14<4,"Kém",IF($BA14<5.5,"TB Yếu",IF($BA14<7,"T.Bình",IF($BA14<8,"Khá",IF($BA14<9,"Giỏi","XS")))))))) | BF14: =IF(AND(ISNUMBER(BS14)=TRUE,$BS14>24),"Cảnh báo","") | BG14: =IF($B14="","",SUMIF($BT14:$CO14,">=0",$BT$7:$CO$7)) -> 35 | BH14: =IF(B14="","",SUMIF(BT14:CO14,">=4",$BT$7:$CO$7)) -> 35 | BI14: =IF($B14="","",SUMIF($BT14:$CO14,"<4",$BT$7:$CO$7)) -> 0 | BJ14: =IF(OR($AZ14="",$B14=""),"",SUMIF($DN14:$EI14,">=4",$DN$7:$EI$7)) -> 35 | BK14: =IF(OR($AZ14="",$B14=""),"",SUMIF($DN14:$EI14,"<4",$DN$7:$EI$7)) -> 0 | BL14: =$DM14 -> 6.31 | BM14: =IF($B14="","",IF($BL14>=5.5,"BT","Y")) -> BT | BN14: =$GD14 -> 6.31 | BO14: =IF($B14="","",IF($BN14>=5.5,"BT","Y")) -> BT | BP14: =IF($BR14="","",IF($BR14<34,"SV năm 1",IF($BR14<=68,"SV năm 2","SV năm 3"))) -> SV năm 3 | BR14: =IF($B14="","",IF(AND(ISNUMBER(VLOOKUP($B14,HKI!$B$11:$BP$73,67,FALSE))=TRUE,ISNUMBER(VLOOKUP($B14,HKII!$B$11:$BI$80,60,FALSE))=TRUE),VLOOKUP($B14,HKI!$B$11:$BP$73,67,FALSE)+VLOOKUP($B14,HKII!$B$11:$BI$80,60,FALSE),IF(OR(ISNUMBER(VLOOKUP($B14,HKI!$B$11:$BP$73,67,FALSE))=TRUE,ISNUMBER(VLOOKUP($B14,HKII!$B$11:$BI$80,60,FALSE))=TRUE),VLOOKUP($B14,HKII!$B$11:$BI$80,60,FALSE),""))) -> 74 | BS14: =IF($B14="","",IF(ISNUMBER(VLOOKUP($B14,HKI!$B$11:$BQ$73,68,FALSE))=TRUE,VLOOKUP($B14,HKI!$B$11:$BQ$84,68,FALSE)+IF(ISNUMBER(VLOOKUP($B14,HKII!$B$11:$BJ$80,61,FALSE))=TRUE,VLOOKUP($B14,HKII!$B$11:$BJ$80,61,FALSE),VLOOKUP($B14,HKII!$B$11:$BJ$80,61,FALSE)),"")) -> 0 | BT14: =$H14 -> 5.1 | BU14: =$J14 -> 6.7 | BV14: =$L14 -> 5.5 | BW14: =$N14 -> 5.8 | BX14: =$P14 -> 5.6 | BY14: =$R14 -> 6.1 | BZ14: =$T14 | CA14: =$V14 | CB14: =$X14 | CC14: =$Z14 -> 7.3 | CD14: =$AB14 -> 8.9 | CE14: =$AD14 -> 7.1 | CF14: =$AF14 -> 6.4 | CG14: =$AH14 -> 7.2 | CH14: =$AJ14 -> 5.7 | CI14: =$AL14 -> 7.2 | CJ14: =$AN14 -> 5.3 | CK14: =$AP14 | CL14: =$AR14 -> 4 | CM14: =$AT14 -> 6.3 | CN14: =$AV14 -> 5 | CO14: =$AX14 | CP14: =IF(COUNT($BT14:$CO14)=0,"",ROUND(SUMPRODUCT($BT14:$CO14,$BT$7:$CO$7)/SUMIF($BT14:$CO14,">=0",$BT$7:$CO$7),2)) -> 6.25 | CQ14: =IF($BT14<=4,"",$BT14) -> 5.1 | CR14: =IF($BU14<=4,"",$BU14) -> 6.7 | CS14: =IF($BV14<=4,"",$BV14) -> 5.5 | CT14: =IF($BW14<=4,"",$BW14) -> 5.8 | CU14: =IF($BX14<=4,"",$BX14) -> 5.6 | CV14: =IF($BY14<=4,"",$BY14) -> 6.1 | CW14: =IF($BZ14<=4,"",$BZ14) | CX14: =IF($CA14<=4,"",$CA14) | CY14: =IF($CB14<=4,"",$CB14) | CZ14: =IF($CC14<=4,"",$CC14) -> 7.3 | DA14: =IF($CD14<=4,"",$CD14) -> 8.9 | DB14: =IF($CE14<=4,"",$CE14) -> 7.1 | DC14: =IF($CF14<=4,"",$CF14) -> 6.4 | DD14: =IF($CG14<=4,"",$CG14) -> 7.2 | DE14: =IF($CH14<=4,"",$CH14) -> 5.7 | DF14: =IF($CI14<=4,"",$CI14) -> 7.2 | DG14: =IF($CJ14<=4,"",$CJ14) -> 5.3 | DH14: =IF($CK14<=4,"",$CK14) | DI14: =IF($CL14<=4,"",$CL14) | DJ14: =IF($CM14<=4,"",$CM14) -> 6.3 | DK14: =IF($CN14<=4,"",$CN14) -> 5 | DL14: =IF($CO14<=4,"",$CO14) | DM14: =IF($B14="","",IF(COUNT($CQ14:$DL14)=0,0,ROUND(SUMPRODUCT($CQ14:$DL14,$CQ$7:$DL$7)/SUMIF($CQ14:$DL14,">=4",$CQ$7:$DL$7),2))) -> 6.31 | DN14: =IF($I14="",$H14,$I14) -> 5.1 | DO14: =IF($K14="",$J14,$K14) -> 6.7 | DP14: =IF($M14="",$L14,$M14) -> 5.5 | DQ14: =IF($O14="",$N14,$O14) -> 5.8 | DR14: =IF($Q14="",$P14,$Q14) -> 5.6 | DS14: =IF($S14="",$R14,$S14) -> 6.1 | DT14: =IF($U14="",$T14,$U14) | DU14: =IF($W14="",$V14,$W14) | DV14: =IF($Y14="",$X14,$Y14) | DW14: =IF($AA14="",$Z14,$AA14) -> 7.3 | DX14: =IF($AC14="",$AB14,$AC14) -> 8.9 | DY14: =IF($AE14="",$AD14,$AE14) -> 7.1 | DZ14: =IF($AG14="",$AF14,$AG14) -> 6.4 | EA14: =IF($AI14="",$AH14,$AI14) -> 7.2 | EB14: =IF($AK14="",$AJ14,$AK14) -> 5.7 | EC14: =IF($AM14="",$AL14,$AM14) -> 7.2 | ED14: =IF($AO14="",$AN14,$AO14) -> 5.3 | EE14: =IF($AQ14="",$AP14,$AQ14) | EF14: =IF($AS14="",$AR14,$AS14) -> 4 | EG14: =IF($AU14="",$AT14,$AU14) -> 6.3 | EH14: =IF($AW14="",$AV14,$AW14) -> 5 | EI14: =IF($AY14="",$AX14,$AY14) | EJ14: =IF(COUNT($DN14:$EI14)=0,"",ROUND(SUMPRODUCT($DN14:$EI14,$DN$7:$EI$7)/SUMIF($DN14:$EI14,">=0",$DN$7:$EI$7),2)) -> 6.25 | EK14: =IF($B14="","",IF(ISNUMBER(VLOOKUP($B14,HKI!$B$11:$EU$73,150,FALSE)),VLOOKUP($B14,HKI!$B$11:$EU$73,150,FALSE),"")) -> 6.7 | EL14: =IF($B14="","",IF(ISNUMBER(VLOOKUP($B14,HKI!$B$11:$EV$73,151,FALSE)),VLOOKUP($B14,HKI!$B$11:$EV$73,151,FALSE),"")) -> 6.4 | EM14: =IF($B14="","",IF(ISNUMBER(VLOOKUP($B14,HKI!$B$11:$EW$73,152,FALSE)),VLOOKUP($B14,HKI!$B$11:$EW$73,152,FALSE),"")) -> 6 | EN14: =IF($B14="","",IF(ISNUMBER(VLOOKUP($B14,HKI!$B$11:$EX$73,153,FALSE)),VLOOKUP($B14,HKI!$B$11:$EX$73,153,FALSE),"")) -> 5.6 | EO14: =IF($B14="","",IF(ISNUMBER(VLOOKUP($B14,HKI!$B$11:$EY$73,154,FALSE)),VLOOKUP($B14,HKI!$B$11:$EY$73,154,FALSE),"")) -> 6.3 | EP14: =IF($B14="","",IF(ISNUMBER(VLOOKUP($B14,HKI!$B$11:$EZ$73,155,FALSE)),VLOOKUP($B14,HKI!$B$11:$EZ$73,155,FALSE),"")) -> 7.8 | EQ14: =IF($B14="","",IF(ISNUMBER(VLOOKUP($B14,HKI!$B$11:$FA$73,156,FALSE)),VLOOKUP($B14,HKI!$B$11:$FA$73,156,FALSE),"")) -> 7.5 | ER14: =IF($B14="","",IF(ISNUMBER(VLOOKUP($B14,HKI!$B$11:$FB$73,157,FALSE)),VLOOKUP($B14,HKI!$B$11:$FB$73,157,FALSE),"")) | ES14: =IF($B14="","",IF(ISNUMBER(VLOOKUP($B14,HKI!$B$11:$FC$84,158,FALSE)),VLOOKUP($B14,HKI!$B$11:$FC$73,158,FALSE),"")) | ET14: =IF($B14="","",IF(ISNUMBER(VLOOKUP($B14,HKI!$B$11:$FD$73,159,FALSE)),VLOOKUP($B14,HKI!$B$11:$FD$73,159,FALSE),"")) -> 7.7 | EU14: =IF($B14="","",IF(ISNUMBER(VLOOKUP($B14,HKI!$B$11:$FE$73,160,FALSE)),VLOOKUP($B14,HKI!$B$11:$FE$73,160,FALSE),"")) -> 5.8 | EV14: =IF($B14="","",IF(ISNUMBER(VLOOKUP($B14,HKI!$B$11:$FF$73,161,FALSE)),VLOOKUP($B14,HKI!$B$11:$FF$73,161,FALSE),"")) -> 6.1 | EW14: =IF($B14="","",IF(ISNUMBER(VLOOKUP($B14,HKI!$B$11:$FG$73,162,FALSE)),VLOOKUP($B14,HKI!$B$11:$FG$73,162,FALSE),"")) -> 8.5 | EX14: =IF($B14="","",IF(ISNUMBER(VLOOKUP($B14,HKI!$B$11:$FH$73,163,FALSE)),VLOOKUP($B14,HKI!$B$11:$FH$73,163,FALSE),"")) | EY14: =IF($B14="","",IF(ISNUMBER(VLOOKUP($B14,HKI!$B$11:$FI$73,164,FALSE)),VLOOKUP($B14,HKI!$B$11:$FI$73,164,FALSE),"")) -> 8.1 | EZ14: =IF($B14="","",IF(ISNUMBER(VLOOKUP($B14,HKI!$B$11:$FJ$73,165,FALSE)),VLOOKUP($B14,HKI!$B$11:$FJ$73,165,FALSE),"")) -> 6.8 | FA14: =IF($B14="","",IF(ISNUMBER(VLOOKUP($B14,HKI!$B$11:$FK$73,166,FALSE)),VLOOKUP($B14,HKI!$B$11:$FK$73,166,FALSE),"")) -> 6.7 | FB14: =IF($B14="","",IF(ISNUMBER(VLOOKUP($B14,HKI!$B$11:$FL$73,167,FALSE)),VLOOKUP($B14,HKI!$B$11:$FL$73,167,FALSE),"")) -> 6.5 | FC14: =IF($B14="","",IF(ISNUMBER(VLOOKUP($B14,HKI!$B$11:$FM$73,168,FALSE)),VLOOKUP($B14,HKI!$B$11:$FM$73,168,FALSE),"")) | FD14: =IF($B14="","",IF(ISNUMBER(VLOOKUP($B14,HKI!$B$11:$FN$73,169,FALSE)),VLOOKUP($B14,HKI!$B$11:$FN$73,169,FALSE),"")) | FE14: =IF($B14="","",IF(ISNUMBER(VLOOKUP($B14,HKI!$B$11:$FO$73,170,FALSE)),VLOOKUP($B14,HKI!$B$11:$FO$73,170,FALSE),"")) | FF14: =IF($B14="","",IF(ISNUMBER(VLOOKUP($B14,HKI!$B$11:$FP$73,171,FALSE)),VLOOKUP($B14,HKI!$B$11:$FP$73,171,FALSE),"")) -> 8 | FG14: =IF($B14="","",IF(ISNUMBER(VLOOKUP($B14,HKI!$B$11:$FQ$73,172,FALSE)),VLOOKUP($B14,HKI!$B$11:$FQ$73,172,FALSE),"")) | FH14: =IF($DN14<=4,"",$DN14) -> 5.1 | FI14: =IF($DO14<=4,"",$DO14) -> 6.7 | FJ14: =IF($DP14<=4,"",$DP14) -> 5.5 | FK14: =IF($DQ14<=4,"",$DQ14) -> 5.8 | FL14: =IF($DR14<=4,"",$DR14) -> 5.6 | FM14: =IF($DS14<=4,"",$DS14) -> 6.1 | FN14: =IF($DT14<=4,"",$DT14) | FO14: =IF($DU14<=4,"",$DU14) | FP14: =IF($DV14<=4,"",$DV14) | FQ14: =IF($DW14<=4,"",$DW14) -> 7.3 | FR14: =IF($DX14<=4,"",$DX14) -> 8.9 | FS14: =IF($DY14<=4,"",$DY14) -> 7.1 | FT14: =IF($DZ14<=4,"",$DZ14) -> 6.4 | FU14: =IF($EA14<=4,"",$EA14) -> 7.2 | FV14: =IF($EB14<=4,"",$EB14) -> 5.7 | FW14: =IF($EC14<=4,"",$EC14) -> 7.2 | FX14: =IF($ED14<=4,"",$ED14) -> 5.3 | FY14: =IF($EE14<=4,"",$EE14) | FZ14: =IF($EF14<=4,"",$EF14) | GA14: =IF($EG14<=4,"",$EG14) -> 6.3 | GB14: =IF($EH14<=4,"",$EH14) -> 5 | GC14: =IF($EI14<=4,"",$EI14) | GD14: =IF($B14="","",IF(COUNT($FH14:$GC14)=0,0,ROUND(SUMPRODUCT($FH14:$GC14,$FH$7:$GC$7)/SUMIF($FH14:$GC14,">=4",$FH$7:$GC$7),2))) -> 6.31 | GE14: =IF($B14="","",IF(COUNT($EK14:$GC14)=0,0,ROUND(SUMPRODUCT($EK14:$GC14,$EK$7:$GC$7)/SUMIF($EK14:$GC14,">=4",$EK$7:$GC$7),2))) -> 6.63 | GI14: =SUMPRODUCT($EK14:$GC14,$EK$7:$GC$7) -> 484.2 | GJ14: =SUMIF($EK14:$GC14,">=0",$EK$7:$GC$7) -> 73 | GK14: =ROUND(GI14/GJ14,2) -> 6.63
