Workbook
Name \0: '[1]PNT-QUOT-#3'!#REF!
Name \0: '[1]PNT-QUOT-#3'!#REF!
Name \d: '[2]??-BLDG'!#REF!
Name \e: '[2]??-BLDG'!#REF!
Name \f: '[2]??-BLDG'!#REF!
Name \g: '[2]??-BLDG'!#REF!
Name \h: '[2]??-BLDG'!#REF!
Name \i: '[2]??-BLDG'!#REF!
Name \j: '[2]??-BLDG'!#REF!
Name \k: '[2]??-BLDG'!#REF!
Name \l: '[2]??-BLDG'!#REF!
Name \m: '[2]??-BLDG'!#REF!
Name \n: '[2]??-BLDG'!#REF!
Name \o: '[2]??-BLDG'!#REF!
Name \z: '[1]COAT&WRAP-QIOT-#3'!#REF!
Name \z: '[1]COAT&WRAP-QIOT-#3'!#REF!
Name _1: #N/A
Name _1000A01: #N/A
Name _2: #N/A
Name _A65700: '[3]MTO REV.2(ARMOR)'!#REF!
Name _A65700: '[3]MTO REV.2(ARMOR)'!#REF!
Name _A65800: '[3]MTO REV.2(ARMOR)'!#REF!
Name _A65800: '[3]MTO REV.2(ARMOR)'!#REF!
Name _A66000: '[3]MTO REV.2(ARMOR)'!#REF!
Name _A66000: '[3]MTO REV.2(ARMOR)'!#REF!
Name _A67000: '[3]MTO REV.2(ARMOR)'!#REF!
Name _A67000: '[3]MTO REV.2(ARMOR)'!#REF!
Name _A68000: '[3]MTO REV.2(ARMOR)'!#REF!
Name _A68000: '[3]MTO REV.2(ARMOR)'!#REF!
Name _A70000: '[3]MTO REV.2(ARMOR)'!#REF!
Name _A70000: '[3]MTO REV.2(ARMOR)'!#REF!
Name _A75000: '[3]MTO REV.2(ARMOR)'!#REF!
Name _A75000: '[3]MTO REV.2(ARMOR)'!#REF!
Name _A85000: '[3]MTO REV.2(ARMOR)'!#REF!
Name _A85000: '[3]MTO REV.2(ARMOR)'!#REF!
Name _CON1: #REF!
Name _CON2: #REF!
Name _NET2: #REF!
Name A: '[1]PNT-QUOT-#3'!#REF!
Name A: '[1]PNT-QUOT-#3'!#REF!
Name A01_: #N/A
Name A01AC: #N/A
Name A01CAT: #N/A
Name A01CODE: #N/A
Name A01DATA: #N/A
Name A01MI: #N/A
Name A01TO: #N/A
Name A60000.: #REF!
Name AA: #REF!
Name AAA: '[4]MTL$-INTER'!#REF!
Name AAA: '[5]MTL$-INTER'!#REF!
Name All_Item: #REF!
Name ALPIN: #N/A
Name ALPJYOU: #N/A
Name ALPTOI: #N/A
Name B: '[1]PNT-QUOT-#3'!#REF!
Name B: '[1]PNT-QUOT-#3'!#REF!
Name BB: #REF!
Name BOQ: #REF!
Name BVCISUMMARY: #REF!

Sheet TEN HOC PHAN HKII
A1: QUI ĐỊNH SỐ TÍN CHỈ CỦA CÁC HỌC PHẦN TRONG HỌC KỲ I / 2013 - 2014 Bậc đào tạo : Cao đẳng ( Khóa 2013 )
A3: TT | B3: LỚP | C3: STT | D3: SHEET | E3: TÊN HỌC PHẦN | F3: TỔNG LT | G3: LÝ THUYẾT | H3: THỰC HÀNH | I3: GHI CHÚ
A4: 1 | B4: 13 CĐ - ĐT 1, 2 | C4: 1 | D4: LT01 | E4: Anh văn chuyên ngành | F4: =G4+H4 -> 2 | G4: 2
C5: 2 | D5: LT02 | E5: Tư tưởng Hồ Chí Minh | F5: =G5+H5 -> 2 | G5: 2
C6: 3 | D6: LT03 | E6: Phương pháp nghiên cứu khoa học | F6: =G6+H6 -> 2 | G6: 2
C7: 4 | D7: LT04 | E7: Đo lường cảm biến | F7: =G7+H7 -> 2 | G7: 2
C8: 5 | D8: LT05 | E8: Kỹ thuật Audio và Video | F8: =G8+H8 -> 2 | G8: 2
C9: 6 | D9: LT06 | E9: Vi xử lý | F9: =G9+H9 -> 2 | G9: 2
C10: 7 | D10: LT07 | F10: =G10+H10 -> 0
C11: 8 | D11: DO AN | E11: Đồ án Kỹ thuật số và Điện tử công suất | F11: =G11+H11 -> 1 | G11: 1
C12: 9 | D12: TH01 | E12: Thực tập Kỹ thuật số | F12: =G12+H12 -> 2 | H12: 2
C13: 10 | D13: TH02 | E13: Thực tập Điện công nghiệp cơ bản | F13: =G13+H13 -> 2 | H13: 2
C14: 11 | D14: TH03 | F14: =G14+H14 -> 0
A15: 2 | B15: 13 CĐ - Đ 1, 2, 3 | C15: 1 | D15: LT01 | E15: Anh văn chuyên ngành | F15: =G15+H15 -> 2 | G15: 2
C16: 2 | D16: LT02 | E16: Tư tưởng Hồ Chí Minh | F16: =G16+H16 -> 2 | G16: 2
C17: 3 | D17: LT03 | E17: Phương pháp nghiên cứu khoa học | F17: =G17+H17 -> 2 | G17: 2
C18: 4 | D18: LT04 | E18: Đo lường cảm biến | F18: =G18+H18 -> 2 | G18: 2
C19: 5 | D19: LT05 | E19: Kỹ thuật Audio và Video | F19: =G19+H19 -> 2 | G19: 2
C20: 6 | D20: LT06 | E20: Vi xử lý | F20: =G20+H20 -> 2 | G20: 2
C21: 7 | D21: LT07 | F21: =G21+H21 -> 0
C22: 8 | D22: DO AN | E22: Đồ án Mạng cung cấp điện | F22: =G22+H22 -> 1 | G22: 1
C23: 9 | D23: TH01 | E23: Thực tập Kỹ thuật số | F23: =G23+H23 -> 2 | H23: 2
C24: 10 | D24: TH02 | E24: Thực tập Điện công nghiệp cơ bản | F24: =G24+H24 -> 2 | H24: 2
C25: 11 | D25: TH03 | F25: =G25+H25 -> 0
A26: 3 | B26: 13 CĐ-CK 1, 2, 3, 4, 5 | C26: 1 | D26: LT01 | E26: Đường lối CM của Đảng CSVN | F26: =G26+H26 -> 3 | G26: 3
C27: 2 | D27: LT02 | E27: Phương pháp nghiên cứu khoa học | F27: =G27+H27 -> 2 | G27: 2
C28: 3 | D28: LT03 | E28: Nguyên lý - Chi tiết máy | F28: =G28+H28 -> 4 | G28: 4
C29: 4 | D29: LT04 | E29: Công nghệ chế tạo máy 1 | F29: =G29+H29 -> 4 | G29: 4
C30: 5 | D30: LT05 | E30: Kỹ thuật điện - điện tử và trang bị điện trong máy công nghiệp | F30: =G30+H30 -> 3 | G30: 3
C31: 6 | D31: LT06 | F31: =G31+H31 -> 0
C32: 7 | D32: LT07 | F32: =G32+H32 -> 0
C33: 8 | D33: DO AN | F33: =G33+H33 -> 0
C34: 9 | D34: TH01 | E34: Thực tập Tiện 2 | F34: =G34+H34 -> 2 | H34: 2
C35: 10 | D35: TH02 | F35: =G35+H35 -> 0
C36: 11 | D36: TH03 | F36: =G36+H36 -> 0
A37: 4 | B37: 13 CĐ-Ô 1, 2, 3, 4 | C37: 1 | D37: LT01 | E37: Đường lối CM của Đảng CSVN | F37: =G37+H37 -> 3 | G37: 3
C38: 2 | D38: LT02 | E38: Nguyên lý chi tiết máy | F38: =G38+H38 -> 3 | G38: 3
C39: 3 | D39: LT03 | E39: Autocad (2D) | F39: =G39+H39 -> 2 | G39: 2
C40: 4 | D40: LT04 | E40: Phương pháp nghiên cứu khoa học | F40: =G40+H40 -> 2 | G40: 2
C41: 5 | D41: LT05 | E41: Thuỷ lực và máy thuỷ lực | F41: =G41+H41 -> 2 | G41: 2
...

Sheet LOP-MON
A1: STT | B1: Lớp | C1: LT01 | D1: LT02 | E1: LT03 | F1: LT04 | G1: LT05 | H1: LT06 | I1: LT07 | J1: DO AN | K1: TH01 | L1: TH02 | M1: TH03
A2: 1 | B2: 13CĐ-ĐT1 | C2: =VLOOKUP(C$1,'TEN HOC PHAN HKII'!$D$4:$F$14,2,0) -> Anh văn chuyên ngành | D2: =VLOOKUP(D$1,'TEN HOC PHAN HKII'!$D$4:$F$14,2,0) -> Tư tưởng Hồ Chí Minh | E2: =VLOOKUP(E$1,'TEN HOC PHAN HKII'!$D$4:$F$14,2,0) -> Phương pháp nghiên cứu khoa học | F2: =VLOOKUP(F$1,'TEN HOC PHAN HKII'!$D$4:$F$14,2,0) -> Đo lường cảm biến | G2: =VLOOKUP(G$1,'TEN HOC PHAN HKII'!$D$4:$F$14,2,0) -> Kỹ thuật Audio và Video | H2: =VLOOKUP(H$1,'TEN HOC PHAN HKII'!$D$4:$F$14,2,0) -> Vi xử lý | I2: =VLOOKUP(I$1,'TEN HOC PHAN HKII'!$D$4:$F$14,2,0) -> 0 | J2: =VLOOKUP(J$1,'TEN HOC PHAN HKII'!$D$4:$F$14,2,0) -> Đồ án Kỹ thuật số và Điện tử công suất | ... M2: =VLOOKUP(M$1,'TEN HOC PHAN HKII'!$D$4:$F$14,2,0) -> 0
B3: TC13CĐĐT1 | C3: =VLOOKUP(C$1,'TEN HOC PHAN HKII'!$D$4:$F$14,3,0) -> 2 | D3: =VLOOKUP(D$1,'TEN HOC PHAN HKII'!$D$4:$F$14,3,0) -> 2 | E3: =VLOOKUP(E$1,'TEN HOC PHAN HKII'!$D$4:$F$14,3,0) -> 2 | F3: =VLOOKUP(F$1,'TEN HOC PHAN HKII'!$D$4:$F$14,3,0) -> 2 | G3: =VLOOKUP(G$1,'TEN HOC PHAN HKII'!$D$4:$F$14,3,0) -> 2 | H3: =VLOOKUP(H$1,'TEN HOC PHAN HKII'!$D$4:$F$14,3,0) -> 2 | I3: =VLOOKUP(I$1,'TEN HOC PHAN HKII'!$D$4:$F$14,3,0) -> 0 | J3: =VLOOKUP(J$1,'TEN HOC PHAN HKII'!$D$4:$F$14,3,0) -> 1 | ... M3: =VLOOKUP(M$1,'TEN HOC PHAN HKII'!$D$4:$F$14,3,0) -> 0
A4: 2 | B4: 13CĐ-ĐT2 | C4: =VLOOKUP(C$1,'TEN HOC PHAN HKII'!$D$4:$F$14,2,0) -> Anh văn chuyên ngành | D4: =VLOOKUP(D$1,'TEN HOC PHAN HKII'!$D$4:$F$14,2,0) -> Tư tưởng Hồ Chí Minh | E4: =VLOOKUP(E$1,'TEN HOC PHAN HKII'!$D$4:$F$14,2,0) -> Phương pháp nghiên cứu khoa học | F4: =VLOOKUP(F$1,'TEN HOC PHAN HKII'!$D$4:$F$14,2,0) -> Đo lường cảm biến | G4: =VLOOKUP(G$1,'TEN HOC PHAN HKII'!$D$4:$F$14,2,0) -> Kỹ thuật Audio và Video | H4: =VLOOKUP(H$1,'TEN HOC PHAN HKII'!$D$4:$F$14,2,0) -> Vi xử lý | I4: =VLOOKUP(I$1,'TEN HOC PHAN HKII'!$D$4:$F$14,2,0) -> 0 | J4: =VLOOKUP(J$1,'TEN HOC PHAN HKII'!$D$4:$F$14,2,0) -> Đồ án Kỹ thuật số và Điện tử công suất | ... M4: =VLOOKUP(M$1,'TEN HOC PHAN HKII'!$D$4:$F$14,2,0) -> 0
B5: TC13CĐĐT2 | C5: =VLOOKUP(C$1,'TEN HOC PHAN HKII'!$D$4:$F$14,3,0) -> 2 | D5: =VLOOKUP(D$1,'TEN HOC PHAN HKII'!$D$4:$F$14,3,0) -> 2 | E5: =VLOOKUP(E$1,'TEN HOC PHAN HKII'!$D$4:$F$14,3,0) -> 2 | F5: =VLOOKUP(F$1,'TEN HOC PHAN HKII'!$D$4:$F$14,3,0) -> 2 | G5: =VLOOKUP(G$1,'TEN HOC PHAN HKII'!$D$4:$F$14,3,0) -> 2 | H5: =VLOOKUP(H$1,'TEN HOC PHAN HKII'!$D$4:$F$14,3,0) -> 2 | I5: =VLOOKUP(I$1,'TEN HOC PHAN HKII'!$D$4:$F$14,3,0) -> 0 | J5: =VLOOKUP(J$1,'TEN HOC PHAN HKII'!$D$4:$F$14,3,0) -> 1 | ... M5: =VLOOKUP(M$1,'TEN HOC PHAN HKII'!$D$4:$F$14,3,0) -> 0
A6: 1 | B6: 13CĐ-Đ1 | C6: =VLOOKUP(C$1,'TEN HOC PHAN HKII'!$D$15:$F$25,2,0) -> Anh văn chuyên ngành | D6: =VLOOKUP(D$1,'TEN HOC PHAN HKII'!$D$15:$F$25,2,0) -> Tư tưởng Hồ Chí Minh | E6: =VLOOKUP(E$1,'TEN HOC PHAN HKII'!$D$15:$F$25,2,0) -> Phương pháp nghiên cứu khoa học | F6: =VLOOKUP(F$1,'TEN HOC PHAN HKII'!$D$15:$F$25,2,0) -> Đo lường cảm biến | G6: =VLOOKUP(G$1,'TEN HOC PHAN HKII'!$D$15:$F$25,2,0) -> Kỹ thuật Audio và Video | H6: =VLOOKUP(H$1,'TEN HOC PHAN HKII'!$D$15:$F$25,2,0) -> Vi xử lý | I6: =VLOOKUP(I$1,'TEN HOC PHAN HKII'!$D$15:$F$25,2,0) -> 0 | J6: =VLOOKUP(J$1,'TEN HOC PHAN HKII'!$D$15:$F$25,2,0) -> Đồ án Mạng cung cấp điện | ... M6: =VLOOKUP(M$1,'TEN HOC PHAN HKII'!$D$15:$F$25,2,0) -> 0
B7: TC13CĐĐ1 | C7: =VLOOKUP(C$1,'TEN HOC PHAN HKII'!$D$15:$F$25,3,0) -> 2 | D7: =VLOOKUP(D$1,'TEN HOC PHAN HKII'!$D$15:$F$25,3,0) -> 2 | E7: =VLOOKUP(E$1,'TEN HOC PHAN HKII'!$D$15:$F$25,3,0) -> 2 | F7: =VLOOKUP(F$1,'TEN HOC PHAN HKII'!$D$15:$F$25,3,0) -> 2 | G7: =VLOOKUP(G$1,'TEN HOC PHAN HKII'!$D$15:$F$25,3,0) -> 2 | H7: =VLOOKUP(H$1,'TEN HOC PHAN HKII'!$D$15:$F$25,3,0) -> 2 | I7: =VLOOKUP(I$1,'TEN HOC PHAN HKII'!$D$15:$F$25,3,0) -> 0 | J7: =VLOOKUP(J$1,'TEN HOC PHAN HKII'!$D$15:$F$25,3,0) -> 1 | ... M7: =VLOOKUP(M$1,'TEN HOC PHAN HKII'!$D$15:$F$25,3,0) -> 0
A8: 2 | B8: 13CĐ-Đ2 | C8: =VLOOKUP(C$1,'TEN HOC PHAN HKII'!$D$15:$F$25,2,0) -> Anh văn chuyên ngành | D8: =VLOOKUP(D$1,'TEN HOC PHAN HKII'!$D$15:$F$25,2,0) -> Tư tưởng Hồ Chí Minh | E8: =VLOOKUP(E$1,'TEN HOC PHAN HKII'!$D$15:$F$25,2,0) -> Phương pháp nghiên cứu khoa học | F8: =VLOOKUP(F$1,'TEN HOC PHAN HKII'!$D$15:$F$25,2,0) -> Đo lường cảm biến | G8: =VLOOKUP(G$1,'TEN HOC PHAN HKII'!$D$15:$F$25,2,0) -> Kỹ thuật Audio và Video | H8: =VLOOKUP(H$1,'TEN HOC PHAN HKII'!$D$15:$F$25,2,0) -> Vi xử lý | I8: =VLOOKUP(I$1,'TEN HOC PHAN HKII'!$D$15:$F$25,2,0) -> 0 | J8: =VLOOKUP(J$1,'TEN HOC PHAN HKII'!$D$15:$F$25,2,0) -> Đồ án Mạng cung cấp điện | ... M8: =VLOOKUP(M$1,'TEN HOC PHAN HKII'!$D$15:$F$25,2,0) -> 0
B9: TC13CĐĐ2 | C9: =VLOOKUP(C$1,'TEN HOC PHAN HKII'!$D$15:$F$25,3,0) -> 2 | D9: =VLOOKUP(D$1,'TEN HOC PHAN HKII'!$D$15:$F$25,3,0) -> 2 | E9: =VLOOKUP(E$1,'TEN HOC PHAN HKII'!$D$15:$F$25,3,0) -> 2 | F9: =VLOOKUP(F$1,'TEN HOC PHAN HKII'!$D$15:$F$25,3,0) -> 2 | G9: =VLOOKUP(G$1,'TEN HOC PHAN HKII'!$D$15:$F$25,3,0) -> 2 | H9: =VLOOKUP(H$1,'TEN HOC PHAN HKII'!$D$15:$F$25,3,0) -> 2 | I9: =VLOOKUP(I$1,'TEN HOC PHAN HKII'!$D$15:$F$25,3,0) -> 0 | J9: =VLOOKUP(J$1,'TEN HOC PHAN HKII'!$D$15:$F$25,3,0) -> 1 | ... M9: =VLOOKUP(M$1,'TEN HOC PHAN HKII'!$D$15:$F$25,3,0) -> 0
A10: 3 | B10: 13CĐ-Đ3 | C10: =VLOOKUP(C$1,'TEN HOC PHAN HKII'!$D$15:$F$25,2,0) -> Anh văn chuyên ngành | D10: =VLOOKUP(D$1,'TEN HOC PHAN HKII'!$D$15:$F$25,2,0) -> Tư tưởng Hồ Chí Minh | E10: =VLOOKUP(E$1,'TEN HOC PHAN HKII'!$D$15:$F$25,2,0) -> Phương pháp nghiên cứu khoa học | F10: =VLOOKUP(F$1,'TEN HOC PHAN HKII'!$D$15:$F$25,2,0) -> Đo lường cảm biến | G10: =VLOOKUP(G$1,'TEN HOC PHAN HKII'!$D$15:$F$25,2,0) -> Kỹ thuật Audio và Video | H10: =VLOOKUP(H$1,'TEN HOC PHAN HKII'!$D$15:$F$25,2,0) -> Vi xử lý | I10: =VLOOKUP(I$1,'TEN HOC PHAN HKII'!$D$15:$F$25,2,0) -> 0 | J10: =VLOOKUP(J$1,'TEN HOC PHAN HKII'!$D$15:$F$25,2,0) -> Đồ án Mạng cung cấp điện | ... M10: =VLOOKUP(M$1,'TEN HOC PHAN HKII'!$D$15:$F$25,2,0) -> 0
B11: TC13CĐĐ3 | C11: =VLOOKUP(C$1,'TEN HOC PHAN HKII'!$D$15:$F$25,3,0) -> 2 | D11: =VLOOKUP(D$1,'TEN HOC PHAN HKII'!$D$15:$F$25,3,0) -> 2 | E11: =VLOOKUP(E$1,'TEN HOC PHAN HKII'!$D$15:$F$25,3,0) -> 2 | F11: =VLOOKUP(F$1,'TEN HOC PHAN HKII'!$D$15:$F$25,3,0) -> 2 | G11: =VLOOKUP(G$1,'TEN HOC PHAN HKII'!$D$15:$F$25,3,0) -> 2 | H11: =VLOOKUP(H$1,'TEN HOC PHAN HKII'!$D$15:$F$25,3,0) -> 2 | I11: =VLOOKUP(I$1,'TEN HOC PHAN HKII'!$D$15:$F$25,3,0) -> 0 | J11: =VLOOKUP(J$1,'TEN HOC PHAN HKII'!$D$15:$F$25,3,0) -> 1 | ... M11: =VLOOKUP(M$1,'TEN HOC PHAN HKII'!$D$15:$F$25,3,0) -> 0
A12: 1 | B12: 13CĐ-CK1 | C12: =VLOOKUP(C$1,'TEN HOC PHAN HKII'!$D$26:$F$36,2,0) -> Đường lối CM của Đảng CSVN | D12: =VLOOKUP(D$1,'TEN HOC PHAN HKII'!$D$26:$F$36,2,0) -> Phương pháp nghiên cứu khoa học | E12: =VLOOKUP(E$1,'TEN HOC PHAN HKII'!$D$26:$F$36,2,0) -> Nguyên lý - Chi tiết máy | F12: =VLOOKUP(F$1,'TEN HOC PHAN HKII'!$D$26:$F$36,2,0) -> Công nghệ chế tạo máy 1 | G12: =VLOOKUP(G$1,'TEN HOC PHAN HKII'!$D$26:$F$36,2,0) -> Kỹ thuật điện - điện tử và trang bị điện trong máy công nghiệp | H12: =VLOOKUP(H$1,'TEN HOC PHAN HKII'!$D$26:$F$36,2,0) -> 0 | I12: =VLOOKUP(I$1,'TEN HOC PHAN HKII'!$D$26:$F$36,2,0) -> 0 | J12: =VLOOKUP(J$1,'TEN HOC PHAN HKII'!$D$26:$F$36,2,0) -> 0 | ... M12: =VLOOKUP(M$1,'TEN HOC PHAN HKII'!$D$26:$F$36,2,0) -> 0
B13: TC13CĐCK1 | C13: =VLOOKUP(C$1,'TEN HOC PHAN HKII'!$D$26:$F$36,3,0) -> 3 | D13: =VLOOKUP(D$1,'TEN HOC PHAN HKII'!$D$26:$F$36,3,0) -> 2 | E13: =VLOOKUP(E$1,'TEN HOC PHAN HKII'!$D$26:$F$36,3,0) -> 4 | F13: =VLOOKUP(F$1,'TEN HOC PHAN HKII'!$D$26:$F$36,3,0) -> 4 | G13: =VLOOKUP(G$1,'TEN HOC PHAN HKII'!$D$26:$F$36,3,0) -> 3 | H13: =VLOOKUP(H$1,'TEN HOC PHAN HKII'!$D$26:$F$36,3,0) -> 0 | I13: =VLOOKUP(I$1,'TEN HOC PHAN HKII'!$D$26:$F$36,3,0) -> 0 | J13: =VLOOKUP(J$1,'TEN HOC PHAN HKII'!$D$26:$F$36,3,0) -> 0 | ... M13: =VLOOKUP(M$1,'TEN HOC PHAN HKII'!$D$26:$F$36,3,0) -> 0
A14: 2 | B14: 13CĐ-CK2 | C14: =VLOOKUP(C$1,'TEN HOC PHAN HKII'!$D$26:$F$36,2,0) -> Đường lối CM của Đảng CSVN | D14: =VLOOKUP(D$1,'TEN HOC PHAN HKII'!$D$26:$F$36,2,0) -> Phương pháp nghiên cứu khoa học | E14: =VLOOKUP(E$1,'TEN HOC PHAN HKII'!$D$26:$F$36,2,0) -> Nguyên lý - Chi tiết máy | F14: =VLOOKUP(F$1,'TEN HOC PHAN HKII'!$D$26:$F$36,2,0) -> Công nghệ chế tạo máy 1 | G14: =VLOOKUP(G$1,'TEN HOC PHAN HKII'!$D$26:$F$36,2,0) -> Kỹ thuật điện - điện tử và trang bị điện trong máy công nghiệp | H14: =VLOOKUP(H$1,'TEN HOC PHAN HKII'!$D$26:$F$36,2,0) -> 0 | I14: =VLOOKUP(I$1,'TEN HOC PHAN HKII'!$D$26:$F$36,2,0) -> 0 | J14: =VLOOKUP(J$1,'TEN HOC PHAN HKII'!$D$26:$F$36,2,0) -> 0 | ... M14: =VLOOKUP(M$1,'TEN HOC PHAN HKII'!$D$26:$F$36,2,0) -> 0
B15: TC13CĐCK2 | C15: =VLOOKUP(C$1,'TEN HOC PHAN HKII'!$D$26:$F$36,3,0) -> 3 | D15: =VLOOKUP(D$1,'TEN HOC PHAN HKII'!$D$26:$F$36,3,0) -> 2 | E15: =VLOOKUP(E$1,'TEN HOC PHAN HKII'!$D$26:$F$36,3,0) -> 4 | F15: =VLOOKUP(F$1,'TEN HOC PHAN HKII'!$D$26:$F$36,3,0) -> 4 | G15: =VLOOKUP(G$1,'TEN HOC PHAN HKII'!$D$26:$F$36,3,0) -> 3 | H15: =VLOOKUP(H$1,'TEN HOC PHAN HKII'!$D$26:$F$36,3,0) -> 0 | I15: =VLOOKUP(I$1,'TEN HOC PHAN HKII'!$D$26:$F$36,3,0) -> 0 | J15: =VLOOKUP(J$1,'TEN HOC PHAN HKII'!$D$26:$F$36,3,0) -> 0 | ... M15: =VLOOKUP(M$1,'TEN HOC PHAN HKII'!$D$26:$F$36,3,0) -> 0
A16: 3 | B16: 13CĐ-CK3 | C16: =VLOOKUP(C$1,'TEN HOC PHAN HKII'!$D$26:$F$36,2,0) -> Đường lối CM của Đảng CSVN | D16: =VLOOKUP(D$1,'TEN HOC PHAN HKII'!$D$26:$F$36,2,0) -> Phương pháp nghiên cứu khoa học | E16: =VLOOKUP(E$1,'TEN HOC PHAN HKII'!$D$26:$F$36,2,0) -> Nguyên lý - Chi tiết máy | F16: =VLOOKUP(F$1,'TEN HOC PHAN HKII'!$D$26:$F$36,2,0) -> Công nghệ chế tạo máy 1 | G16: =VLOOKUP(G$1,'TEN HOC PHAN HKII'!$D$26:$F$36,2,0) -> Kỹ thuật điện - điện tử và trang bị điện trong máy công nghiệp | H16: =VLOOKUP(H$1,'TEN HOC PHAN HKII'!$D$26:$F$36,2,0) -> 0 | I16: =VLOOKUP(I$1,'TEN HOC PHAN HKII'!$D$26:$F$36,2,0) -> 0 | J16: =VLOOKUP(J$1,'TEN HOC PHAN HKII'!$D$26:$F$36,2,0) -> 0 | ... M16: =VLOOKUP(M$1,'TEN HOC PHAN HKII'!$D$26:$F$36,2,0) -> 0
B17: TC13CĐCK3 | C17: =VLOOKUP(C$1,'TEN HOC PHAN HKII'!$D$26:$F$36,3,0) -> 3 | D17: =VLOOKUP(D$1,'TEN HOC PHAN HKII'!$D$26:$F$36,3,0) -> 2 | E17: =VLOOKUP(E$1,'TEN HOC PHAN HKII'!$D$26:$F$36,3,0) -> 4 | F17: =VLOOKUP(F$1,'TEN HOC PHAN HKII'!$D$26:$F$36,3,0) -> 4 | G17: =VLOOKUP(G$1,'TEN HOC PHAN HKII'!$D$26:$F$36,3,0) -> 3 | H17: =VLOOKUP(H$1,'TEN HOC PHAN HKII'!$D$26:$F$36,3,0) -> 0 | I17: =VLOOKUP(I$1,'TEN HOC PHAN HKII'!$D$26:$F$36,3,0) -> 0 | J17: =VLOOKUP(J$1,'TEN HOC PHAN HKII'!$D$26:$F$36,3,0) -> 0 | ... M17: =VLOOKUP(M$1,'TEN HOC PHAN HKII'!$D$26:$F$36,3,0) -> 0
A18: 4 | B18: 13CĐ-CK4 | C18: =VLOOKUP(C$1,'TEN HOC PHAN HKII'!$D$26:$F$36,2,0) -> Đường lối CM của Đảng CSVN | D18: =VLOOKUP(D$1,'TEN HOC PHAN HKII'!$D$26:$F$36,2,0) -> Phương pháp nghiên cứu khoa học | E18: =VLOOKUP(E$1,'TEN HOC PHAN HKII'!$D$26:$F$36,2,0) -> Nguyên lý - Chi tiết máy | F18: =VLOOKUP(F$1,'TEN HOC PHAN HKII'!$D$26:$F$36,2,0) -> Công nghệ chế tạo máy 1 | G18: =VLOOKUP(G$1,'TEN HOC PHAN HKII'!$D$26:$F$36,2,0) -> Kỹ thuật điện - điện tử và trang bị điện trong máy công nghiệp | H18: =VLOOKUP(H$1,'TEN HOC PHAN HKII'!$D$26:$F$36,2,0) -> 0 | I18: =VLOOKUP(I$1,'TEN HOC PHAN HKII'!$D$26:$F$36,2,0) -> 0 | J18: =VLOOKUP(J$1,'TEN HOC PHAN HKII'!$D$26:$F$36,2,0) -> 0 | ... M18: =VLOOKUP(M$1,'TEN HOC PHAN HKII'!$D$26:$F$36,2,0) -> 0
B19: TC13CĐCK4 | C19: =VLOOKUP(C$1,'TEN HOC PHAN HKII'!$D$26:$F$36,3,0) -> 3 | D19: =VLOOKUP(D$1,'TEN HOC PHAN HKII'!$D$26:$F$36,3,0) -> 2 | E19: =VLOOKUP(E$1,'TEN HOC PHAN HKII'!$D$26:$F$36,3,0) -> 4 | F19: =VLOOKUP(F$1,'TEN HOC PHAN HKII'!$D$26:$F$36,3,0) -> 4 | G19: =VLOOKUP(G$1,'TEN HOC PHAN HKII'!$D$26:$F$36,3,0) -> 3 | H19: =VLOOKUP(H$1,'TEN HOC PHAN HKII'!$D$26:$F$36,3,0) -> 0 | I19: =VLOOKUP(I$1,'TEN HOC PHAN HKII'!$D$26:$F$36,3,0) -> 0 | J19: =VLOOKUP(J$1,'TEN HOC PHAN HKII'!$D$26:$F$36,3,0) -> 0 | ... M19: =VLOOKUP(M$1,'TEN HOC PHAN HKII'!$D$26:$F$36,3,0) -> 0
A20: 5 | B20: 13CĐ-CK5 | C20: =VLOOKUP(C$1,'TEN HOC PHAN HKII'!$D$26:$F$36,2,0) -> Đường lối CM của Đảng CSVN | D20: =VLOOKUP(D$1,'TEN HOC PHAN HKII'!$D$26:$F$36,2,0) -> Phương pháp nghiên cứu khoa học | E20: =VLOOKUP(E$1,'TEN HOC PHAN HKII'!$D$26:$F$36,2,0) -> Nguyên lý - Chi tiết máy | F20: =VLOOKUP(F$1,'TEN HOC PHAN HKII'!$D$26:$F$36,2,0) -> Công nghệ chế tạo máy 1 | G20: =VLOOKUP(G$1,'TEN HOC PHAN HKII'!$D$26:$F$36,2,0) -> Kỹ thuật điện - điện tử và trang bị điện trong máy công nghiệp | H20: =VLOOKUP(H$1,'TEN HOC PHAN HKII'!$D$26:$F$36,2,0) -> 0 | I20: =VLOOKUP(I$1,'TEN HOC PHAN HKII'!$D$26:$F$36,2,0) -> 0 | J20: =VLOOKUP(J$1,'TEN HOC PHAN HKII'!$D$26:$F$36,2,0) -> 0 | ... M20: =VLOOKUP(M$1,'TEN HOC PHAN HKII'!$D$26:$F$36,2,0) -> 0
B21: TC13CĐCK5 | C21: =VLOOKUP(C$1,'TEN HOC PHAN HKII'!$D$26:$F$36,3,0) -> 3 | D21: =VLOOKUP(D$1,'TEN HOC PHAN HKII'!$D$26:$F$36,3,0) -> 2 | E21: =VLOOKUP(E$1,'TEN HOC PHAN HKII'!$D$26:$F$36,3,0) -> 4 | F21: =VLOOKUP(F$1,'TEN HOC PHAN HKII'!$D$26:$F$36,3,0) -> 4 | G21: =VLOOKUP(G$1,'TEN HOC PHAN HKII'!$D$26:$F$36,3,0) -> 3 | H21: =VLOOKUP(H$1,'TEN HOC PHAN HKII'!$D$26:$F$36,3,0) -> 0 | I21: =VLOOKUP(I$1,'TEN HOC PHAN HKII'!$D$26:$F$36,3,0) -> 0 | J21: =VLOOKUP(J$1,'TEN HOC PHAN HKII'!$D$26:$F$36,3,0) -> 0 | ... M21: =VLOOKUP(M$1,'TEN HOC PHAN HKII'!$D$26:$F$36,3,0) -> 0
A22: 1 | B22: 13CĐ-Ô1 | C22: =VLOOKUP(C$1,'TEN HOC PHAN HKII'!$D$37:$F$47,2,0) -> Đường lối CM của Đảng CSVN | D22: =VLOOKUP(D$1,'TEN HOC PHAN HKII'!$D$37:$F$47,2,0) -> Nguyên lý chi tiết máy | E22: =VLOOKUP(E$1,'TEN HOC PHAN HKII'!$D$37:$F$47,2,0) -> Autocad (2D) | F22: =VLOOKUP(F$1,'TEN HOC PHAN HKII'!$D$37:$F$47,2,0) -> Phương pháp nghiên cứu khoa học | G22: =VLOOKUP(G$1,'TEN HOC PHAN HKII'!$D$37:$F$47,2,0) -> Thuỷ lực và máy thuỷ lực | H22: =VLOOKUP(H$1,'TEN HOC PHAN HKII'!$D$37:$F$47,2,0) -> Hệ thống điện và điện tử ôtô | I22: =VLOOKUP(I$1,'TEN HOC PHAN HKII'!$D$37:$F$47,2,0) -> 0 | J22: =VLOOKUP(J$1,'TEN HOC PHAN HKII'!$D$37:$F$47,2,0) -> 0 | ... M22: =VLOOKUP(M$1,'TEN HOC PHAN HKII'!$D$37:$F$47,2,0) -> 0
B23: TC13CĐÔ1 | C23: =VLOOKUP(C$1,'TEN HOC PHAN HKII'!$D$37:$F$47,3,0) -> 3 | D23: =VLOOKUP(D$1,'TEN HOC PHAN HKII'!$D$37:$F$47,3,0) -> 3 | E23: =VLOOKUP(E$1,'TEN HOC PHAN HKII'!$D$37:$F$47,3,0) -> 2 | F23: =VLOOKUP(F$1,'TEN HOC PHAN HKII'!$D$37:$F$47,3,0) -> 2 | G23: =VLOOKUP(G$1,'TEN HOC PHAN HKII'!$D$37:$F$47,3,0) -> 2 | H23: =VLOOKUP(H$1,'TEN HOC PHAN HKII'!$D$37:$F$47,3,0) -> 3 | I23: =VLOOKUP(I$1,'TEN HOC PHAN HKII'!$D$37:$F$47,3,0) -> 0 | J23: =VLOOKUP(J$1,'TEN HOC PHAN HKII'!$D$37:$F$47,3,0) -> 0 | ... M23: =VLOOKUP(M$1,'TEN HOC PHAN HKII'!$D$37:$F$47,3,0) -> 0
A24: 2 | B24: 13CĐ-Ô2 | C24: =VLOOKUP(C$1,'TEN HOC PHAN HKII'!$D$37:$F$47,2,0) -> Đường lối CM của Đảng CSVN | D24: =VLOOKUP(D$1,'TEN HOC PHAN HKII'!$D$37:$F$47,2,0) -> Nguyên lý chi tiết máy | E24: =VLOOKUP(E$1,'TEN HOC PHAN HKII'!$D$37:$F$47,2,0) -> Autocad (2D) | F24: =VLOOKUP(F$1,'TEN HOC PHAN HKII'!$D$37:$F$47,2,0) -> Phương pháp nghiên cứu khoa học | G24: =VLOOKUP(G$1,'TEN HOC PHAN HKII'!$D$37:$F$47,2,0) -> Thuỷ lực và máy thuỷ lực | H24: =VLOOKUP(H$1,'TEN HOC PHAN HKII'!$D$37:$F$47,2,0) -> Hệ thống điện và điện tử ôtô | I24: =VLOOKUP(I$1,'TEN HOC PHAN HKII'!$D$37:$F$47,2,0) -> 0 | J24: =VLOOKUP(J$1,'TEN HOC PHAN HKII'!$D$37:$F$47,2,0) -> 0 | ... M24: =VLOOKUP(M$1,'TEN HOC PHAN HKII'!$D$37:$F$47,2,0) -> 0
B25: TC13CĐÔ2 | C25: =VLOOKUP(C$1,'TEN HOC PHAN HKII'!$D$37:$F$47,3,0) -> 3 | D25: =VLOOKUP(D$1,'TEN HOC PHAN HKII'!$D$37:$F$47,3,0) -> 3 | E25: =VLOOKUP(E$1,'TEN HOC PHAN HKII'!$D$37:$F$47,3,0) -> 2 | F25: =VLOOKUP(F$1,'TEN HOC PHAN HKII'!$D$37:$F$47,3,0) -> 2 | G25: =VLOOKUP(G$1,'TEN HOC PHAN HKII'!$D$37:$F$47,3,0) -> 2 | H25: =VLOOKUP(H$1,'TEN HOC PHAN HKII'!$D$37:$F$47,3,0) -> 3 | I25: =VLOOKUP(I$1,'TEN HOC PHAN HKII'!$D$37:$F$47,3,0) -> 0 | J25: =VLOOKUP(J$1,'TEN HOC PHAN HKII'!$D$37:$F$47,3,0) -> 0 | ... M25: =VLOOKUP(M$1,'TEN HOC PHAN HKII'!$D$37:$F$47,3,0) -> 0
A26: 3 | B26: 13CĐ-Ô3 | C26: =VLOOKUP(C$1,'TEN HOC PHAN HKII'!$D$37:$F$47,2,0) -> Đường lối CM của Đảng CSVN | D26: =VLOOKUP(D$1,'TEN HOC PHAN HKII'!$D$37:$F$47,2,0) -> Nguyên lý chi tiết máy | E26: =VLOOKUP(E$1,'TEN HOC PHAN HKII'!$D$37:$F$47,2,0) -> Autocad (2D) | F26: =VLOOKUP(F$1,'TEN HOC PHAN HKII'!$D$37:$F$47,2,0) -> Phương pháp nghiên cứu khoa học | G26: =VLOOKUP(G$1,'TEN HOC PHAN HKII'!$D$37:$F$47,2,0) -> Thuỷ lực và máy thuỷ lực | H26: =VLOOKUP(H$1,'TEN HOC PHAN HKII'!$D$37:$F$47,2,0) -> Hệ thống điện và điện tử ôtô | I26: =VLOOKUP(I$1,'TEN HOC PHAN HKII'!$D$37:$F$47,2,0) -> 0 | J26: =VLOOKUP(J$1,'TEN HOC PHAN HKII'!$D$37:$F$47,2,0) -> 0 | ... M26: =VLOOKUP(M$1,'TEN HOC PHAN HKII'!$D$37:$F$47,2,0) -> 0
B27: TC13CĐÔ3 | C27: =VLOOKUP(C$1,'TEN HOC PHAN HKII'!$D$37:$F$47,3,0) -> 3 | D27: =VLOOKUP(D$1,'TEN HOC PHAN HKII'!$D$37:$F$47,3,0) -> 3 | E27: =VLOOKUP(E$1,'TEN HOC PHAN HKII'!$D$37:$F$47,3,0) -> 2 | F27: =VLOOKUP(F$1,'TEN HOC PHAN HKII'!$D$37:$F$47,3,0) -> 2 | G27: =VLOOKUP(G$1,'TEN HOC PHAN HKII'!$D$37:$F$47,3,0) -> 2 | H27: =VLOOKUP(H$1,'TEN HOC PHAN HKII'!$D$37:$F$47,3,0) -> 3 | I27: =VLOOKUP(I$1,'TEN HOC PHAN HKII'!$D$37:$F$47,3,0) -> 0 | J27: =VLOOKUP(J$1,'TEN HOC PHAN HKII'!$D$37:$F$47,3,0) -> 0 | ... M27: =VLOOKUP(M$1,'TEN HOC PHAN HKII'!$D$37:$F$47,3,0) -> 0
A28: 4 | B28: 13CĐ-Ô4 | C28: =VLOOKUP(C$1,'TEN HOC PHAN HKII'!$D$37:$F$47,2,0) -> Đường lối CM của Đảng CSVN | D28: =VLOOKUP(D$1,'TEN HOC PHAN HKII'!$D$37:$F$47,2,0) -> Nguyên lý chi tiết máy | E28: =VLOOKUP(E$1,'TEN HOC PHAN HKII'!$D$37:$F$47,2,0) -> Autocad (2D) | F28: =VLOOKUP(F$1,'TEN HOC PHAN HKII'!$D$37:$F$47,2,0) -> Phương pháp nghiên cứu khoa học | G28: =VLOOKUP(G$1,'TEN HOC PHAN HKII'!$D$37:$F$47,2,0) -> Thuỷ lực và máy thuỷ lực | H28: =VLOOKUP(H$1,'TEN HOC PHAN HKII'!$D$37:$F$47,2,0) -> Hệ thống điện và điện tử ôtô | I28: =VLOOKUP(I$1,'TEN HOC PHAN HKII'!$D$37:$F$47,2,0) -> 0 | J28: =VLOOKUP(J$1,'TEN HOC PHAN HKII'!$D$37:$F$47,2,0) -> 0 | ... M28: =VLOOKUP(M$1,'TEN HOC PHAN HKII'!$D$37:$F$47,2,0) -> 0
B29: TC13CĐÔ4 | C29: =VLOOKUP(C$1,'TEN HOC PHAN HKII'!$D$37:$F$47,3,0) -> 3 | D29: =VLOOKUP(D$1,'TEN HOC PHAN HKII'!$D$37:$F$47,3,0) -> 3 | E29: =VLOOKUP(E$1,'TEN HOC PHAN HKII'!$D$37:$F$47,3,0) -> 2 | F29: =VLOOKUP(F$1,'TEN HOC PHAN HKII'!$D$37:$F$47,3,0) -> 2 | G29: =VLOOKUP(G$1,'TEN HOC PHAN HKII'!$D$37:$F$47,3,0) -> 2 | H29: =VLOOKUP(H$1,'TEN HOC PHAN HKII'!$D$37:$F$47,3,0) -> 3 | I29: =VLOOKUP(I$1,'TEN HOC PHAN HKII'!$D$37:$F$47,3,0) -> 0 | J29: =VLOOKUP(J$1,'TEN HOC PHAN HKII'!$D$37:$F$47,3,0) -> 0 | ... M29: =VLOOKUP(M$1,'TEN HOC PHAN HKII'!$D$37:$F$47,3,0) -> 0
A30: 1 | B30: 13CĐ-NL1 | C30: =VLOOKUP(C$1,'TEN HOC PHAN HKII'!$D$48:$F$58,2,0) -> Đường lối CM của Đảng CSVN | D30: =VLOOKUP(D$1,'TEN HOC PHAN HKII'!$D$48:$F$58,2,0) -> Tin học ứng dụng | E30: =VLOOKUP(E$1,'TEN HOC PHAN HKII'!$D$48:$F$58,2,0) -> Kỹ thuật lạnh | F30: =VLOOKUP(F$1,'TEN HOC PHAN HKII'!$D$48:$F$58,2,0) -> Điều hoà không khí | G30: =VLOOKUP(G$1,'TEN HOC PHAN HKII'!$D$48:$F$58,2,0) -> Thiết bị trao đổi nhiệt và mạng nhiệt | H30: =VLOOKUP(H$1,'TEN HOC PHAN HKII'!$D$48:$F$58,2,0) -> Thiết bị điện | I30: =VLOOKUP(I$1,'TEN HOC PHAN HKII'!$D$48:$F$58,2,0) -> Vật liệu lạnh | J30: =VLOOKUP(J$1,'TEN HOC PHAN HKII'!$D$48:$F$58,2,0) -> 0 | ... M30: =VLOOKUP(M$1,'TEN HOC PHAN HKII'!$D$48:$F$58,2,0) -> 0
B31: TC13CĐNL1 | C31: =VLOOKUP(C$1,'TEN HOC PHAN HKII'!$D$48:$F$58,3,0) -> 3 | D31: =VLOOKUP(D$1,'TEN HOC PHAN HKII'!$D$48:$F$58,3,0) -> 2 | E31: =VLOOKUP(E$1,'TEN HOC PHAN HKII'!$D$48:$F$58,3,0) -> 2 | F31: =VLOOKUP(F$1,'TEN HOC PHAN HKII'!$D$48:$F$58,3,0) -> 2 | G31: =VLOOKUP(G$1,'TEN HOC PHAN HKII'!$D$48:$F$58,3,0) -> 2 | H31: =VLOOKUP(H$1,'TEN HOC PHAN HKII'!$D$48:$F$58,3,0) -> 2 | I31: =VLOOKUP(I$1,'TEN HOC PHAN HKII'!$D$48:$F$58,3,0) -> 2 | J31: =VLOOKUP(J$1,'TEN HOC PHAN HKII'!$D$48:$F$58,3,0) -> 0 | ... M31: =VLOOKUP(M$1,'TEN HOC PHAN HKII'!$D$48:$F$58,3,0) -> 0
A32: 2 | B32: 13CĐ-NL2 | C32: =VLOOKUP(C$1,'TEN HOC PHAN HKII'!$D$48:$F$58,2,0) -> Đường lối CM của Đảng CSVN | D32: =VLOOKUP(D$1,'TEN HOC PHAN HKII'!$D$48:$F$58,2,0) -> Tin học ứng dụng | E32: =VLOOKUP(E$1,'TEN HOC PHAN HKII'!$D$48:$F$58,2,0) -> Kỹ thuật lạnh | F32: =VLOOKUP(F$1,'TEN HOC PHAN HKII'!$D$48:$F$58,2,0) -> Điều hoà không khí | G32: =VLOOKUP(G$1,'TEN HOC PHAN HKII'!$D$48:$F$58,2,0) -> Thiết bị trao đổi nhiệt và mạng nhiệt | H32: =VLOOKUP(H$1,'TEN HOC PHAN HKII'!$D$48:$F$58,2,0) -> Thiết bị điện | I32: =VLOOKUP(I$1,'TEN HOC PHAN HKII'!$D$48:$F$58,2,0) -> Vật liệu lạnh | J32: =VLOOKUP(J$1,'TEN HOC PHAN HKII'!$D$48:$F$58,2,0) -> 0 | ... M32: =VLOOKUP(M$1,'TEN HOC PHAN HKII'!$D$48:$F$58,2,0) -> 0
B33: TC13CĐNL2 | C33: =VLOOKUP(C$1,'TEN HOC PHAN HKII'!$D$48:$F$58,3,0) -> 3 | D33: =VLOOKUP(D$1,'TEN HOC PHAN HKII'!$D$48:$F$58,3,0) -> 2 | E33: =VLOOKUP(E$1,'TEN HOC PHAN HKII'!$D$48:$F$58,3,0) -> 2 | F33: =VLOOKUP(F$1,'TEN HOC PHAN HKII'!$D$48:$F$58,3,0) -> 2 | G33: =VLOOKUP(G$1,'TEN HOC PHAN HKII'!$D$48:$F$58,3,0) -> 2 | H33: =VLOOKUP(H$1,'TEN HOC PHAN HKII'!$D$48:$F$58,3,0) -> 2 | I33: =VLOOKUP(I$1,'TEN HOC PHAN HKII'!$D$48:$F$58,3,0) -> 2 | J33: =VLOOKUP(J$1,'TEN HOC PHAN HKII'!$D$48:$F$58,3,0) -> 0 | ... M33: =VLOOKUP(M$1,'TEN HOC PHAN HKII'!$D$48:$F$58,3,0) -> 0
A34: 1 | B34: 13CĐ-M | C34: =VLOOKUP(C$1,'TEN HOC PHAN HKII'!$D$59:$F$69,2,0) -> Đường lối CM của Đảng CSVN | D34: =VLOOKUP(D$1,'TEN HOC PHAN HKII'!$D$59:$F$69,2,0) -> Phương pháp nghiên cứu khoa học | E34: =VLOOKUP(E$1,'TEN HOC PHAN HKII'!$D$59:$F$69,2,0) -> Hình họa vẽ kỹ thuật | F34: =VLOOKUP(F$1,'TEN HOC PHAN HKII'!$D$59:$F$69,2,0) -> Thiết kế trang phục 3 | G34: =VLOOKUP(G$1,'TEN HOC PHAN HKII'!$D$59:$F$69,2,0) -> Công nghệ may trang phục 3 | H34: =VLOOKUP(H$1,'TEN HOC PHAN HKII'!$D$59:$F$69,2,0) -> 0 | I34: =VLOOKUP(I$1,'TEN HOC PHAN HKII'!$D$59:$F$69,2,0) -> 0 | J34: =VLOOKUP(J$1,'TEN HOC PHAN HKII'!$D$59:$F$69,2,0) -> 0 | ... M34: =VLOOKUP(M$1,'TEN HOC PHAN HKII'!$D$59:$F$69,2,0) -> Thực tập May trang phục 2
B35: TC13CĐM | C35: =VLOOKUP(C$1,'TEN HOC PHAN HKII'!$D$59:$F$69,3,0) -> 3 | D35: =VLOOKUP(D$1,'TEN HOC PHAN HKII'!$D$59:$F$69,3,0) -> 2 | E35: =VLOOKUP(E$1,'TEN HOC PHAN HKII'!$D$59:$F$69,3,0) -> 2 | F35: =VLOOKUP(F$1,'TEN HOC PHAN HKII'!$D$59:$F$69,3,0) -> 2 | G35: =VLOOKUP(G$1,'TEN HOC PHAN HKII'!$D$59:$F$69,3,0) -> 2 | H35: =VLOOKUP(H$1,'TEN HOC PHAN HKII'!$D$59:$F$69,3,0) -> 0 | I35: =VLOOKUP(I$1,'TEN HOC PHAN HKII'!$D$59:$F$69,3,0) -> 0 | J35: =VLOOKUP(J$1,'TEN HOC PHAN HKII'!$D$59:$F$69,3,0) -> 0 | ... M35: =VLOOKUP(M$1,'TEN HOC PHAN HKII'!$D$59:$F$69,3,0) -> 2
A36: 1 | B36: 13CĐ-TP1 | C36: =VLOOKUP(C$1,'TEN HOC PHAN HKII'!$D$70:$F$80,2,0) -> Đường lối CM của Đảng CSVN | D36: =VLOOKUP(D$1,'TEN HOC PHAN HKII'!$D$70:$F$80,2,0) -> Lập trình Windows | E36: =VLOOKUP(E$1,'TEN HOC PHAN HKII'!$D$70:$F$80,2,0) -> Thiết kế web | F36: =VLOOKUP(F$1,'TEN HOC PHAN HKII'!$D$70:$F$80,2,0) -> Mạng máy tính và quản trị mạng | G36: =VLOOKUP(G$1,'TEN HOC PHAN HKII'!$D$70:$F$80,2,0) -> Hệ quản trị cơ sở dữ liệu | H36: =VLOOKUP(H$1,'TEN HOC PHAN HKII'!$D$70:$F$80,2,0) -> 0 | I36: =VLOOKUP(I$1,'TEN HOC PHAN HKII'!$D$70:$F$80,2,0) -> 0 | J36: =VLOOKUP(J$1,'TEN HOC PHAN HKII'!$D$70:$F$80,2,0) -> 0 | ... M36: =VLOOKUP(M$1,'TEN HOC PHAN HKII'!$D$70:$F$80,2,0) -> 0
B37: TC13CĐTP1 | C37: =VLOOKUP(C$1,'TEN HOC PHAN HKII'!$D$70:$F$80,3,0) -> 3 | D37: =VLOOKUP(D$1,'TEN HOC PHAN HKII'!$D$70:$F$80,3,0) -> 4 | E37: =VLOOKUP(E$1,'TEN HOC PHAN HKII'!$D$70:$F$80,3,0) -> 4 | F37: =VLOOKUP(F$1,'TEN HOC PHAN HKII'!$D$70:$F$80,3,0) -> 3 | G37: =VLOOKUP(G$1,'TEN HOC PHAN HKII'!$D$70:$F$80,3,0) -> 4 | H37: =VLOOKUP(H$1,'TEN HOC PHAN HKII'!$D$70:$F$80,3,0) -> 0 | I37: =VLOOKUP(I$1,'TEN HOC PHAN HKII'!$D$70:$F$80,3,0) -> 0 | J37: =VLOOKUP(J$1,'TEN HOC PHAN HKII'!$D$70:$F$80,3,0) -> 0 | ... M37: =VLOOKUP(M$1,'TEN HOC PHAN HKII'!$D$70:$F$80,3,0) -> 0
A38: 2 | B38: 13CĐ-TP2 | C38: =VLOOKUP(C$1,'TEN HOC PHAN HKII'!$D$70:$F$80,2,0) -> Đường lối CM của Đảng CSVN | D38: =VLOOKUP(D$1,'TEN HOC PHAN HKII'!$D$70:$F$80,2,0) -> Lập trình Windows | E38: =VLOOKUP(E$1,'TEN HOC PHAN HKII'!$D$70:$F$80,2,0) -> Thiết kế web | F38: =VLOOKUP(F$1,'TEN HOC PHAN HKII'!$D$70:$F$80,2,0) -> Mạng máy tính và quản trị mạng | G38: =VLOOKUP(G$1,'TEN HOC PHAN HKII'!$D$70:$F$80,2,0) -> Hệ quản trị cơ sở dữ liệu | H38: =VLOOKUP(H$1,'TEN HOC PHAN HKII'!$D$70:$F$80,2,0) -> 0 | I38: =VLOOKUP(I$1,'TEN HOC PHAN HKII'!$D$70:$F$80,2,0) -> 0 | J38: =VLOOKUP(J$1,'TEN HOC PHAN HKII'!$D$70:$F$80,2,0) -> 0 | ... M38: =VLOOKUP(M$1,'TEN HOC PHAN HKII'!$D$70:$F$80,2,0) -> 0
B39: TC13CĐTP2 | C39: =VLOOKUP(C$1,'TEN HOC PHAN HKII'!$D$70:$F$80,3,0) -> 3 | D39: =VLOOKUP(D$1,'TEN HOC PHAN HKII'!$D$70:$F$80,3,0) -> 4 | E39: =VLOOKUP(E$1,'TEN HOC PHAN HKII'!$D$70:$F$80,3,0) -> 4 | F39: =VLOOKUP(F$1,'TEN HOC PHAN HKII'!$D$70:$F$80,3,0) -> 3 | G39: =VLOOKUP(G$1,'TEN HOC PHAN HKII'!$D$70:$F$80,3,0) -> 4 | H39: =VLOOKUP(H$1,'TEN HOC PHAN HKII'!$D$70:$F$80,3,0) -> 0 | I39: =VLOOKUP(I$1,'TEN HOC PHAN HKII'!$D$70:$F$80,3,0) -> 0 | J39: =VLOOKUP(J$1,'TEN HOC PHAN HKII'!$D$70:$F$80,3,0) -> 0 | ... M39: =VLOOKUP(M$1,'TEN HOC PHAN HKII'!$D$70:$F$80,3,0) -> 0
A40: 1 | B40: 13CĐ-TM1 | C40: =VLOOKUP(C$1,'TEN HOC PHAN HKII'!$D$81:$F$91,2,0) -> Đường lối CM của Đảng CSVN | D40: =VLOOKUP(D$1,'TEN HOC PHAN HKII'!$D$81:$F$91,2,0) -> Lập trình Windows | E40: =VLOOKUP(E$1,'TEN HOC PHAN HKII'!$D$81:$F$91,2,0) -> Hệ quản trị cơ sở dữ liệu | F40: =VLOOKUP(F$1,'TEN HOC PHAN HKII'!$D$81:$F$91,2,0) -> Hệ điều hành Windows và Linux | G40: =VLOOKUP(G$1,'TEN HOC PHAN HKII'!$D$81:$F$91,2,0) -> Thiết lập hệ thống mạng | H40: =VLOOKUP(H$1,'TEN HOC PHAN HKII'!$D$81:$F$91,2,0) -> 0 | I40: =VLOOKUP(I$1,'TEN HOC PHAN HKII'!$D$81:$F$91,2,0) -> 0 | J40: =VLOOKUP(J$1,'TEN HOC PHAN HKII'!$D$81:$F$91,2,0) -> 0 | ... M40: =VLOOKUP(M$1,'TEN HOC PHAN HKII'!$D$81:$F$91,2,0) -> 0
...

Sheet Hướng dẫn
A1: Quy trình nhập điểm tổng kết Học kỳ CĐKT theo tín chỉ
A2: File này được sử dụng khi thứ tự trong danh sách của GVBM trùng với thứ tự danh sách trong bảng tính HKI
A3: STT | B3: Bảng tính thao tác | C3: Công việc thực hiện | D3: Thực hiện
A4: 1 | B4: Vào bảng tính DS LOP HKII | C4: Kích vào nút mũi tên của cột Lớp, chọn tên lớp, sau đó chọn toàn bộ MSSV (mã số sinh viên) của lớp, nhấn phím Ctrl-C để chép mã số SV. | D4: CVHT
A5: 2 | B5: Vào bảng tính HKII | C5: Kích vào ô đầu tiên của mã số sinh viên (ô B11), nhấn Ctrl-V.
C6: Ghi chú: Danh sách SV, tên các HP và số đơn vị học trình sẽ được truyền tự động vào cho các bảng tính của HKI và bảng điểm từng HP
A7: 3 | B7: Vào bảng tính TEN HOC PHAN HKII | C7: Tên học phần và số Đơn vị học trình đã được đưa vào các bảng tính tương ứng theo lớp, Quý Thầy Cô vào bảng tính này để biết học phần muốn nhập điểm nằm ở bảng tính nào. | D7: GVBM học phần "ABC" hoặc CVHT
A8: 4 | B8: Vào bảng tính "LT01, …, TH03" tương ứng với học phần "LT01, …, TH03" quy định trong bước 3 | C8: Coppy các điểm thành phần (từ cột E đến cột M) từ bảng điểm học phần (được gửi kèm) vào từng cột tương ứng trong các sheet LT01, … , TH01, … trong bảng tính này
C9: Ghi chú: Thứ tự danh sách trong các bảng tính đã thống nhất, do đó bắt buộc đảm bảo độ chính xác giữa các điểm thành phần với MSSV tương ứng. Nên kiểm tra lại sự thống nhất danh sách trong sổ tay giảng viên và danh sách trong file để tránh nhập điểm sai.
C10: Lưu ý: Đối với sinh viên bảo lưu, chỉ cần nhập điểm vào cột Điểm bảo lưu, các cột còn lại không nhập.
C11: Ghi chú: Nếu CVHT đã có file tổng kết học phần đúng yêu cầu, vẫn có thể tự thực hiện bước 4 này bằng cách chép các cột điểm từ file của GVBM vào các bảng tính tương ứng.
A12: 5 | B12: Lặp lại bước 4 cho các học phần còn lại
A13: CHÚ Ý: Các bảng tính LT03 đến LT06 là các bảng tính dành riêng cho các học phần tự chọn (vùng tô nền màu vàng trong bảng tính TEN HOC PHAN HKII), xin quý thầy cô chép từ mã số sinh viên đến thi chính từ các file học phần tự chọn theo tên học phần và lớp, rồi dán vào từ ô B11 của từng bảng tương ứng. Bảng tổng kết HKII sẽ tự lọc danh sách sinh viên theo mã số sinh viên.
A14: 6 | B14: Vào bảng tính HKII | C14: Nhập hệ chuẩn vào cột E, số ngày nghỉ có phép vào cột F, số ngày không phép vào cột G. | D14: CVHT
C15: Cột GHI CHÚ chỉ điền vào các thông tin về hình thức kỷ luật (nếu có)
C16: Ghi chú: Trước khi thông báo kết quả học tập cho SV, xin quý Thầy Cô gởi file thông qua địa chỉ email của phòng (kqht.lytutrong@gmail.com) để kiểm tra, đối chiếu với các bảng điểm tổng kết học phần nhằm hạn chế sai sót. Nếu bảng tính có sai sót, phòng sẽ báo bằng email cho quý Thầy Cô.
C17: Nhập điểm kết quả rèn luyện vào cột BB
C18: Khi muốn in bảng tổng kết, nên che giấu (ẩn) các vị trí cột (hàng) không có điểm bằng cách chọn các cột (hàng) đó, rồi vào FORMAT → COLUMN (ROW) → HIDE (hoặc chuột phải HIDE).
A19: 7 | B19: Mở bảng tổng kết học kỳ I của lớp (nằm trong tập tin nén HKI 13CĐ.rar gởi kèm theo) | C19: Chọn bảng tính HKI Nhấn Ctrl+A, Ctrl+C
A20: 8 | B20: Trở lại bảng tổng kết mới này. | C20: Chọn bảng tính HKI Kích vào ô A1 Nhấn Ctrl+V
A21: Để thống nhất trong việc quản lý điểm số của HSSV trong toàn trường, sau khi hoàn thành bảng tính, xin Quý Thầy Cô lưu lại file theo định dạng: tenlop_hocky_nămhọc (ví dụ 13CD-NL1_HKII_14-15) và gởi bằng email cho Khoa, Phòng TS-Đào tạo-GTVL : kqht.lytutrong@gmail.com.
A22: Các bảng tính: TEN HOC PHAN HKII; LOP-MON; DS LOP HKII là các bảng tính nền cơ sở, xin quý Thầy Cô đừng chỉnh sửa, để tránh sai sót, nhầm lẫn trong quá trình nhập điểm tổng kết.
A23: Nếu Quý Thầy Cô có vướng mắc gì, xin gởi email qua địa chỉ: kqht.lytutrong@gmail.com hoặc liên hệ trực tiếp với Phòng TS-Đào tạo-GTVL

Sheet DS LOP HKII
A1: STT | B1: MSSV | C1: Họ | D1: Tên | E1: Ngày sinh | F1: Lớp | G1: Phái | H1: Hệ | I1: SS T.5/2015
A2: 1 | B2: 13D3010005 | C2: Nguyễn Thành | D2: Chung | E2: 10.02.94 | F2: 13CĐ-ĐT1 | G2: 0 | I2: B
A3: 2 | B3: 13D3010008 | C3: Nguyễn Quốc | D3: Cường | E3: 09.04.95 | F3: 13CĐ-ĐT1 | G3: 0 | I3: A | J3: ĐT3
A4: 3 | B4: 13D3010010 | C4: Bùi Thanh | D4: Diễn | E4: 12.05.95 | F4: 13CĐ-ĐT1 | G4: 0 | I4: B | J4: VPNQ31/12/14CC
A5: 4 | B5: 13D3010012 | C5: Phạm Văn | D5: Dũng | E5: 03.08.94 | F5: 13CĐ-ĐT1 | G5: 0 | I5: B | J5: ĐT3
A6: 5 | B6: 13D3010014 | C6: Nguyễn Khánh | D6: Duy | E6: 26.09.95 | F6: 13CĐ-ĐT1 | G6: 0 | I6: B
A7: 6 | B7: 13D3010018 | C7: Nguyễn Hải | D7: Đăng | E7: 19.05.95 | F7: 13CĐ-ĐT1 | G7: 0 | I7: B
A8: 7 | B8: 13D3010076 | C8: Lữ Đình | D8: Đạt | E8: 01.05.95 | F8: 13CĐ-ĐT1 | G8: 0 | I8: B | J8: ĐT3
A9: 8 | B9: 13D3010022 | C9: Nguyễn Trung | D9: Đức | E9: 15.02.95 | F9: 13CĐ-ĐT1 | G9: 0 | I9: A
A10: 9 | B10: 13D3010024 | C10: Hồ Thanh | D10: Hải | E10: 03.12.95 | F10: 13CĐ-ĐT1 | G10: 0 | I10: A | J10: ĐT3
A11: 10 | B11: 13D3010026 | C11: Phạm Giang | D11: Hải | E11: 20.05.95 | F11: 13CĐ-ĐT1 | G11: 0 | I11: B | J11: CL.T.Minh
A12: 11 | B12: 13D3010027 | C12: Trần Văn | D12: Hạnh | E12: 14.02.95 | F12: 13CĐ-ĐT1 | G12: 0 | I12: B | J12: tự ý nghỉ 19/01/2015_Kox
A13: 12 | B13: 13D3010029 | C13: Nguyễn Tấn Anh | D13: Hào | E13: 05.04.95 | F13: 13CĐ-ĐT1 | G13: 0 | I13: A | J13: ĐT3
A14: 13 | B14: 13D3010039 | C14: Nguyễn Văn | D14: Hoanh | E14: 14.10.95 | F14: 13CĐ-ĐT1 | G14: 0 | I14: B
A15: 14 | B15: 13D3010041 | C15: Nguyễn Minh | D15: Hùng | E15: 08.05.94 | F15: 13CĐ-ĐT1 | G15: 0 | I15: B | J15: ĐT3
A16: 15 | B16: 13D3010045 | C16: Lê Thành | D16: Huy | E16: 25.04.95 | F16: 13CĐ-ĐT1 | G16: 0 | I16: B
A17: 16 | B17: 13D3010047 | C17: Nguyễn Thái | D17: Huy | E17: 14.04.95 | F17: 13CĐ-ĐT1 | G17: 0 | I17: B | J17: ĐT3-con TB 4/4
A18: 17 | B18: 13D3010051 | C18: Huỳnh Duy | D18: Khánh | E18: 09.10.95 | F18: 13CĐ-ĐT1 | G18: 0 | I18: B
A19: 18 | B19: 13D3010053 | C19: Đỗ Đăng | D19: Khoa | E19: 01.01.94 | F19: 13CĐ-ĐT1 | G19: 0 | I19: B | J19: ĐT3
A20: 19 | B20: 13D3010056 | C20: Phan Trung | D20: Kiên | E20: 13.03.95 | F20: 13CĐ-ĐT1 | G20: 0 | I20: B | J20: ĐT3
A21: 20 | B21: 13D3010057 | C21: Trần Văn | D21: Kiệt | E21: 10.05.95 | F21: 13CĐ-ĐT1 | G21: 0 | I21: B
A22: 21 | B22: 13D3010063 | C22: Trần Văn | D22: Linh | E22: 08.10.94 | F22: 13CĐ-ĐT1 | G22: 0 | I22: B
A23: 22 | B23: 13D3010069 | C23: Nguyễn Công | D23: Minh | E23: 10.01.95 | F23: 13CĐ-ĐT1 | G23: 0 | I23: B | J23: ĐT3
A24: 23 | B24: 13D3010073 | C24: Trịnh Phương | D24: Nam | E24: 21.02.95 | F24: 13CĐ-ĐT1 | G24: 0 | I24: A
A25: 24 | B25: 13D3010077 | C25: Lâm Trọng | D25: Nhân | E25: 04.09.95 | F25: 13CĐ-ĐT1 | G25: 0 | H25: LT | I25: B
A26: 25 | B26: 13D3010042 | C26: Nguyễn Sinh | D26: Nhật | E26: 12.01.95 | F26: 13CĐ-ĐT1 | G26: 0 | I26: B
A27: 26 | B27: 13D3010079 | C27: Hồ Đình | D27: Nhựt | E27: 07.02.95 | F27: 13CĐ-ĐT1 | G27: 0 | I27: B | J27: ĐT3
A28: 27 | B28: 13D3010086 | C28: Viên Ngọc | D28: Phú | E28: 09.11.95 | F28: 13CĐ-ĐT1 | G28: 0 | I28: B
A29: 28 | B29: 13D3010091 | C29: Võ Thế | D29: Phúc | E29: 18.03.95 | F29: 13CĐ-ĐT1 | G29: 0 | I29: B | J29: ĐT3
A30: 29 | B30: 13D3010092 | C30: Nguyễn Anh | D30: Phụng | E30: 19.05.95 | F30: 13CĐ-ĐT1 | G30: 0 | I30: B
A31: 30 | B31: 13D3010094 | C31: Phạm Hữu | D31: Phước | E31: 18.11.95 | F31: 13CĐ-ĐT1 | G31: 0 | I31: B | J31: ĐT3-VPNQ21/11/14CC
A32: 31 | B32: 13D3010095 | C32: Trịnh Ngọc | D32: Phước | E32: 12.12.95 | F32: 13CĐ-ĐT1 | G32: 0 | I32: B | J32: VPNQ07/10/14CC2
A33: 32 | B33: 13D3010098 | C33: Nguyễn Minh | D33: Phương | E33: 20.03.94 | F33: 13CĐ-ĐT1 | G33: 1 | H33: Nữ | I33: B
A34: 33 | B34: 13D3010099 | C34: Trương Thái | D34: Quốc | E34: 11.01.95 | F34: 13CĐ-ĐT1 | G34: 0 | I34: B | J34: VPNQ31/12/14CC
A35: 34 | B35: 13D3010101 | C35: Vòng Đông | D35: Quý | E35: 09.02.94 | F35: 13CĐ-ĐT1 | G35: 0 | I35: B | J35: ĐT3-DT.Hoa
A36: 35 | B36: 13D3010102 | C36: Nguyễn Đức | D36: Quynh | E36: 15.10.94 | F36: 13CĐ-ĐT1 | G36: 0 | I36: B
A37: 36 | B37: 13D3010104 | C37: Đặng Kỳ | D37: Sơn | E37: 16.07.95 | F37: 13CĐ-ĐT1 | G37: 0 | I37: B | J37: ĐT3-VPNQ21/11/14CC
A38: 37 | B38: 13D3010105 | C38: Nguyễn Công | D38: Sơn | E38: 05.04.95 | F38: 13CĐ-ĐT1 | G38: 0 | I38: B
A39: 38 | B39: 13D3010107 | C39: Ngô Văn | D39: Tạc | E39: 26.01.95 | F39: 13CĐ-ĐT1 | G39: 0 | I39: B | J39: ĐT3
A40: 39 | B40: 13D3010110 | C40: Phan Chí | D40: Tài | E40: 15.02.95 | F40: 13CĐ-ĐT1 | G40: 0 | I40: B | J40: ĐT3
...

Sheet TH-CANHBAO-KQHT-13-14
A1: STT | B1: MSSV | C1: Họ | D1: Tên | E1: Ngày sinh | F1: Lớp | G1: Phái | H1: Hệ | I1: Tình hình học tập HK1 NH 13-14 | J1: Tình hình học tập HK2 NH 13-14 | K1: SS T.5/2015
A2: 1 | B2: 13D3010005 | C2: Nguyễn Thành | D2: Chung | E2: 10.02.94 | F2: 13CĐ-ĐT1 | G2: 0 | K2: B
A3: 2 | B3: 13D3010008 | C3: Nguyễn Quốc | D3: Cường | E3: 09.04.95 | F3: 13CĐ-ĐT1 | G3: 0 | K3: A | L3: ĐT3
A4: 3 | B4: 13D3010010 | C4: Bùi Thanh | D4: Diễn | E4: 12.05.95 | F4: 13CĐ-ĐT1 | G4: 0 | K4: B | L4: VPNQ31/12/14CC
A5: 4 | B5: 13D3010012 | C5: Phạm Văn | D5: Dũng | E5: 03.08.94 | F5: 13CĐ-ĐT1 | G5: 0 | K5: B | L5: ĐT3
A6: 5 | B6: 13D3010014 | C6: Nguyễn Khánh | D6: Duy | E6: 26.09.95 | F6: 13CĐ-ĐT1 | G6: 0 | K6: B
A7: 6 | B7: 13D3010018 | C7: Nguyễn Hải | D7: Đăng | E7: 19.05.95 | F7: 13CĐ-ĐT1 | G7: 0 | K7: B
A8: 7 | B8: 13D3010076 | C8: Lữ Đình | D8: Đạt | E8: 01.05.95 | F8: 13CĐ-ĐT1 | G8: 0 | K8: B | L8: ĐT3
A9: 8 | B9: 13D3010022 | C9: Nguyễn Trung | D9: Đức | E9: 15.02.95 | F9: 13CĐ-ĐT1 | G9: 0 | K9: A
A10: 9 | B10: 13D3010024 | C10: Hồ Thanh | D10: Hải | E10: 03.12.95 | F10: 13CĐ-ĐT1 | G10: 0 | K10: A | L10: ĐT3
A11: 10 | B11: 13D3010026 | C11: Phạm Giang | D11: Hải | E11: 20.05.95 | F11: 13CĐ-ĐT1 | G11: 0 | K11: B | L11: CL.T.Minh
A12: 11 | B12: 13D3010027 | C12: Trần Văn | D12: Hạnh | E12: 14.02.95 | F12: 13CĐ-ĐT1 | G12: 0 | K12: B | L12: tự ý nghỉ 19/01/2015_Kox
A13: 12 | B13: 13D3010029 | C13: Nguyễn Tấn Anh | D13: Hào | E13: 05.04.95 | F13: 13CĐ-ĐT1 | G13: 0 | K13: A | L13: ĐT3
A14: 13 | B14: 13D3010039 | C14: Nguyễn Văn | D14: Hoanh | E14: 14.10.95 | F14: 13CĐ-ĐT1 | G14: 0 | K14: B
A15: 14 | B15: 13D3010041 | C15: Nguyễn Minh | D15: Hùng | E15: 08.05.94 | F15: 13CĐ-ĐT1 | G15: 0 | K15: B | L15: ĐT3
A16: 15 | B16: 13D3010045 | C16: Lê Thành | D16: Huy | E16: 25.04.95 | F16: 13CĐ-ĐT1 | G16: 0 | K16: B
A17: 16 | B17: 13D3010047 | C17: Nguyễn Thái | D17: Huy | E17: 14.04.95 | F17: 13CĐ-ĐT1 | G17: 0 | K17: B | L17: ĐT3-con TB 4/4
A18: 17 | B18: 13D3010051 | C18: Huỳnh Duy | D18: Khánh | E18: 09.10.95 | F18: 13CĐ-ĐT1 | G18: 0 | K18: B
A19: 18 | B19: 13D3010053 | C19: Đỗ Đăng | D19: Khoa | E19: 01.01.94 | F19: 13CĐ-ĐT1 | G19: 0 | K19: B | L19: ĐT3
A20: 19 | B20: 13D3010056 | C20: Phan Trung | D20: Kiên | E20: 13.03.95 | F20: 13CĐ-ĐT1 | G20: 0 | K20: B | L20: ĐT3
A21: 20 | B21: 13D3010057 | C21: Trần Văn | D21: Kiệt | E21: 10.05.95 | F21: 13CĐ-ĐT1 | G21: 0 | K21: B
A22: 21 | B22: 13D3010063 | C22: Trần Văn | D22: Linh | E22: 08.10.94 | F22: 13CĐ-ĐT1 | G22: 0 | K22: B
A23: 22 | B23: 13D3010069 | C23: Nguyễn Công | D23: Minh | E23: 10.01.95 | F23: 13CĐ-ĐT1 | G23: 0 | K23: B | L23: ĐT3
A24: 23 | B24: 13D3010073 | C24: Trịnh Phương | D24: Nam | E24: 21.02.95 | F24: 13CĐ-ĐT1 | G24: 0 | K24: A
A25: 24 | B25: 13D3010077 | C25: Lâm Trọng | D25: Nhân | E25: 04.09.95 | F25: 13CĐ-ĐT1 | G25: 0 | H25: LT | K25: B
A26: 25 | B26: 13D3010042 | C26: Nguyễn Sinh | D26: Nhật | E26: 12.01.95 | F26: 13CĐ-ĐT1 | G26: 0 | K26: B
A27: 26 | B27: 13D3010079 | C27: Hồ Đình | D27: Nhựt | E27: 07.02.95 | F27: 13CĐ-ĐT1 | G27: 0 | K27: B | L27: ĐT3
A28: 27 | B28: 13D3010086 | C28: Viên Ngọc | D28: Phú | E28: 09.11.95 | F28: 13CĐ-ĐT1 | G28: 0 | K28: B
A29: 28 | B29: 13D3010091 | C29: Võ Thế | D29: Phúc | E29: 18.03.95 | F29: 13CĐ-ĐT1 | G29: 0 | K29: B | L29: ĐT3
A30: 29 | B30: 13D3010092 | C30: Nguyễn Anh | D30: Phụng | E30: 19.05.95 | F30: 13CĐ-ĐT1 | G30: 0 | K30: B
A31: 30 | B31: 13D3010094 | C31: Phạm Hữu | D31: Phước | E31: 18.11.95 | F31: 13CĐ-ĐT1 | G31: 0 | K31: B | L31: ĐT3-VPNQ21/11/14CC
A32: 31 | B32: 13D3010095 | C32: Trịnh Ngọc | D32: Phước | E32: 12.12.95 | F32: 13CĐ-ĐT1 | G32: 0 | K32: B | L32: VPNQ07/10/14CC2
A33: 32 | B33: 13D3010098 | C33: Nguyễn Minh | D33: Phương | E33: 20.03.94 | F33: 13CĐ-ĐT1 | G33: 1 | H33: Nữ | K33: B
A34: 33 | B34: 13D3010099 | C34: Trương Thái | D34: Quốc | E34: 11.01.95 | F34: 13CĐ-ĐT1 | G34: 0 | K34: B | L34: VPNQ31/12/14CC
A35: 34 | B35: 13D3010101 | C35: Vòng Đông | D35: Quý | E35: 09.02.94 | F35: 13CĐ-ĐT1 | G35: 0 | K35: B | L35: ĐT3-DT.Hoa
A36: 35 | B36: 13D3010102 | C36: Nguyễn Đức | D36: Quynh | E36: 15.10.94 | F36: 13CĐ-ĐT1 | G36: 0 | K36: B
A37: 36 | B37: 13D3010104 | C37: Đặng Kỳ | D37: Sơn | E37: 16.07.95 | F37: 13CĐ-ĐT1 | G37: 0 | K37: B | L37: ĐT3-VPNQ21/11/14CC
A38: 37 | B38: 13D3010105 | C38: Nguyễn Công | D38: Sơn | E38: 05.04.95 | F38: 13CĐ-ĐT1 | G38: 0 | K38: B
A39: 38 | B39: 13D3010107 | C39: Ngô Văn | D39: Tạc | E39: 26.01.95 | F39: 13CĐ-ĐT1 | G39: 0 | K39: B | L39: ĐT3
A40: 39 | B40: 13D3010110 | C40: Phan Chí | D40: Tài | E40: 15.02.95 | F40: 13CĐ-ĐT1 | G40: 0 | K40: B | L40: ĐT3
...

Sheet HKI
A1: ỦY BAN NHÂN DÂN THÀNH PHỐ HỒ CHÍ MINH | AQ1: CỘNG HOÀ XÃ HỘI CHỦ NGHĨA VIỆT NAM
A2: TRƯỜNG CĐKT LÝ TỰ TRỌNG THÀNH PHỐ HỒ CHÍ MINH | AQ2: Độc lập - Tự do - hạnh phúc
C3: LỚP: | D3: 13CĐ-Đ1 | G3: SĨ SỐ: | I3: 35
A4: BẢNG TỔNG KẾT HỌC TẬP HỌC KỲ I NĂM HỌC 2014 - 2015
CQ5: Điểm tích luỹ năm 2013-2014 | EU5: Điểm tích luỹ năm 2013-2014
A6: Số thứ tự | B6: HỌC PHẦN | H6: Anh văn 2 | L6: Những NLCB của CNMLN 2 | P6: Khí cụ điện và máy điện | T6: Kỹ thuật số | X6: Điện tử công suất | AB6: Kỹ thuật truyền số liệu | AR6: Thực tập Điện tử cơ bản | AV6: Thực tập Đo lường và mạch điện | AZ6: TBC HỌC TẬP | BB6: KẾT QUẢ RÈN LUYỆN | BC6: XẾP LOẠI HT | BE6: KHEN THƯỞNG | BF6: CẢNH BÁO KẾT QUẢ HỌC TẬP | BG6: SỐ TC TÍCH LUỸ TRONG HK SAU KỲ THI CHÍNH | BH6: SỐ TC NỢ TRONG HK SAU KỲ THI CHÍNH | BI6: SỐ TC TÍCH LUỸ TRONG HK SAU KỲ THI PHỤ | BJ6: SỐ TC NỢ SAU KỲ THI PHỤ | BK6: ĐIỂM TBC TÍCH LUỸ SAU KỲ THI CHÍNH | BL6: HẠNG HỌC LỰC SAU KỲ THI CHÍNH | BM6: ĐIỂM TBC TÍCH LUỸ SAU KỲ THI PHỤ | BN6: HẠNG HỌC LỰC SAU KỲ THI PHỤ | BO6: GHI CHÚ | BP6: SỐ TC TÍCH LUỸ TỪ ĐẦU KHOÁ HỌC | BQ6: SỐ TC CÒN NỢ TỪ ĐẦU KHOÁ HỌC | CQ6: Toán cao cấp 1 | CR6: Vật lý đại cương 1 | CS6: Hóa học đại cương 1 | CT6: Pháp luật đại cương | CU6: Nhập môn Tin học | CV6: Đo lường và mạch điện | CW6: Mạng cung cấp điện | CZ6: Toán cao cấp 2 | DA6: Anh văn 1 | DB6: Xác suất thống kê | DC6: Vật lý đại cương 2 | DD6: Hoá học đại cương 2 | DE6: Kỹ năng giao tiếp | DF6: Những NLCB của CNMLN 1 | DG6: Điện tử cơ bản | DH6: An toàn điện | DL6: Thực tập Điện cơ bản | DY6: 59 | EU6: Toán cao cấp 1 | EV6: Vật lý đại cương 1 | EW6: Hóa học đại cương 1 | EX6: Pháp luật đại cương | EY6: Nhập môn Tin học | EZ6: Đo lường và mạch điện | FA6: Mạng cung cấp điện | FD6: Toán cao cấp 2 | FE6: Anh văn 1 | FF6: Xác suất thống kê | FG6: Vật lý đại cương 2 | FH6: Hoá học đại cương 2 | FI6: Kỹ năng giao tiếp | FJ6: Những NLCB của CNMLN 1 | FK6: Điện tử cơ bản | FL6: An toàn điện | FP6: Thực tập Điện cơ bản | GC6: 59
B7: SỐ ĐVHT | H7: 2 | L7: 3 | P7: 3 | T7: 2 | X7: 2 | AB7: 2 | AR7: 2 | AV7: 2 | AZ7: 18 | BR7: Đếm cột thi chính <5 | CD7: Đếm cột HP chính <4 | CE7: 2 | CF7: 3 | CG7: 3 | CH7: 2 | CI7: 2 | CJ7: 2 | CN7: 2 | CO7: 2 | CQ7: 3 | CR7: 3 | CS7: 2 | CT7: 2 | CU7: 3 | CV7: 5 | CW7: 2 | CZ7: 2 | DA7: 3 | DB7: 2 | DC7: 2 | DD7: 2 | DE7: 2 | DF7: 2 | DG7: 2 | DH7: 2 | DL7: 2 | DN7: 2 | DO7: 3 | DP7: 3 | DQ7: 2 | DR7: 2 | DS7: 2 | DW7: 2 | DX7: 2 | EI7: 2 | EJ7: 3 | EK7: 3 | EL7: 2 | EM7: 2 | EN7: 2 | ER7: 2 | ES7: 2 | EU7: 3 | EV7: 3 | EW7: 2 | EX7: 2 | EY7: 3 | EZ7: 5 | FA7: 2 | FD7: 2 | FE7: 3 | FF7: 2 | FG7: 2 | FH7: 2 | FI7: 2 | FJ7: 2 | FK7: 2 | FL7: 2 | FP7: 2 | FR7: 2 | FS7: 3 | FT7: 3 | FU7: 2 | FV7: 2 | FW7: 2 | GA7: 2 | GB7: 2
B8: MSSV | C8: Họ tên sinh viên | E8: HỆ CHUẨN | F8: NGÀY NGHỈ | H8: Thi Chính | I8: HP Chính | J8: Thi Phụ | K8: HP Phụ | L8: Thi Chính | M8: HP Chính | N8: Thi Phụ | O8: HP Phụ | P8: Thi Chính | Q8: HP Chính | R8: Thi Phụ | S8: HP Phụ | T8: Thi Chính | U8: HP Chính | V8: Thi Phụ | W8: HP Phụ | X8: Thi Chính | Y8: HP Chính | Z8: Thi Phụ | AA8: HP Phụ | AB8: Thi Chính | AC8: HP Chính | AD8: Thi Phụ | AE8: HP Phụ | AF8: Thi Chính | AG8: HP Chính | AH8: Thi Phụ | AI8: HP Phụ | AJ8: Thi Chính | AK8: HP Chính | AL8: Thi Phụ | AM8: HP Phụ | AN8: Thi Chính | AO8: HP Chính | AP8: Thi Phụ | AQ8: HP Phụ | AR8: Thi Chính | AS8: HP Chính | AT8: Thi Phụ | AU8: HP Phụ | AV8: Thi Chính | AW8: HP Chính | AX8: Thi Phụ | AY8: HP Phụ | AZ8: Kỳ Thi Chính | BA8: Kỳ Thi Phụ | BC8: Kỳ Thi Chính | BD8: Kỳ Thi Phụ | BS8: Điểm thi chính | CE8: Điểm HP chính | DN8: ĐIỂM TBC TÍCH LUỸ SAU KỲ THI CHÍNH | DZ8: Điểm HP Phụ theo điểm thi phụ | EI8: Tính lại điểm HP phụ | FR8: ĐIỂM TBC TÍCH LUỸ SAU KỲ THI PHỤ
F9: P | G9: K
A10: (1) | B10: (2) | C10: (3) | E10: (4) | F10: (5) | G10: (6) | H10: (7) | L10: (8) | P10: (9) | T10: (10) | X10: (11) | AB10: (12) | AF10: (13) | AJ10: (14) | AN10: (15) | AR10: (16) | AV10: (17) | AZ10: (18) | BA10: (19) | BB10: (20) | BC10: (21) | BD10: (22) | BE10: (23) | BF10: (24) | BG10: (25) | BH10: (26) | BI10: (27) | BJ10: (28) | BK10: (29) | BL10: (30) | BM10: (31) | BN10: (32) | BO10: (33) | BP10: (34) | BQ10: (35)
A11: 1 | B11: 13D301Đ001 | C11: Lương Hoàng Thuận | D11: An | G11: 2 | H11: 3.4 | I11: 4.6 | L11: 7 | M11: 7.3 | P11: 6 | Q11: 6.9 | T11: 7 | U11: 7.3 | X11: 7 | Y11: 6.8 | AB11: 7.8 | AC11: 6.8 | AS11: 6.3 | AW11: 9 | AZ11: 6.9 | BB11: 89 | BC11: TB | BG11: 18 | BH11: 0 | BI11: 18 | BJ11: 0 | BK11: 7.19 | BL11: BT | BM11: 7.19 | BN11: BT | BP11: 57 | BQ11: 0 | BR11: 1 | BS11: 3.4 | BT11: 7 | BU11: 6 | BV11: 7 | BW11: 7 | BX11: 7.8 | CB11: 6.3 | CC11: 9 | CD11: 0 | CE11: 4.6 | CF11: 7.3 | CG11: 6.9 | CH11: 7.3 | CI11: 6.8 | CJ11: 6.8 | CN11: 6.3 | CO11: 9 | CP11: 6.9 | CQ11: 5.2 | CR11: 9.3 | CS11: 7.2 | CT11: 5.8 | CU11: 6.3 | CV11: 7.2 | CW11: 8.3 | CZ11: 8.1 | DA11: 5.5 | DC11: 9.8 | DD11: 9.1 | DE11: 8 | DF11: 8.1 | DG11: 6 | DH11: 8 | DL11: 7 | DN11: 4.6 | DO11: 7.3 | DP11: 6.9 | DQ11: 7.3 | DR11: 6.8 | DS11: 6.8 | DW11: 6.3 | DX11: 9 | DY11: 7.19 | EI11: 4.6 | EJ11: 7.3 | EK11: 6.9 | EL11: 7.3 | EM11: 6.8 | EN11: 6.8 | ER11: 6.3 | ES11: 9 | EU11: 5.2 | EV11: 9.3 | EW11: 7.2 | EX11: 5.8 | EY11: 6.3 | EZ11: 7.2 | FA11: 8.3 | FD11: 8.1 | FE11: 5.5 | FG11: 9.8 | FH11: 9.1 | FI11: 8 | FJ11: 8.1 | FK11: 6 | FL11: 8 | FP11: 7 | FR11: 4.6 | FS11: 7.3 | FT11: 6.9 | FU11: 7.3 | FV11: 6.8 | FW11: 6.8 | GA11: 6.3 | GB11: 9 | GC11: 7.19
A12: 2 | B12: 13D301Đ009 | C12: Võ Thành | D12: Bảo | G12: 4 | H12: 3 | I12: 5 | L12: 7 | M12: 6.1 | P12: 2.1 | Q12: 3 | R12: 1.2 | S12: 3 | T12: 3.8 | U12: 4.2 | X12: 6.5 | Y12: 4.2 | AB12: 4 | AC12: 4 | AS12: 5 | AW12: 7 | AZ12: 4.78 | BA12: 4.78 | BB12: 52 | BC12: TBY | BD12: TBY | BG12: 15 | BH12: 3 | BI12: 15 | BJ12: 3 | BK12: 5.6 | BL12: BT | BM12: 5.6 | BN12: BT | BP12: 52 | BQ12: 5 | BR12: 4 | BS12: 3 | BT12: 7 | BU12: 2.1 | BV12: 3.8 | BW12: 6.5 | BX12: 4 | CB12: 5 | CC12: 7 | CD12: 1 | CE12: 5 | CF12: 6.1 | CG12: 3 | CH12: 4.2 | CI12: 4.2 | CJ12: 4 | CN12: 5 | CO12: 7 | CP12: 4.78 | CQ12: 4.6 | CR12: 5.7 | CS12: 6.1 | CT12: 6.3 | CU12: 5.6 | CV12: 6.4 | CW12: 5.9 | CZ12: 6.1 | DA12: 4.2 | DB12: 5.5 | DD12: 6 | DE12: 6.3 | DF12: 5.8 | DH12: 7.4 | DL12: 5.6 | DN12: 5 | DO12: 6.1 | DQ12: 4.2 | DR12: 4.2 | DS12: 4 | DW12: 5 | DX12: 7 | DY12: 5.6 | EB12: 3 | EI12: 5 | EJ12: 6.1 | EK12: 3 | EL12: 4.2 | EM12: 4.2 | EN12: 4 | ER12: 5 | ES12: 7 | ET12: 4.78 | EU12: 4.6 | EV12: 5.7 | EW12: 6.1 | EX12: 6.3 | EY12: 5.6 | EZ12: 6.4 | FA12: 5.9 | FD12: 6.1 | FE12: 4.2 | FF12: 5.5 | FH12: 6 | FI12: 6.3 | FJ12: 5.8 | FL12: 7.4 | FP12: 5.6 | FR12: 5 | FS12: 6.1 | FU12: 4.2 | FV12: 4.2 | FW12: 4 | GA12: 5 | GB12: 7 | GC12: 5.6
A13: 3 | B13: 13D301Đ013 | C13: Nguyễn Chí | D13: Bình | G13: 5 | H13: 2.9 | I13: 4.8 | L13: 6.8 | M13: 6.3 | P13: 3.5 | Q13: 4.3 | T13: 5 | U13: 5.2 | X13: 6.5 | Y13: 5.5 | AB13: 4 | AC13: 5 | AS13: 5.3 | AW13: 6.3 | AZ13: 5.33 | BB13: 51 | BC13: TBY | BG13: 18 | BH13: 0 | BI13: 18 | BJ13: 0 | BK13: 5.37 | BL13: Y | BM13: 5.37 | BN13: Y | BP13: 50 | BQ13: 7 | BR13: 3 | BS13: 2.9 | BT13: 6.8 | BU13: 3.5 | BV13: 5 | BW13: 6.5 | BX13: 4 | CB13: 5.3 | CC13: 6.3 | CD13: 0 | CE13: 4.8 | CF13: 6.3 | CG13: 4.3 | CH13: 5.2 | CI13: 5.5 | CJ13: 5 | CN13: 5.3 | CO13: 6.3 | CP13: 5.33 | CQ13: 4.3 | CR13: 4.6 | CS13: 6 | CT13: 5.1 | CU13: 5 | CV13: 6.4 | CW13: 6.1 | CZ13: 4.2 | DC13: 5.3 | DE13: 5.7 | DF13: 6.1 | DH13: 5.9 | DL13: 5 | DN13: 4.8 | DO13: 6.3 | DP13: 4.3 | DQ13: 5.2 | DR13: 5.5 | DS13: 5 | DW13: 5.3 | DX13: 6.3 | DY13: 5.37 | EI13: 4.8 | EJ13: 6.3 | EK13: 4.3 | EL13: 5.2 | EM13: 5.5 | EN13: 5 | ER13: 5.3 | ES13: 6.3 | EU13: 4.3 | EV13: 4.6 | EW13: 6 | EX13: 5.1 | EY13: 5 | EZ13: 6.4 | FA13: 6.1 | FD13: 4.2 | FG13: 5.3 | FI13: 5.7 | FJ13: 6.1 | FL13: 5.9 | FP13: 5 | FR13: 4.8 | FS13: 6.3 | FT13: 4.3 | FU13: 5.2 | FV13: 5.5 | FW13: 5 | GA13: 5.3 | GB13: 6.3 | GC13: 5.37
A14: 4 | B14: 13D301Đ017 | C14: Trần Văn | D14: Chinh | F14: 1 | G14: 2 | H14: 3.8 | I14: 4.9 | L14: 8 | M14: 7.3 | P14: 4.4 | Q14: 4.8 | T14: 5 | U14: 4.9 | X14: 6 | Y14: 5.5 | AB14: 4.5 | AC14: 4.4 | AS14: 6.5 | AW14: 6.5 | AZ14: 5.65 | BB14: 50 | BC14: TB | BG14: 18 | BH14: 0 | BI14: 18 | BJ14: 0 | BK14: 5.82 | BL14: BT | BM14: 5.82 | BN14: BT | BP14: 55 | BQ14: 2 | BR14: 3 | BS14: 3.8 | BT14: 8 | BU14: 4.4 | BV14: 5 | BW14: 6 | BX14: 4.5 | CB14: 6.5 | CC14: 6.5 | CD14: 0 | CE14: 4.9 | CF14: 7.3 | CG14: 4.8 | CH14: 4.9 | CI14: 5.5 | CJ14: 4.4 | CN14: 6.5 | CO14: 6.5 | CP14: 5.65 | CQ14: 5.5 | CR14: 6.4 | CS14: 6 | CT14: 5.8 | CU14: 5.4 | CV14: 6.5 | CW14: 5.7 | CZ14: 5.6 | DA14: 4.8 | DC14: 6 | DD14: 5.4 | DE14: 6.8 | DF14: 6.9 | DH14: 6 | DL14: 5.7 | DN14: 4.9 | DO14: 7.3 | DP14: 4.8 | DQ14: 4.9 | DR14: 5.5 | DS14: 4.4 | DW14: 6.5 | DX14: 6.5 | DY14: 5.82 | EI14: 4.9 | EJ14: 7.3 | EK14: 4.8 | EL14: 4.9 | EM14: 5.5 | EN14: 4.4 | ER14: 6.5 | ES14: 6.5 | EU14: 5.5 | EV14: 6.4 | EW14: 6 | EX14: 5.8 | EY14: 5.4 | EZ14: 6.5 | FA14: 5.7 | FD14: 5.6 | FE14: 4.8 | FG14: 6 | FH14: 5.4 | FI14: 6.8 | FJ14: 6.9 | FL14: 6 | FP14: 5.7 | FR14: 4.9 | FS14: 7.3 | FT14: 4.8 | FU14: 4.9 | FV14: 5.5 | FW14: 4.4 | GA14: 6.5 | GB14: 6.5 | GC14: 5.82
A15: 5 | B15: 13D301Đ021 | C15: Nguyễn Chí | D15: Cường | G15: 2 | H15: 3.9 | I15: 4.6 | L15: 7 | M15: 6.2 | P15: 3.1 | Q15: 4.7 | T15: 2.5 | U15: 3.8 | V15: 4.5 | W15: 4.8 | X15: 7.5 | Y15: 5.5 | AB15: 0 | AC15: 2.4 | AD15: 3 | AE15: 3.9 | AS15: 5.5 | AW15: 5.8 | AZ15: 4.88 | BA15: 5.16 | BB15: 50 | BC15: TBY | BD15: TBY | BG15: 14 | BH15: 4 | BI15: 16 | BJ15: 2 | BK15: 6.05 | BL15: BT | BM15: 6.01 | BN15: BT | BP15: 55 | BQ15: 2 | BR15: 4 | BS15: 3.9 | BT15: 7 | BU15: 3.1 | BV15: 2.5 | BW15: 7.5 | BX15: 0 | CB15: 5.5 | CC15: 5.8 | CD15: 2 | CE15: 4.6 | CF15: 6.2 | CG15: 4.7 | CH15: 3.8 | CI15: 5.5 | CJ15: 2.4 | CN15: 5.5 | CO15: 5.8 | CP15: 4.88 | CQ15: 7.1 | CR15: 6.5 | CS15: 5.6 | CT15: 6.9 | CU15: 5.8 | CV15: 5.9 | CW15: 5 | CZ15: 7.1 | DA15: 5.7 | DC15: 6.8 | DD15: 6.1 | DE15: 7 | DF15: 7.4 | DG15: 5.3 | DH15: 7.3 | DL15: 5.8 | DN15: 4.6 | DO15: 6.2 | DP15: 4.7 | DR15: 5.5 | DW15: 5.5 | DX15: 5.8 | DY15: 6.05 | EC15: 4.8 | EE15: 3.9 | EI15: 4.6 | EJ15: 6.2 | EK15: 4.7 | EL15: 4.8 | EM15: 5.5 | EN15: 3.9 | ER15: 5.5 | ES15: 5.8 | ET15: 5.16 | EU15: 7.1 | EV15: 6.5 | EW15: 5.6 | EX15: 6.9 | EY15: 5.8 | EZ15: 5.9 | FA15: 5 | FD15: 7.1 | FE15: 5.7 | FG15: 6.8 | FH15: 6.1 | FI15: 7 | FJ15: 7.4 | FK15: 5.3 | FL15: 7.3 | FP15: 5.8 | FR15: 4.6 | FS15: 6.2 | FT15: 4.7 | FU15: 4.8 | FV15: 5.5 | GA15: 5.5 | GB15: 5.8 | GC15: 6.01
A16: 6 | B16: 13D301Đ025 | C16: Nguyễn Ngọc | D16: Dũng | G16: 3 | H16: 3.3 | I16: 4.3 | L16: 5.8 | M16: 4.8 | P16: 3 | Q16: 4 | T16: 4.8 | U16: 3.6 | V16: 5 | W16: 3.7 | X16: 7.5 | Y16: 6.4 | AB16: 5 | AC16: 5.2 | AS16: 6.5 | AW16: 6.3 | AZ16: 5.06 | BA16: 5.07 | BB16: 53 | BC16: TBY | BD16: TBY | BG16: 16 | BH16: 2 | BI16: 16 | BJ16: 2 | BK16: 5.34 | BL16: Y | BM16: 5.34 | BN16: Y | BP16: 55 | BQ16: 2 | BR16: 3 | BS16: 3.3 | BT16: 5.8 | BU16: 3 | BV16: 4.8 | BW16: 7.5 | BX16: 5 | CB16: 6.5 | CC16: 6.3 | CD16: 1 | CE16: 4.3 | CF16: 4.8 | CG16: 4 | CH16: 3.6 | CI16: 6.4 | CJ16: 5.2 | CN16: 6.5 | CO16: 6.3 | CP16: 5.06 | CQ16: 5.4 | CR16: 5.4 | CS16: 5.5 | CT16: 5.3 | CU16: 5.1 | CV16: 4.9 | CW16: 5.1 | CZ16: 5.7 | DA16: 5.7 | DC16: 5.5 | DD16: 4.9 | DE16: 5.5 | DF16: 5.9 | DG16: 4.2 | DH16: 7 | DL16: 5.7 | DN16: 4.3 | DO16: 4.8 | DP16: 4 | DR16: 6.4 | DS16: 5.2 | DW16: 6.5 | DX16: 6.3 | DY16: 5.34 | EC16: 3.7 | EI16: 4.3 | EJ16: 4.8 | EK16: 4 | EL16: 3.7 | EM16: 6.4 | EN16: 5.2 | ER16: 6.5 | ES16: 6.3 | ET16: 5.07 | EU16: 5.4 | EV16: 5.4 | EW16: 5.5 | EX16: 5.3 | EY16: 5.1 | EZ16: 4.9 | FA16: 5.1 | FD16: 5.7 | FE16: 5.7 | FG16: 5.5 | FH16: 4.9 | FI16: 5.5 | FJ16: 5.9 | FK16: 4.2 | FL16: 7 | FP16: 5.7 | FR16: 4.3 | FS16: 4.8 | FT16: 4 | FV16: 6.4 | FW16: 5.2 | GA16: 6.5 | GB16: 6.3 | GC16: 5.34
A17: 7 | B17: 13D301Đ033 | C17: Trương Văn | D17: Đạt | G17: 6 | H17: 3.5 | I17: 4.9 | L17: 7 | M17: 7.4 | P17: 5.1 | Q17: 5.5 | T17: 5.8 | U17: 5.6 | X17: 5 | Y17: 6.1 | AB17: 3.5 | AC17: 4.8 | AS17: 6 | AW17: 6.3 | AZ17: 5.89 | BB17: 50 | BC17: TB | BG17: 18 | BH17: 0 | BI17: 18 | BJ17: 0 | BK17: 6.04 | BL17: BT | BM17: 6.04 | BN17: BT | BP17: 57 | BQ17: 0 | BR17: 2 | BS17: 3.5 | BT17: 7 | BU17: 5.1 | BV17: 5.8 | BW17: 5 | BX17: 3.5 | CB17: 6 | CC17: 6.3 | CD17: 0 | CE17: 4.9 | CF17: 7.4 | CG17: 5.5 | CH17: 5.6 | CI17: 6.1 | CJ17: 4.8 | CN17: 6 | CO17: 6.3 | CP17: 5.89 | CQ17: 5.4 | CR17: 8.1 | CS17: 5.4 | CT17: 6.1 | CU17: 5.9 | CV17: 5.3 | CW17: 6.6 | CZ17: 6.8 | DA17: 5.6 | DB17: 6.8 | DC17: 6.1 | DE17: 6.8 | DF17: 5.7 | DG17: 5.4 | DH17: 6.1 | DL17: 6.6 | DN17: 4.9 | DO17: 7.4 | DP17: 5.5 | DQ17: 5.6 | DR17: 6.1 | DS17: 4.8 | DW17: 6 | DX17: 6.3 | DY17: 6.04 | EI17: 4.9 | EJ17: 7.4 | EK17: 5.5 | EL17: 5.6 | EM17: 6.1 | EN17: 4.8 | ER17: 6 | ES17: 6.3 | EU17: 5.4 | EV17: 8.1 | EW17: 5.4 | EX17: 6.1 | EY17: 5.9 | EZ17: 5.3 | FA17: 6.6 | FD17: 6.8 | FE17: 5.6 | FF17: 6.8 | FG17: 6.1 | FI17: 6.8 | FJ17: 5.7 | FK17: 5.4 | FL17: 6.1 | FP17: 6.6 | FR17: 4.9 | FS17: 7.4 | FT17: 5.5 | FU17: 5.6 | FV17: 6.1 | FW17: 4.8 | GA17: 6 | GB17: 6.3 | GC17: 6.04
A18: 8 | B18: 13D301Đ037 | C18: Nguyễn Thành | D18: Đông | G18: 1 | H18: 3 | I18: 4.4 | L18: 5.8 | M18: 6.4 | P18: 4.1 | Q18: 5.1 | T18: 5.8 | U18: 6.3 | X18: 5.3 | Y18: 5 | AB18: 4.5 | AC18: 5.2 | AS18: 6.5 | AW18: 7 | AZ18: 5.74 | BB18: 54 | BC18: TB | BG18: 18 | BH18: 0 | BI18: 18 | BJ18: 0 | BK18: 5.78 | BL18: BT | BM18: 5.78 | BN18: BT | BP18: 57 | BQ18: 0 | BR18: 3 | BS18: 3 | BT18: 5.8 | BU18: 4.1 | BV18: 5.8 | BW18: 5.3 | BX18: 4.5 | CB18: 6.5 | CC18: 7 | CD18: 0 | CE18: 4.4 | CF18: 6.4 | CG18: 5.1 | CH18: 6.3 | CI18: 5 | CJ18: 5.2 | CN18: 6.5 | CO18: 7 | CP18: 5.74 | CQ18: 6 | CR18: 6.1 | CS18: 7.3 | CT18: 5.5 | CU18: 5.4 | CV18: 5 | CW18: 6.2 | CZ18: 6.1 | DA18: 6.2 | DB18: 5.9 | DD18: 6.5 | DE18: 6.1 | DF18: 6.2 | DG18: 4.2 | DH18: 5.2 | DL18: 5.7 | DN18: 4.4 | DO18: 6.4 | DP18: 5.1 | DQ18: 6.3 | DR18: 5 | DS18: 5.2 | DW18: 6.5 | DX18: 7 | DY18: 5.78 | EI18: 4.4 | EJ18: 6.4 | EK18: 5.1 | EL18: 6.3 | EM18: 5 | EN18: 5.2 | ER18: 6.5 | ES18: 7 | EU18: 6 | EV18: 6.1 | EW18: 7.3 | EX18: 5.5 | EY18: 5.4 | EZ18: 5 | FA18: 6.2 | FD18: 6.1 | FE18: 6.2 | FF18: 5.9 | FH18: 6.5 | FI18: 6.1 | FJ18: 6.2 | FK18: 4.2 | FL18: 5.2 | FP18: 5.7 | FR18: 4.4 | FS18: 6.4 | FT18: 5.1 | FU18: 6.3 | FV18: 5 | FW18: 5.2 | GA18: 6.5 | GB18: 7 | GC18: 5.78
A19: 9 | B19: 13D301Đ041 | C19: Lê Hoàng | D19: Giang | G19: 3 | H19: 2.9 | I19: 4.8 | L19: 5.8 | M19: 5.7 | P19: 3.5 | Q19: 4.2 | T19: 3.3 | U19: 4.1 | X19: 6.5 | Y19: 4.1 | AB19: 0.5 | AC19: 2.6 | AD19: 2.8 | AE19: 3.7 | AS19: 4.5 | AW19: 6.8 | AZ19: 4.64 | BA19: 4.76 | BB19: 50 | BC19: TBY | BD19: TBY | BG19: 16 | BH19: 2 | BI19: 16 | BJ19: 2 | BK19: 5.46 | BL19: Y | BM19: 5.46 | BN19: Y | BP19: 51 | BQ19: 6 | BR19: 5 | BS19: 2.9 | BT19: 5.8 | BU19: 3.5 | BV19: 3.3 | BW19: 6.5 | BX19: 0.5 | CB19: 4.5 | CC19: 6.8 | CD19: 1 | CE19: 4.8 | CF19: 5.7 | CG19: 4.2 | CH19: 4.1 | CI19: 4.1 | CJ19: 2.6 | CN19: 4.5 | CO19: 6.8 | CP19: 4.64 | CQ19: 5.9 | CR19: 5.8 | CS19: 5 | CT19: 5.5 | CU19: 5.2 | CV19: 6.7 | CW19: 6.6 | DA19: 4.7 | DC19: 5.8 | DD19: 4.5 | DE19: 5.8 | DF19: 5.6 | DH19: 5.9 | DL19: 6.3 | DN19: 4.8 | DO19: 5.7 | DP19: 4.2 | DQ19: 4.1 | DR19: 4.1 | DW19: 4.5 | DX19: 6.8 | DY19: 5.46 | EE19: 3.7 | EI19: 4.8 | EJ19: 5.7 | EK19: 4.2 | EL19: 4.1 | EM19: 4.1 | EN19: 3.7 | ER19: 4.5 | ES19: 6.8 | ET19: 4.76 | EU19: 5.9 | EV19: 5.8 | EW19: 5 | EX19: 5.5 | EY19: 5.2 | EZ19: 6.7 | FA19: 6.6 | FE19: 4.7 | FG19: 5.8 | FH19: 4.5 | FI19: 5.8 | FJ19: 5.6 | FL19: 5.9 | FP19: 6.3 | FR19: 4.8 | FS19: 5.7 | FT19: 4.2 | FU19: 4.1 | FV19: 4.1 | GA19: 4.5 | GB19: 6.8 | GC19: 5.46
